BEGIN:VCALENDAR
VERSION:2.0
PRODID:-//https://techplay.jp//JP
CALSCALE:GREGORIAN
METHOD:PUBLISH
X-WR-CALDESC:データドリブンマーケティングへの最短ルー
 ト 〜クラスメソッド×トレジャーデータセミナー vol.1
 〜
X-WR-CALNAME:データドリブンマーケティングへの最短ルー
 ト 〜クラスメソッド×トレジャーデータセミナー vol.1
 〜
X-WR-TIMEZONE:Asia/Tokyo
BEGIN:VTIMEZONE
TZID:Asia/Tokyo
BEGIN:STANDARD
DTSTART:19700101T000000
TZOFFSETFROM:+0900
TZOFFSETTO:+0900
TZNAME:JST
END:STANDARD
END:VTIMEZONE
BEGIN:VEVENT
UID:103839@techplay.jp
SUMMARY:データドリブンマーケティングへの最短ルート 〜
 クラスメソッド×トレジャーデータセミナー vol.1〜
DTSTART;TZID=Asia/Tokyo:20140825T183000
DTEND;TZID=Asia/Tokyo:20140825T213000
DTSTAMP:20260419T220933Z
CREATED:20140805T233318Z
DESCRIPTION:イベント詳細はこちら\nhttps://techplay.jp/event/10383
 9?utm_medium=referral&utm_source=ics&utm_campaign=ics\n\n\n\n\n概要説
 明\n\n	クラスメソッド・トレジャーデータによる共催
 セミナー第一弾！\n今回のゲストは、すかいらーくで
 データ分析基盤プロジェクトの立上げを行ったマーケ
 ティング本部インサイト戦略グループディレクターの
 神谷氏をお迎えし、驚くべきスピード感で実現したビ
 ッグデータ基盤導入プロジェクトの秘話や、先日リリ
 ースされた新たなアプリを活用したすかいらーくの新
 マーケティング戦略についてお話いただきます。\nま
 た、クラウドによるビッグデータ基盤導入の最新トレ
 ンド、データ分析の新たな視点をクラスメソッド、ト
 レジャーデータからそれぞれお届けします。\n\n\n登壇
 者\n\n\n	株式会社すかいらーくマーケティング本部 イ
 ンサイト戦略グループ ディレクター\n	神谷 勇樹（か
 みや ゆうき）氏\n	\n2013年よりすかいらーくに参画。一
 貫してデータ分析を起点に付加価値を創出。\n分析チ
 ームを立上げ、販促のROI改善や事業機会の特定／強化
 を中心に担当。\n\n\n\n	トレジャーデータ株式会社チー
 フデータサイエンティスト\n	井上 敬浩 (いのうえ たか
 ひろ)氏\n	\n現在トレジャーデータ株式会社にてチーフ
 データサイエンティストを務める。\nMongo DB Japanの創設
 者でもあり、同コミュニティの代表としても精力的に
 活動中。\n\n\n\n\n	クラスメソッド株式会社代表取締役
 社長\n	横田 聡（よこた さとし）氏\n	\n同社を26歳で創
 業し、現在11期目。\nペンネーム横田あかり、Developers.I
 O（ http://dev.classmethod.jp/ ）で活動中。\n\n\n\nタイムスケ
 ジュール\n\n	\n	\n		\n			時間\n			講演内容\n		\n		\n			18:00 - 
 \n			開場\n		\n		\n			18:30 - 19:15\n			【基調講演】\n『激闘
 、あたらしいクーポンができるまで\n　～すかいらー
 くの新マーケティング戦略～』\n株式会社すかいらー
 く マーケティング本部\nインサイト戦略グループ ディ
 レクター\n　神谷 勇樹\n		\n		\n			19:15 - 19:25\n			休憩\n		\n
 		\n			19:25 - 19:45\n			【講演Ⅰ】\n『トレジャーデータ流
 データ分析』\nトレジャーデータ株式会社 チーフデー
 タサイエンティスト\n　井上 敬浩\n		\n		\n			19:45 - 19:55\n
 			休憩\n		\n		\n			19:55 - 20:25\n			【講演Ⅱ】\n『クラウド
 を活用したビッグデータ基盤の構築ABC』\nクラスメソ
 ッド株式会社 代表取締役社長\n　横田 聡\n		\n		\n			20:25
  - 20:35\n			会場セッティング\n		\n		\n			20:35 - 21:30\n			懇
 親会※ビールあり！\n		\n	\n	\n\n\n持ち物\n\n	\n		名刺1枚\n
 		筆記用具\n	\n\n\n参加費\n無料\n\n注意事項\n\n	\n		事業
 が競合する企業様からのお申込については、お断りさ
 せていただく場合があります。あらかじめご了承くだ
 さい。\n		本イベントは抽選形式とさせていただいてお
 ります。開催日の１週間前をメドにメールにてご連絡
 をさせていただきます。\n		お申し込み時にご提供いた
 だいた情報は、トレジャーデータ株式会社・クラスメ
 ソッド株式会社に提供し、イベント参加管理と今後の
 新製品・サービス、キャンペーン情報、セミナー、イ
 ベント開催等のご案内に利用させていただきます。\n	\
 n	\n	上記にご同意のうえお申し込みください。\n\n
LOCATION:六本木ヒルズクロスポイント5階 株式会社フリー
 クアウト『Hills-Garage』 〒106-0032 東京都港区六本木6-3-1
URL:https://techplay.jp/event/103839?utm_medium=referral&utm_source=ics&utm
 _campaign=ics
END:VEVENT
END:VCALENDAR
