BEGIN:VCALENDAR
VERSION:2.0
PRODID:-//https://techplay.jp//JP
CALSCALE:GREGORIAN
METHOD:PUBLISH
X-WR-CALDESC: GLC: Feminine Spirit in Global Leadership
X-WR-CALNAME: GLC: Feminine Spirit in Global Leadership
X-WR-TIMEZONE:Asia/Tokyo
BEGIN:VTIMEZONE
TZID:Asia/Tokyo
BEGIN:STANDARD
DTSTART:19700101T000000
TZOFFSETFROM:+0900
TZOFFSETTO:+0900
TZNAME:JST
END:STANDARD
END:VTIMEZONE
BEGIN:VEVENT
UID:1059@techplay.jp
SUMMARY: GLC: Feminine Spirit in Global Leadership
DTSTART;TZID=Asia/Tokyo:20131129T183000
DTEND;TZID=Asia/Tokyo:20131129T220000
DTSTAMP:20260420T184917Z
CREATED:20131018T191620Z
DESCRIPTION:イベント詳細はこちら\nhttps://techplay.jp/event/1059?
 utm_medium=referral&utm_source=ics&utm_campaign=ics\n\nGlobal Leadership 
 Cafe (GLC)\n\nWe are excited to invite you to our 2nd Global Leadership C
 afé on “Feminine Spirit in Global Leadership!" \n\nWe live in a time w
 hen new and important questions are needed to be asked in order to stimul
 ate new ways of thinking to solve the complex problems of the day.\n\nJoi
 n a diverse community of executives\, HR professionals\, MBA students\, a
 rtists and others\, as we discuss these questions in service of feminine 
 leadership. \n\nSponsored by Global Leadership Partners Asia. To learn mo
 re about how GLPA is evolving 21st Century leadership\, visit: www.glpa-g
 roup.com. \n\nTo learn more about the World Cafe approach to access group
  intelligence\, visit: http://www.theworldcafe.com/method.html.\n\nThe 
 “Feminine Leadership” Cafe follows our July event exploring Japan's u
 nique contribution to global leadership. Many people reported leaving tha
 t event feeling uplifted and inspired\, with new insights on how Japanese
  can contribute to leadership.\n\nYou can find a short video documenting 
 the GLC I event here: https://www.dropbox.com/s/qzbuoiy2z8k7na6/GLC_Japan
 .m4v\n\nThis first event was organized by a diverse team of eight co-orga
 nizers from five countries. It went a long way towards creating a communi
 ty of motivated people seeking to progress leadership and make positive c
 hanges in the world.\n\nWe expect that the “Feminine Leadership” Cafe
  will be equally successful. We won’t focus on women and leadership exc
 lusively but more on the feminine aspects that both men and women share. 
 We aim to explore how those aspects are reflected (or not) in leadership.
  And more generally\, we want to ask\, “what can the feminine contribut
 e to global leadership?”\n\nWe hope that as a result of this event peop
 le will feel inspired to engage in dialogue about how embracing feminine 
 leadership can contribute to one’s work environment and an organization
 ’s productivity. We hope people will be inspired to think in new and cr
 eative ways about how to develop new leadership opportunities in Japan. 
LOCATION:Wesley Center 6-10-11 Minami Aoyama Minato-ku\,Tokyo 〒107-0062 
 東京都港区南青山6-10-11 107-0062 Japan
URL:https://techplay.jp/event/1059?utm_medium=referral&utm_source=ics&utm_c
 ampaign=ics
END:VEVENT
END:VCALENDAR
