BEGIN:VCALENDAR
VERSION:2.0
PRODID:-//https://techplay.jp//JP
CALSCALE:GREGORIAN
METHOD:PUBLISH
X-WR-CALDESC:カンファレンスカンファレンス 2013 大反省会
X-WR-CALNAME:カンファレンスカンファレンス 2013 大反省会
X-WR-TIMEZONE:Asia/Tokyo
BEGIN:VTIMEZONE
TZID:Asia/Tokyo
BEGIN:STANDARD
DTSTART:19700101T000000
TZOFFSETFROM:+0900
TZOFFSETTO:+0900
TZNAME:JST
END:STANDARD
END:VTIMEZONE
BEGIN:VEVENT
UID:1218@techplay.jp
SUMMARY:カンファレンスカンファレンス 2013 大反省会
DTSTART;TZID=Asia/Tokyo:20131125T190000
DTEND;TZID=Asia/Tokyo:20131125T213000
DTSTAMP:20260421T050103Z
CREATED:20131111T191433Z
DESCRIPTION:イベント詳細はこちら\nhttps://techplay.jp/event/1218?
 utm_medium=referral&utm_source=ics&utm_campaign=ics\n\n5月に開催し
 たカンファレンスカンファレンスの第二回です。カン
 ファレンスカンファレンスは、国内で開催される技術
 系カンファレンスの主催者どうしの交流を目的とした
 カンファレンスです。今回は、国内における言語系カ
 ンファレンスがひと通り終わったこの時期ですので、
 主催者どうしで今年の運営の大反省会を行います。今
 年の運営の苦労談・失敗談・成功談などなどを取り上
 げます。開催概要日時: 11月25日(月) 19:00開場 19:30〜21:30
 (予定)会場: グリー会議室 六本木ヒルズ森タワー参加
 費: 1\,500円(ビアバッシュ代)電源: 多少ありますが、電
 源タップを持ってきてもらえると助かりますハッシュ
 タグ: #conconja登壇者@shomah4a (PyCon APAC 2013)@hourin (LL イベ
 ント)@kakutani (RubyKaigi)@mugeso (PHP Conference 2013)@kmizu (Scala Co
 nference 2013)@RicoImazu (モデレータ)タイムテーブル19:00 開
 場、受付開始19:30 第1部: パネルディスカッション20:30 
 休憩20:45 第2部: トークセッション&ビアバッシュ21:30 終
 了(予定)第一部各カンファレンスの代表者が登壇し、
 お題に沿ってパネルディスカッションを行います。今
 回の内容は以下のようなものを予定しています。今年
 の運営について参加者数・規模・内容などの概要成功
 したこと・失敗したこと新しく試みたことスタッフ間
 のコミュニケーションについてコミュニケーションや
 タスク管理のツールについて意思決定の方法/方針につ
 いて法人化やお金の話メリット・デメリット運営への
 影響第二部第二部はビールやピザなどを食べながらビ
 アバッシュ形式でフリートークセッションをおこない
 ます。参加者の方が自由に質問をしたり、アルコール
 が入っているが故のぶっちゃけトークなどをお楽しみ
 ください。カンファレンスカンファレンスに関して質
 問等ありましたら connpass のコメントに書いて頂くか、
  @shomah4a まで mention なりなんなりで問い合わせてくだ
 さい。\nPowered by #kabepy
LOCATION:グリー会議室 東京都港区六本木6-10-1
URL:https://techplay.jp/event/1218?utm_medium=referral&utm_source=ics&utm_c
 ampaign=ics
END:VEVENT
END:VCALENDAR
