BEGIN:VCALENDAR
VERSION:2.0
PRODID:-//https://techplay.jp//JP
CALSCALE:GREGORIAN
METHOD:PUBLISH
X-WR-CALDESC:関東GPGPU勉強会 #3
X-WR-CALNAME:関東GPGPU勉強会 #3
X-WR-TIMEZONE:Asia/Tokyo
BEGIN:VTIMEZONE
TZID:Asia/Tokyo
BEGIN:STANDARD
DTSTART:19700101T000000
TZOFFSETFROM:+0900
TZOFFSETTO:+0900
TZNAME:JST
END:STANDARD
END:VTIMEZONE
BEGIN:VEVENT
UID:1226@techplay.jp
SUMMARY:関東GPGPU勉強会 #3
DTSTART;TZID=Asia/Tokyo:20131130T140000
DTEND;TZID=Asia/Tokyo:20131130T183000
DTSTAMP:20260422T133100Z
CREATED:20131111T191456Z
DESCRIPTION:イベント詳細はこちら\nhttps://techplay.jp/event/1226?
 utm_medium=referral&utm_source=ics&utm_campaign=ics\n\n夏以来の関東
 GPGPU勉強会です。関西と同時開催です概要GPGPUに関する
 勉強会ですGPGPUのフレームワーク、高速化事例、こん
 な物作ってみた、GPGPUの論文紹介などなどの情報交換
 を目的としています日本AMD様参戦決定！日本AMD株式会
 社様より、西様と林様にご登壇いただけることになり
 ましたHSAとMantle最新情報ということで、今非常にGPGPU
 業界でホットなHSAと、ゲーム向け低レイヤーAPIのMantle
 についてアツく、日本でどこよりも早く（* 主催者が
 勝手に言っているだけ) 語って頂きたいと思います！Ra
 deonスキーな皆様、この機会に、HSAやGCNアーキテクチャ
 への見識を深めませんか！日時・場所日時: 11/30 14:00~ (
 開場13:30\, 開始14:00~)場所: さくらインターネット研究
 所セミナールームまたしてもさくらインターネット様
 にセミナールームをお借りできることになりました。
 ありがとうございます開始時間は若干変更になる可能
 性がありますのでご了承くださいタイムテーブルこち
 らに記載されたものは題目ではなく発表概要ですので
 ご注意ください13:00 〜 開場14:00 〜 開始・諸注意14:10 
 〜 15:40 日本AMDが語る、HSAとMantle最新情報 (日本AMD株式
 会社 林様・西様)15:40 〜 16:00 休憩16:00 〜 16:40 発表 @telm
 in_orca 「GPGPUのライブラリのお話」16:40 〜 17:10 発表 @dan
 delion1124 「oclMatのお話」17:10 〜 17:40 発表 @tanakmura 「JIT
 のお話」17:40 ～ 17:50 休憩17:50 ～ 18:20 発表 @aokomoriuta 「
 BLASのお話」18:20 〜 18:30 発表 @understeer 「AWS GPUインスタ
 ンスのお話」@dandelion1124様、@tanakmura様、@aokomoriuta様、@
 understeer様、日本AMD林様・西様、ご登壇ありがとうござ
 います長丁場なので、途中でのご退室もご遠慮なくど
 うぞ* 会場の建物ですが、休日につき所定時間のみ入
 場フリーになっています  そのため、出るのはいつで
 もOKですが、再度入られる際には中からあけてもらう
 必要があります。あらかじめご了承くださいスケジュ
 ールは仮のもので、進行状況によっては前後の可能性
 があります懇親会会場にてケータリングで実施します
 会費は￥2000前後を想定しています当日ご参加も大歓迎
 ですので、参加される方はその心積りでお願いします
LOCATION:さくらインターネット研究所 セミナールーム  東
 京都新宿区西新宿4-33-4 住友不動産西新宿ビル4号館 6F
URL:https://techplay.jp/event/1226?utm_medium=referral&utm_source=ics&utm_c
 ampaign=ics
END:VEVENT
END:VCALENDAR
