BEGIN:VCALENDAR
VERSION:2.0
PRODID:-//https://techplay.jp//JP
CALSCALE:GREGORIAN
METHOD:PUBLISH
X-WR-CALDESC:Frontrend Vol.6 powered by CyberAgent\, Inc.
X-WR-CALNAME:Frontrend Vol.6 powered by CyberAgent\, Inc.
X-WR-TIMEZONE:Asia/Tokyo
BEGIN:VTIMEZONE
TZID:Asia/Tokyo
BEGIN:STANDARD
DTSTART:19700101T000000
TZOFFSETFROM:+0900
TZOFFSETTO:+0900
TZNAME:JST
END:STANDARD
END:VTIMEZONE
BEGIN:VEVENT
UID:1314@techplay.jp
SUMMARY:Frontrend Vol.6 powered by CyberAgent\, Inc.
DTSTART;TZID=Asia/Tokyo:20131116T140000
DTEND;TZID=Asia/Tokyo:20131116T180000
DTSTAMP:20260421T165139Z
CREATED:20131111T191836Z
DESCRIPTION:イベント詳細はこちら\nhttps://techplay.jp/event/1314?
 utm_medium=referral&utm_source=ics&utm_campaign=ics\n\n\n\nイベント
 名\nFrontrend Vol.6 powered by CyberAgent\, Inc.\n\n\n\n日時\n2013年1
 1月16日（土） 14:00 – 18:00（開場13:30）\n\n\n会場\nサイ
 バーエージェント本社 13F セミナールーム\n\n\nテーマ\n
 CI（継続的インテグレーション）\n\n\n定員\n200名\n\n\n講
 師\n松下 雅和、Gunther Brunner、Kinnunen Simo、佐竹 裕行\n\n\
 n主催\n株式会社サイバーエージェント\n\n\n参加費\n無
 料\n\n\n事前登録\n必要\n\n\nタグ\n#frontrend\n\n\n備考\nスク
 ール形式（一部机あり）\n\n\nいつやるの？Git入門\n\n皆
 さん、Gitは使いこなせていますか？Gitをしっかりと理
 解するためには、コマンドを覚えるだけでは不十分で
 す。Gitがどのような仕組みで動作し、各コマンドの裏
 で行われている内容を理解することが非常に重要とな
 ります。初めてGitに触れる方はもちろん、より深くGit
 を理解したい方も、一緒にGitを勉強しませんか？\n\n \n
      \n         \n     松下 雅和（まつした まさかず）@matsu
 kaz\n\n    株式会社サイバーエージェント エンジニア\n  
   1978年生まれ。SIer2社を経て、2011年にエンジニアとし
 て株式会社サイバーエージェントに入社。主にソーシ
 ャルゲームのサーバサイド開発、インフラ構築、運用
 、プロジェクト・マネジメントなどを行う。最近はフ
 ロントエンド開発にも興味を持ち、担当プロジェクト
 ではHTML5のCanvasを利用したゲーム開発を行っている。\n
      \n \n\nAndroid端末の動作検証の課題を解決: STF\n\nサイ
 バーエージェントでは現在数多くのAndroid対応のウェブ
 サービスやアプリを提供していますが、問題となるの
 はそれぞれのAndroid端末を個別に検証しなければならな
 いこと。この課題を解決するべく立ち上がった、STFと
 いう開発中のプロジェクトの概念を紹介し、それぞれ
 の機能を細かく説明していきます。\n\n\n多数の製品が
 存在するAndroidにおける検証の苦労\nブラウザが持つバ
 グの影響を受けやすいWebアプリ\n製品ごとに異なる操
 作方法を覚えることも時間の無駄\n複数台の Android 端
 末をいっせいに検証することが可能\n検証やデバッグ
 に有効な多数の機能を盛り込む\nWebブラウザ経由で複
 数のAndroid端末を同時にコントロールするメリット\n \n 
     \n         \n     Gunther Brunner (グンタ・ブルンナー) @gunt
 a85\n\n    株式会社サイバーエージェント エンジニア\n  
   1985年アルゼンチン生まれ。オットクラウゼ専門学校
 、電子科卒。ブエノスアイレス大学、情報科入学。2007
 年に来日。日本工学院、グラフィックデザイン科を卒
 業しアップフロンティア株式会社入社後は、iOS、Android
 アプリのUI/UXデザインから、FlashやHTML5のゲーム開発ま
 で幅広く活躍。2012年からは株式会社サイバーエージェ
 ントへ。現在はAndroid端末依存の問題解決に努めている
 。HTML5、UXの専門家として活動中。\n     \n \n\n \n     \n   
       \n     Kinnunen Simo (キンヌネン・シモ) @sorccu\n\n    株
 式会社サイバーエージェント エンジニア\n    2012年サ
 イバーエージェントに入ったフィンランド人です。も
 う10年以上JavaScriptで開発しています。数年前ヨーロッ
 パ・アメリカで人気だった「cufon」を作りました。サ
 イバーエージェントではほとんどコミュニティアプリ
 に関わって、フロントのJSも、バックエンドとインフ
 ラもしています。\n     \n \n\nフロントエンジニアとCIと
 テスト\n\nフロントエンドのための継続的インテグレー
 ションとテスト。はたして、フロントエンド開発者にC
 Iがいるのかどうなのか。 昨今のSCM(ソフトウェア構成
 管理)、Gruntを利用したフロントエンド開発環境にJenkins
 を取り入れることで、ビルドやテストなどの作業を ロ
 ーカルの環境だけでなく、リモートの環境でビルドな
 どのタスクが実行できるようになります。 Jenkinsの導
 入から、フロントの開発における利用を簡単にご紹介
 します。\n\n \n     \n         \n     佐竹　裕行(さたけ　ひ
 ろゆき) @st44100\n\n    株式会社サイバーエージェント デ
 ィベロッパー\n    1982年滋賀生まれ。IAMAS卒。名古屋で
 フロントからバックエンド\,iOSまでなんでもやるWebエ
 ンジニアとして働いたのち\,渋谷でJavaScript中心の開発
 者に。基本前側が好きなWebのエンジニア。知る人ぞ知
 るあの鍵の人。
LOCATION:Shibuya Markcity 13F Seminar Room 東京都渋谷区道玄坂一
 丁目12番1号
URL:https://techplay.jp/event/1314?utm_medium=referral&utm_source=ics&utm_c
 ampaign=ics
END:VEVENT
END:VCALENDAR
