BEGIN:VCALENDAR
VERSION:2.0
PRODID:-//https://techplay.jp//JP
CALSCALE:GREGORIAN
METHOD:PUBLISH
X-WR-CALDESC:[再]脱コピペ、ゼロからのPHP教室
X-WR-CALNAME:[再]脱コピペ、ゼロからのPHP教室
X-WR-TIMEZONE:Asia/Tokyo
BEGIN:VTIMEZONE
TZID:Asia/Tokyo
BEGIN:STANDARD
DTSTART:19700101T000000
TZOFFSETFROM:+0900
TZOFFSETTO:+0900
TZNAME:JST
END:STANDARD
END:VTIMEZONE
BEGIN:VEVENT
UID:1327@techplay.jp
SUMMARY:[再]脱コピペ、ゼロからのPHP教室
DTSTART;TZID=Asia/Tokyo:20131201T100000
DTEND;TZID=Asia/Tokyo:20131201T163000
DTSTAMP:20260421T075627Z
CREATED:20131111T191900Z
DESCRIPTION:イベント詳細はこちら\nhttps://techplay.jp/event/1327?
 utm_medium=referral&utm_source=ics&utm_campaign=ics\n\n9月に開始し
 た「脱コピペ、ゼロからのPHP教室」ですが、定員オー
 バーで参加できなかった方がいらっしゃいましたので
 、同じ内容で再度行います。\n12月1日(日)と8日(日)の2
 日に分けて、約5時間ずつ合計10時間のレッスンです。\
 n(途中昼休憩1時間と、随時休憩あり)\n\nノンプログラ
 マーの方、初心者の方向けの**ゼロからはじめるPHP教
 室**です。\n* 一人で初めてみたけど挫折してしまった
 方\n* いつもコピペで苦労している方\n* PHPの勉強をは
 じめたいなと思っている方\n* 初心者向けのPHP勉強会に
 参加したけどイマイチ理解できなかった方\nこの機会
 にPHPと仲良くなってみませんか？\n\nこのPHP教室のポイ
 ント1. 「聴く」「試す」「確認する」の形式で理解し
 やすい2. わからない、動かない、をすぐに聞ける講師
 常駐3. 全2回たっぷり10時間、全てPHPの基本を教える超
 初心者向け4. 「HellowWorld」より前のもっと基礎から教
 える深い内容5. 全員分のPHP開発環境をこちらで用意。
 環境違いで動かないは無い6. 最後にまとめで当日やっ
 た内容の振り返り7. もちろんスライド資料はお持ち帰
 り。家に帰って復習もできます\nだから、PHPがわかる
 ！PHPが楽しくなる！\n\nこれまで無かった本当に本当の
 初心者向け。\nPHPを知ってほしい。理解して楽しんで
 欲しい。\n出来なかったが出来るようになる、アナタ
 の為のPHP教室です。\n\n概要\n\n【1日目】(12月1日 (日) 10
 :00-16:30 産創館6階会議室C)\n\nPHPとは？PHPを触る前に知
 っておいてほしいこと。\nPHPの実行環境を用意して実
 際に触ってみよう。\n文字列の表示やHTMLとの組み合わ
 せで表示してみよう\n変数ってなんだ？変数を使って
 計算してみよう\nよくある質問、クォーテーション(""
 、'')のお話し\n醍醐味である条件分岐（if文）に触れて
 みよう\nNULLのお話やPHPで日本語を扱うにあたっての注
 意点\n同じ処理繰り返すの面倒だから、ループっての
 を使ってみようぜ\n\n【2日目】(12月8日 (日) 10:00-16:30 産
 創館6階会議室C)\n\nフォームの使い方、フォームの値を
 受け取ってみよう\nファイルの読み書きなんかも出来
 るんだぜ\n数学苦手なんだけど...関数って何さ？どん
 なものがあるの？\n全部PHPがやってくれる！色んな関
 数を使ってみよう試してみよう\n実はめちゃくちゃ便
 利なPHPマニュアルの読み方\nPHPでデバッグするいくつ
 かの方法\n.htaccessってよく聞くけど、なんじゃこれ？\n
 \n※ ここに書いてある内容はほんの一部分です。実際
 はもっと細かな所、書いてないことまで60項目に分け
 て深く掘り下げてやります！\n※ 12月1日と12月8日の両
 日参加チケットのみの販売になります。\n※ 資料はこ
 ちらで用意しますが、PHPの絵本 をモデル教本として使
 用することがあります。より深く学習したい方は購入
 をおすすめします。\n\n会場について\n\n大阪産業創造
 館\n大阪市中央区本町1-4-5 地図\n地下鉄中央線「堺筋本
 町駅」下車　2番出口　徒歩約5分\n地下鉄堺筋線「堺筋
 本町駅」下車　12番出口　徒歩約5分\n\n当日1階入り口
 右手側にありますデジタルサイネージ(電子看板)にて
 部屋の確認をお願い致します。\n\n１日目（12月1日 10:00
 -16:30）：6階会議室C\n２日目（12月8日 10:00-16:30）：6階
 会議室C\n\nまた部屋に関しては途中で変更になる可能
 性があります。その際は改めて告知させて頂きます。\
 n\n注意事項\n\n\n定員は20名です。\n各自、ノートパソコ
 ンを持ち込んでいただき実習形式で行います。パソコ
 ンを持っていなくても参加出来ますが、その場で試す
 ことはできなくなりますのでご了承ください。\n各自
 、インターネット接続環境をご用意ください。お持ち
 でない方のためにこちらでも用意するようにしますが
 、大勢が接続すると遅くなるかも知れません。\n昼の
 休憩時は、お弁当を持ち込んでいただいてかまいませ
 ん。もちろん会場近くにも飲食店はいくつかあります
 。\n席によっては電源を確保できない可能性がありま
 すのでご了承下さい。\n都合によっては内容に変更が
 ある可能性がありますのでご了承下さい。\n講師紹介\n
 \n上村崇 twitter: @uemera / facebook: uemura\n\n\n\nフリーランス
 のシステムエンジニア。PHP歴5年くらい。\nphp製のCMSで
 あるXOOPS上で動く野球スコアブックモジュールを公開
 中。→ WebScoreRevolution\nWordPressのコミュニティ「 WordBench
 神戸」に在籍。\nURL: toyao.net\n\n森川琢磨 twitter: @duffy_toy
  / facebook: duffytoy\n\n\n\nブロッコリーを嫌うWebフリーラ
 ンサー。人に何かを教えるのすきー。\nシステムから
 インフラ、ソーシャルまでこなします。きのこの山派
 です。\nWordPressのコミュニティ「 WordBench大阪 」に在籍
 。\n\n
LOCATION:大阪産業創造館 大阪市中央区本町1-4-5
URL:https://techplay.jp/event/1327?utm_medium=referral&utm_source=ics&utm_c
 ampaign=ics
END:VEVENT
END:VCALENDAR
