BEGIN:VCALENDAR
VERSION:2.0
PRODID:-//https://techplay.jp//JP
CALSCALE:GREGORIAN
METHOD:PUBLISH
X-WR-CALDESC:浜松IT系勉強会合同忘年会 2013
X-WR-CALNAME:浜松IT系勉強会合同忘年会 2013
X-WR-TIMEZONE:Asia/Tokyo
BEGIN:VTIMEZONE
TZID:Asia/Tokyo
BEGIN:STANDARD
DTSTART:19700101T000000
TZOFFSETFROM:+0900
TZOFFSETTO:+0900
TZNAME:JST
END:STANDARD
END:VTIMEZONE
BEGIN:VEVENT
UID:1469@techplay.jp
SUMMARY:浜松IT系勉強会合同忘年会 2013
DTSTART;TZID=Asia/Tokyo:20131130T183000
DTEND;TZID=Asia/Tokyo:20131130T203000
DTSTAMP:20260421T045717Z
CREATED:20131119T192004Z
DESCRIPTION:イベント詳細はこちら\nhttps://techplay.jp/event/1469?
 utm_medium=referral&utm_source=ics&utm_campaign=ics\n\n━━━━━━
 ━━━━━━━━━━━━━━━━━━━━━━━━
 ━━━━□■□ --【浜松IT系勉強会合同忘年会2013】--
 □■□★参加登録は１１月２３日（土）まで受付！　
 ⇒⇒⇒当サイトからお申し込みください◆日時：2013年
 11月30日(土)18:30-20:30(受付開始18:15)◆内容：忘年会（含L
 T）◆会費：4\,000円（学生・無職は事前申告により2\,000
 円)　当日現金支払い◆会場：8FEET(http://www.hotpepper.jp/str
 J000972891/)　　　　※会場入り口がわかりにくいです。
 勇気をもって地下へｗ　　　　※会場への直接の問い
 合わせはご遠慮下さい◆主催：OSC浜松実行委員会◆twit
 terハッシュタグ：#osch2013◆その他：　　・LT希望の方
 は、コメントを書き込むか、実行委員まで。　　・当
 日昼間は、　　　WEBかふぇ浜名湖　http://connpass.com/event
 /3716/　　　JAWS-UG浜松 第3回勉強会　Redshiftもくもく会
 　　　　　http://atnd.org/events/44843　　　も開催されます
 。　　　こちらの勉強会にご参加の後、一緒に忘年会
 へｗ11/23で受付を終了しました。それでも参加したい
 方は補欠で入力して下さい。前日までにコメントで可
 否をお伝えします。━━━━━━━━━━━━━━━
 ━━━━━━━━━━━━━━━━━━━◆参加・協
 賛グループ（順不同）・Hamamatsu.rb・OSC浜名湖実行委員
 会・OSSコンソーシアム 東海支部・日本Androidの会　浜
 松支部・浜松IT技術者交流会・浜松デベロッパーズコ
 ンソーシアム・TEF東海・NPO法人IT静岡・JAWS-UG浜松支部
 ・FilemakerUser会　浜松支部・(社）オープンソースライ
 センス研究所・浜名湖LibreOffice勉強会・OpenStreetMap東海
 ・Webかふぇ浜名湖・東海道らぐ・浜松OS自作友の会・Fl
 osh※記載漏れのグループは実行委員まで。━━━━━
 ━━━━━━━━━━━━━━━━━━━━━━━━
 ━━━━━◆問合せ先　OSC浜名湖実行委員会
LOCATION:8FEET 静岡県浜松市中区砂山町３２５−２０
URL:https://techplay.jp/event/1469?utm_medium=referral&utm_source=ics&utm_c
 ampaign=ics
END:VEVENT
END:VCALENDAR
