BEGIN:VCALENDAR
VERSION:2.0
PRODID:-//https://techplay.jp//JP
CALSCALE:GREGORIAN
METHOD:PUBLISH
X-WR-CALDESC:Dev(ice)LOVE デバイス祭り
X-WR-CALNAME:Dev(ice)LOVE デバイス祭り
X-WR-TIMEZONE:Asia/Tokyo
BEGIN:VTIMEZONE
TZID:Asia/Tokyo
BEGIN:STANDARD
DTSTART:19700101T000000
TZOFFSETFROM:+0900
TZOFFSETTO:+0900
TZNAME:JST
END:STANDARD
END:VTIMEZONE
BEGIN:VEVENT
UID:1576@techplay.jp
SUMMARY:Dev(ice)LOVE デバイス祭り
DTSTART;TZID=Asia/Tokyo:20131219T193000
DTEND;TZID=Asia/Tokyo:20131219T213000
DTSTAMP:20260420T105827Z
CREATED:20131128T191013Z
DESCRIPTION:イベント詳細はこちら\nhttps://techplay.jp/event/1576?
 utm_medium=referral&utm_source=ics&utm_campaign=ics\n\n注意！\n\n会
 場が変更になりました(2013/12/03)\n\nセンサーの可能性を
 感じてみませんか？\n\n2013年下半期は、センサー事情
 が大きく変わりました。\nLeap MotionがShippingされ、Kinect
 はXbox Oneとともにv2のアナウンスが出ています。\n現在
 のKinectの技術を持ったPrimeSenseはAppleに買収されるとの
 報があります。\nIntelもモーションセンサーをウルトラ
 ブックに搭載するロードマップを示しています。\n\nこ
 れら現在の中心となっているモーションセンサーの特
 長を紹介するとともに、実際にセンサーを体験する場
 を作ります。\n\nこんな方はぜひお越しください\n\n1.Kin
 ectやLeap Motionなど、モーションセンサーに興味がある
 方\n2."動きが体験できる"ことに興味がある方\n\n　少し
 でも興味をお持ちいただければ、ご参加ください！\n\n
 コンテンツ(予定)\n\n19：30-20：30 最新のモーションセン
 サー事情\n20：30-21：30 センサー体験会\n※Q＆Aなども適
 宜行います\n\n当日体験できるのデバイスのリスト(予
 定)\n\n・Kienct for Windows (Windows)\n・Kinect for Windows v2 Develop
 er Preview (Windows)\n・Intel Perceptual Computing SDK (Windows)\n・Ope
 nNI(Windows/Mac)\n・Leap Motion(Windows/Mac)\n・Oculus Rift(Windows/Mac
 )\n・LEGO MINDSTORM EV3(Windowsとの連携)\n\nスピーカー紹介\n\
 n中村 薫\n\n\n\nフリーランスでKinectアプリケーション開
 発やってます。「KINECT for Windows SDKプログラム C#編/C++
 編」という本を書きました。Microsoft MVP for Visual Studio AL
 M。\n\n今回のテーマの対象領域\n\n　開発技術\n\n受付開
 始\n\n　19時からです。\n\nスタッフ\n\n　井上さん（@kazi
 noup）\n　中村 洋（@yohhatu）\n\nハッシュタグ\n\nDevKan\n\n
 ※イベントの情報については、DevLOVEなMLでも案内しま
 す。\nこれを機会に是非、MLへのご参加下さい。DevLOVE L
 INK\n\n問い合わせ、ご連絡は以下でお気軽にどうぞ。\n1
 ：ハッシュタグ #DevKan を付けてつぶやいていただく\n2
 ：右上の「主催者にお問い合わせ」からメールを送る\
 n\nDevLOVE関西のFacebookグループはコチラ！ぜひご参加下
 さい。DevLOVE関西
LOCATION:エムオーテックス新大阪ビル （4Fレッドルーム）
  大阪市淀川区西中島5-12-12
URL:https://techplay.jp/event/1576?utm_medium=referral&utm_source=ics&utm_c
 ampaign=ics
END:VEVENT
END:VCALENDAR
