BEGIN:VCALENDAR
VERSION:2.0
PRODID:-//https://techplay.jp//JP
CALSCALE:GREGORIAN
METHOD:PUBLISH
X-WR-CALDESC:JAWS-UG中央線第１回勉強会
X-WR-CALNAME:JAWS-UG中央線第１回勉強会
X-WR-TIMEZONE:Asia/Tokyo
BEGIN:VTIMEZONE
TZID:Asia/Tokyo
BEGIN:STANDARD
DTSTART:19700101T000000
TZOFFSETFROM:+0900
TZOFFSETTO:+0900
TZNAME:JST
END:STANDARD
END:VTIMEZONE
BEGIN:VEVENT
UID:1585@techplay.jp
SUMMARY:JAWS-UG中央線第１回勉強会
DTSTART;TZID=Asia/Tokyo:20131220T193000
DTEND;TZID=Asia/Tokyo:20131220T210000
DTSTAMP:20260424T063514Z
CREATED:20131129T191006Z
DESCRIPTION:イベント詳細はこちら\nhttps://techplay.jp/event/1585?
 utm_medium=referral&utm_source=ics&utm_campaign=ics\n\nイベント概要
 \n\nJAWS-UG中央線支部 第1回勉強会を開催いたします。\n\
 n今回はre:Invent後の開催ということもあり、re:Inventの話
 題を中心に\n考えています。\nとはいえ、新サービス等
 の話題は12月前半までに開催される多くの勉強会で\n共
 有されると思いますので、以外と伝わらない、細かい
 ポイントなどを考えています。\n\nAWS初心者の方、AWS経
 験者の方、中央線沿線に勤務されている方\nお住まい
 の方、中央線と全く関係の無い方、などどなたでもご
 参加頂けます。\nユーザーグループを通した交流で、AW
 Sへの理解を一緒に深めていきませんか？\n\n是非、一
 緒に クリスマス を楽しみましょう。\n\nプログラム\n\n
 \n\n第1部 19:30（開場 19:00） 参加費：無料\n\n\n開場19:00 -
  開始19:30の間、AWSカルタ\nAWSカルタLT（新サービス対応
 ） 5分\n「re:Inventはじめて物語(仮)」 ヴァル研究所 見
 川さん 10分\n「re:Inventについて(仮)」 COOKPAD 成田さん 20
 分\n「SQS SWF そして Kinesis へ」 マイニングブラウニー 
 得上さん 20分\n「re:Invent開催報告、新サービスの紹介
 」 Amazon 堀内さん 30分\n\n※補足：上記の通り、開場か
 ら開始までの待ち時間の間、AWSカルタを楽しめます！
 興味をお持ちの方はお早めにご来場ください！\n\n懇親
 会\n\n21:00頃から開始予定 参加費：2\,000円（予定）お申
 込みはこちら\n\nお問い合わせ\n\n問い合わせ、ご連絡
 は、こちらまで。お気軽にどうぞ。jaws.ug.chuou@gmail.com\n
 \nFacebookページhttps://www.facebook.com/chuoline.jawsug
LOCATION:株式会社ヴァル研究所 東京都杉並区高円寺北2-3-1
 7
URL:https://techplay.jp/event/1585?utm_medium=referral&utm_source=ics&utm_c
 ampaign=ics
END:VEVENT
END:VCALENDAR
