BEGIN:VCALENDAR
VERSION:2.0
PRODID:-//https://techplay.jp//JP
CALSCALE:GREGORIAN
METHOD:PUBLISH
X-WR-CALDESC:第3回elasticsearch勉強会
X-WR-CALNAME:第3回elasticsearch勉強会
X-WR-TIMEZONE:Asia/Tokyo
BEGIN:VTIMEZONE
TZID:Asia/Tokyo
BEGIN:STANDARD
DTSTART:19700101T000000
TZOFFSETFROM:+0900
TZOFFSETTO:+0900
TZNAME:JST
END:STANDARD
END:VTIMEZONE
BEGIN:VEVENT
UID:1632@techplay.jp
SUMMARY:第3回elasticsearch勉強会
DTSTART;TZID=Asia/Tokyo:20140207T190000
DTEND;TZID=Asia/Tokyo:20140207T210000
DTSTAMP:20260420T101410Z
CREATED:20131203T191010Z
DESCRIPTION:イベント詳細はこちら\nhttps://techplay.jp/event/1632?
 utm_medium=referral&utm_source=ics&utm_campaign=ics\n\n内容＆スピー
 カーさんについては都度更新します。\n\n■タイムテー
 ブル\n\n\nFlorian Schilling\, Elasticsearch Inc\,\nTitle：Geohashing w
 ith Elasticsearch\n株式会社イプロス　外山　寛さん　@toyam
 a0919\nタイトル：「AWSで構築するsharding」\n株式会社じ
 げん　多田 雅斗さん　@tady_jp\nタイトル：実サービス
 でのElasticsearch設定・使用例（仮）\n株式会社リブセン
 ス 吉田 健太郎さん @yoshi_ken\nタイトル：RDS/MySQL利用者
 に贈る、小さく始めるElasticsearch\n株式会社リクルート
 テクノロジーズ 相野谷 直樹さん @naokiainoya\nタイトル
 ：nodeJS+DynamoDB＋Elasticsearchで全社基盤を作った話\nLT\n時
 間、エントリがあれば行います。\n\n勉強会終了後、同
 フロア別室にて懇親会を開催予定です。\n1500円程度の
 会費を想定しています。\n勉強会入り口（41F）にて、
 回収いたしますので、参加の旨を伝えてください。\n\n
 \n\nスピーカー＆内容については随時更新します。\n\n
 ※ご来場にあたっての注意事項\n　会場への入場はセ
 キュリティカードが必要となります。\n　エスカレー
 ター横1Fに受付（2F受付ではないので注意）を設置しま
 す。\n　受付の設置は勉強会開始までとし、遅刻され
 た方はハッシュタグ付きのツイートにて連絡をして頂
 いたのち、運営スタッフが迎えに行く予定です。極力
 遅刻はされないようにお願い致します。\n　受付にて
 チケット番号を伝えていただき、セキュリティカード
 を受け取ってから2Fゲートより入場してください。\n　
 また、セキュリティカードは勉強会終了後に2Fゲート
 出口にてスタッフが回収いたします。\n　（やむを得
 ず途中退場される方は、主催者または運営スタッフに
 声をかけてください）\n\n※参加にあたっての注意事項
 \n人材紹介もしくは転職や就職の斡旋・勧誘を目的と
 したご参加はご遠慮ください。\n\n※写真、動画撮影に
 ついて\n勉強会に参加される方、スピーカーの方によ
 っては撮影を好まない方もいらっしゃいます。配慮の
 うえ、断りを入れてから撮影をお願い致します。
LOCATION:リクルートテクノロジーズ 東京都千代田区丸の
 内1-9-2 グラントウキョウサウスタワー
URL:https://techplay.jp/event/1632?utm_medium=referral&utm_source=ics&utm_c
 ampaign=ics
END:VEVENT
END:VCALENDAR
