BEGIN:VCALENDAR
VERSION:2.0
PRODID:-//https://techplay.jp//JP
CALSCALE:GREGORIAN
METHOD:PUBLISH
X-WR-CALDESC:JJUG ナイトセミナ 「師走の Jenkins 祭り」
X-WR-CALNAME:JJUG ナイトセミナ 「師走の Jenkins 祭り」
X-WR-TIMEZONE:Asia/Tokyo
BEGIN:VTIMEZONE
TZID:Asia/Tokyo
BEGIN:STANDARD
DTSTART:19700101T000000
TZOFFSETFROM:+0900
TZOFFSETTO:+0900
TZNAME:JST
END:STANDARD
END:VTIMEZONE
BEGIN:VEVENT
UID:1641@techplay.jp
SUMMARY:JJUG ナイトセミナ 「師走の Jenkins 祭り」
DTSTART;TZID=Asia/Tokyo:20131217T190000
DTEND;TZID=Asia/Tokyo:20131217T230000
DTSTAMP:20260421T040618Z
CREATED:20131204T191009Z
DESCRIPTION:イベント詳細はこちら\nhttps://techplay.jp/event/1641?
 utm_medium=referral&utm_source=ics&utm_campaign=ics\n\n12 月のJJUGナ
 イトセミナーは「師走の Jenkins 祭り」として、Jenkins 
 の開発者である川口耕介さんを JJUG にお招きし、Jenkins
  で今年最後のJJUGナイトセミナーを締めくくりたいと
 思います。\n\n前半は、GREE の岡崎さんよりJenkins を扱
 ってきた経験をお話いただき、後半ではJenkins 開発に
 おける経験を川口さんにお話して頂きます。ここでし
 か聞けない貴重なお話ですので、ぜひご都合の付く方
 は参加をご検討ください。\n\n■ アジェンダ：\n\n19:00
 〜19:50 :「仮題：Jenkins運用3年でわかったこと、これか
 らやりたいこと」\nGREE 株式会社 (JJUG 幹事)　岡崎隆之
 氏\n\n20:00〜21:00 : 「Jenkinsにみる互換性を損なわないコ
 ードの保守テ クニック」\nCloudBees\, Inc.  川口耕介氏\n\n
 21:00〜23:00：懇親会 (有料)\n\n「仮題：Jenkins運用3年でわ
 かったこと、これからやりたいこと」\n\n発表者 : 岡崎
 隆之氏 (@watermint / http://watermint.org/)\n調整中 ...\n\nご参
 考：@IT 記事\n　グリーはいかにしてJenkinsを導入したの
 か（1）：\n　継続的インテグレーションを始めるため
 の基礎知識 (1/2)\n　http://www.atmarkit.co.jp/ait/articles/1302/13/
 news030.html\n\n「Jenkinsにみる互換性を損なわないコード
 の保守テ クニック」\n\n発表者 : 川口耕介氏 (@kohsukekawa
  / http://kohsuke.org/)\n\nソフトウェアの開発が大規模化す
 るにつれ、別々に開発・ビルドされたJavaモ ジュール
 やライブラリを結合してアプリケーションを動かした
 り、共通ライブラ リを多数のプロジェクトで使う機会
 が増えています。このようにモジュール化が 進むと、
 ライブラリを修正する際に既存のコードを壊さないよ
 う互換性に注意を 払う必要があります。この発表では
 、私が長年開発に携わってきたJenkinsとい うプロジェ
 クトでの経験を基に、互換性が重視されるライブラリ
 を設計・メンテ する場合のテクニックを紹介します。
 フィールドを直接露出しないといったよう な簡単なも
 のから、コンパイル時・実行時のバイトコードの修正
 のような高度な 技法まで、500リリース以上に渡って互
 換性を維持し続けたノウハウを公開します。\n\n懇親会
 \n\n同じ会場で懇親会を開催します。懇親会に参加希望
 の方は、\n「懇親会に参加」チケットを選択してくだ
 さい。\n\n■ 日時、場所：\n\n開催日時: 2013年12月17日(
 火) 19:00 ~ 23:00 (受付開始 18:30)\n会場: 日本オラクル株式
 会社 本社\n東京都港区青山2-5-8\n\n参加費：無料\n懇親
 会：終了後に同じ会場で懇親会を開催します。\n懇親
 会参加者は2\,000円\n主催: JJUG\n\n◇問い合わせ\nJJUG事務
 局http://jjug.doorkeeper.jp/contact/new
LOCATION:日本オラクル青山センター 東京都港区北青山2-5-8
URL:https://techplay.jp/event/1641?utm_medium=referral&utm_source=ics&utm_c
 ampaign=ics
END:VEVENT
END:VCALENDAR
