BEGIN:VCALENDAR
VERSION:2.0
PRODID:-//https://techplay.jp//JP
CALSCALE:GREGORIAN
METHOD:PUBLISH
X-WR-CALDESC:アルゴリズムとデータ構造についてOSSから勉
 強する会 1回目
X-WR-CALNAME:アルゴリズムとデータ構造についてOSSから勉
 強する会 1回目
X-WR-TIMEZONE:Asia/Tokyo
BEGIN:VTIMEZONE
TZID:Asia/Tokyo
BEGIN:STANDARD
DTSTART:19700101T000000
TZOFFSETFROM:+0900
TZOFFSETTO:+0900
TZNAME:JST
END:STANDARD
END:VTIMEZONE
BEGIN:VEVENT
UID:1649@techplay.jp
SUMMARY:アルゴリズムとデータ構造についてOSSから勉強す
 る会 1回目
DTSTART;TZID=Asia/Tokyo:20140111T140000
DTEND;TZID=Asia/Tokyo:20140111T190000
DTSTAMP:20260420T193857Z
CREATED:20131204T192050Z
DESCRIPTION:イベント詳細はこちら\nhttps://techplay.jp/event/1649?
 utm_medium=referral&utm_source=ics&utm_campaign=ics\n\nこの掲示板の
 スレに書かれている内容とそのリンク先について読ん
 でいきます。基本的なアルゴリズムとデータ構造がリ
 ストアップされ、それを利用しているOpen Source Software
 のコードがリンクされています。我々はこれを教材と
 して、アルゴリズムとデータ構造について（再）学習
 していきます。内容のレベルとしては、初級レベルで
 すが、公演型ではなく参加型になりますので心地よい
 疲労感を与えます！この会を開く動機や学習の進め方
 は、このGoogle Docsで共有していますので、一読してく
 ださい。参加型の勉強会ですので、進め方にご意見が
 ある方は連絡してください。まずは、掲示板のスレに
 書かれている、”Basic Data Structures and Algorithms in the Linux
  kernel"からやります。Kernel 2.6のコードから基本的なデ
 ータ構造とアルゴリズムについて学びます。持ち物：
 ノートPC参加費：無料スケジュール:14:00 -- 14:30 主催者
 からこのシリーズのモチベーションについての説明14:3
 0 -- 15:00 自己紹介とアイスブレーキング15:00 -- 16:30 前
 半戦（進め方は1週間前のオンラインミーティングで決
 定）16:30 -- 17:00 おやつタイム（CodeIQ様がおやつを用意
 してくれます！！）17:00 -- 18:30 後半戦（進め方は1週間
 前のオンラインミーティングで決定）18:30 -- 19:00 クロ
 ージング19:00 --  懇親会事前オンラインミーティングや
 ります。1/8(水) 22:00 --参加はこちらからhttp://lingr.com/roo
 m/StudyingAlgDataStructUsingOSS
LOCATION:Samurai Startup Island 東京都品川区東品川2-2-28 (タチ
 バナビル2階)
URL:https://techplay.jp/event/1649?utm_medium=referral&utm_source=ics&utm_c
 ampaign=ics
END:VEVENT
END:VCALENDAR
