BEGIN:VCALENDAR
VERSION:2.0
PRODID:-//https://techplay.jp//JP
CALSCALE:GREGORIAN
METHOD:PUBLISH
X-WR-CALDESC:第二回「人間中心設計の基礎」(HCDライブラリ
 ー第一巻)読書会
X-WR-CALNAME:第二回「人間中心設計の基礎」(HCDライブラリ
 ー第一巻)読書会
X-WR-TIMEZONE:Asia/Tokyo
BEGIN:VTIMEZONE
TZID:Asia/Tokyo
BEGIN:STANDARD
DTSTART:19700101T000000
TZOFFSETFROM:+0900
TZOFFSETTO:+0900
TZNAME:JST
END:STANDARD
END:VTIMEZONE
BEGIN:VEVENT
UID:1760@techplay.jp
SUMMARY:第二回「人間中心設計の基礎」(HCDライブラリー第
 一巻)読書会
DTSTART;TZID=Asia/Tokyo:20140128T193000
DTEND;TZID=Asia/Tokyo:20140128T220000
DTSTAMP:20260421T050058Z
CREATED:20131216T191006Z
DESCRIPTION:イベント詳細はこちら\nhttps://techplay.jp/event/1760?
 utm_medium=referral&utm_source=ics&utm_campaign=ics\n\n人間中心デザ
 イン(人間中心設計・\nHCD) の大学/大学院レベルの教科
 書としても使える書籍である、2013年5月に刊行された
 「人間中心設計の基礎 」(HCDライブラリー第一巻) (近
 代科学社 刊)の読書会をhcdvalueとして開催したいと思い
 ます。\n\n■対象の書籍\n\n「人間中心設計の基礎 」(HCD
 ライブラリー第一巻) (近代科学社 刊)\n\n■今回の読書
 対象の章\n\n第2章「ユーザビリティ」\n\n\n発表担当：
 渡辺さん\n第9章「質問紙調査とフィールドワーク」\n\n
 \n発表担当：白澤さん\n■参加者ルール\n\n\n明示的なhcd
 valueメンバー 以外 でも参加可能\n参加者は該当箇所は
 最低でも 1回 は読んでくる\n1回で2〜3章分を、 前半(1
 〜7章)の概念編と、 後半(8〜15章)の方法編から1章ずつ
 読む\n持ち回りで、1〜2人が発表資料(15〜20分版x2)をつ
 くる\n20分程度の発表の後、ディスカッションをする\n
 ディスカッション中の質問と議論の結果は「TrelloのHCD
 ライブラリー読書会ボード」にまとめる。\n回の最後
 にふりかえりをして、次の日程を決める\nその他希望
 や進め方のアイデア、会場提供可能な方、などコメン
 トください。\n\n読書会タイムテーブル案\n\n\n\n時間\n
 内容\n\n\n\n19:30-19:40 (10分)\n趣旨確認と自己紹介\n\n\n19:40
 -20:00 (20分)\n前半の発表\n\n\n20:00-20:30 (30分)\nディスカッ
 ション\n\n\n20:30-20:40 (10分)\n休憩\n\n\n20:40-21:00 (20分)\n後
 半の発表\n\n\n21:00-21:30 (30分)\nディスカッション\n\n\n21:3
 0-21:45 (15分)\n本日のふりかえりと次回日程の確認\n\n\n21
 :45-22:00\nバッファ\n\n\n-22:00\n完全撤収\n\n\n読書会スケジ
 ュール(予定)\n\n月1回でスケジュール引いてみました。
 \n\n\n\n日時\n読み合わせる章\n\n\n\n12月4日(水)\n第1章「
 人間中心設計とは」第8章「利用状況の把握」\n\n\n1月28
 日(火)\n第2章「ユーザビリティ」第9章「質問紙調査と
 フィールドワーク」\n\n\n2月？\n第3章「ユーザエクスペ
 リエンスへの道」第10章「結果分析から要求の明確化
 へ」\n\n\n3月？\n第4章「ユーザエクスペリエンス(UX)」
 第11章「デザインのための基礎知識ー人間工学と認知
 心理学」\n\n\n4月？\n第5章 「人間中心設計のプロセス
 」第12章「デザインのアプローチ」\n\n\n5月？\n第6章 「
 人間中心ライフサイクルと成熟度」第13章「デザイン
 の実践」\n\n\n6月？\n第7章「人間中心設計の人材」第14
 章「デザインの評価1」第15章「デザインの評価2」\n\n\n
 ■HCDライブラリー読書会のインセプションデッキ(の一
 部)\n\nわれわれはなぜここにいるのか\n\n\n 我々は人間
 中心設計(HCD)の基礎力を高めたい。なぜならば、個々
 に開催されているワークショップによりHCDを体験的に
 学ぶ場は増えているが、全体を体系立てて基礎から理
 解できる場はまだ少ない。「人間中心設計の基礎」と
 称される本書籍は、体系立てて理解をするために足掛
 かりとなる良書であり、これにより基礎力を高められ
 ると感じた。\nまた、読書会により理解を深めること
 としたい。なぜならば、以前開催したISO9241-210読書会
 にて、個人で読むよりも、他者と読み合わせることで
 より理解が深まることを体験できた。\nエレベーター
 ピッチ\n\n\n現場で実践するためにHCDをより理解したい
 と望んでいる\nHCDに興味を持つ方々にとって\nHCDライブ
 ラリー読書会は\n継続的に開催される読書会イベント
 です。\nこれはHCDを実践するための手法や考え方を提
 供する\n他のイベントと違って\nHCDライブラリー読書会
 は基礎力を強化する足掛かりを提供できます。\nまた
 、これは個人の理解を深める\n個人の読書と違って\n他
 者との関わりの中で理解を深める場を提供できます。\
 n
LOCATION:21cafe 東京都渋谷区道玄坂1-14-6　渋谷ヒューマッ
 クスビル3F
URL:https://techplay.jp/event/1760?utm_medium=referral&utm_source=ics&utm_c
 ampaign=ics
END:VEVENT
END:VCALENDAR
