BEGIN:VCALENDAR
VERSION:2.0
PRODID:-//https://techplay.jp//JP
CALSCALE:GREGORIAN
METHOD:PUBLISH
X-WR-CALDESC:あるサービス開発者の進撃 -Pragmatic Gemba Story-
X-WR-CALNAME:あるサービス開発者の進撃 -Pragmatic Gemba Story-
X-WR-TIMEZONE:Asia/Tokyo
BEGIN:VTIMEZONE
TZID:Asia/Tokyo
BEGIN:STANDARD
DTSTART:19700101T000000
TZOFFSETFROM:+0900
TZOFFSETTO:+0900
TZNAME:JST
END:STANDARD
END:VTIMEZONE
BEGIN:VEVENT
UID:1818@techplay.jp
SUMMARY:あるサービス開発者の進撃 -Pragmatic Gemba Story-
DTSTART;TZID=Asia/Tokyo:20140109T193000
DTEND;TZID=Asia/Tokyo:20140109T213000
DTSTAMP:20260421T212412Z
CREATED:20131221T191022Z
DESCRIPTION:イベント詳細はこちら\nhttps://techplay.jp/event/1818?
 utm_medium=referral&utm_source=ics&utm_campaign=ics\n\n地図を捨てて
 、コンパスを手に取れ。\n\n渾身のサービスをユーザー
 に届け、歓声を得るために何が出来るでしょうか。 開
 発の現場で道に迷わず、自分たちが望む方向に近づく
 ためには何ができるでしょうか。 \nその最善手は現場
 によって異なるでしょう。手は自分たち自身で身を以
 て探し続けなければなりません。しかし、私たちが一
 生涯を開発にかけても一人が得られる経験には限りが
 あります。だからこそ、他の現場の物語を得て、経験
 を擬似的に拡張し、自分たち自身の現場コンテキスト
 に応じた工夫をトライするのです。私たちが現場での
 成功も失敗も含めて「互いに、互いを学ぶ」ことは、
 複雑なソフトウェア開発に立ち向かうためのすべです
 。\n\n今回のDevLOVEのテーマは、 「開発現場」 そのもの
 です。 フリーランスでサービスのスタートアップに臨
 む、志田さん 。 組織を抜けフリーランスとして生き
 生きとしたものづくりに臨む、@garden_treeさん 。\n現場
 で挑戦し、課題につきあたり、気づいたことをお二人
 のコンテキストでそれぞれお話を頂きます。11月9日に
 開催した現場甲子園の再演になります。本会は現場で
 の挑戦を披露しあうことで、互いに刺激、危機感、焦
 燥感を得て、またそれぞれの現場での活動へと繋げて
 いく場を目指します。\n\n<想定する参加者>\n\n・チーム
 でサービス開発を内製されている方、受託されている
 方 ・LeanStartupにサービスを開発することに関心がある
 方 ・現場やチームを前進させる気概を得たい方 ・フ
 リーランスのデベロッパーとして生きていきたい方、
 興味ある方 \nなど\n\nアジェンダ\n\n19:10 - 19:30 集合\n\n19
 :30 - 19:40 はじめに(主旨、会場より)\n\n19:40 - 20:10 「ユ
 ーザーが「それいいね!」と言うまで」志田 裕樹氏\n\n<
 概要>\n\nそのサービスは鳴かず飛ばずのまま3年が経過
 していました。どのようにピボットすればユーザーが
 「それいいね!」と喜んでくれるのか? Lean StartupのBuild M
 esure Leanサイクルを参考に、1年以上もの間、プロトタ
 イプ構築、ユーザーインタビュー、KA法による分析、
 ブレーンストーミングを繰り返し試行錯誤を続けてき
 ました。 その軌跡についてお話しします。\n\n<形式>\n\
 nレクチャー\n\n<話し手>\n\n志田 裕樹氏　\n元々はRuby on 
 RailsなどのRubyの開発技術を好むエンジニアであるが、
 持続可能なアプリ、サービスの構築支援をビジョンと
 して2012年8月に(株)ビー・アジャイルを立ち上げた。現
 在は、アジャイル開発やリーン・スタートアップを用
 いて、スタートアップの企画・開発などの支援活動を
 行っている。前職での執筆活動として、@ITでの記事連
 載、ThinkITでの記事寄稿、共著書に「オープンソース徹
 底活用 Zen Cartによるオンラインショップ構築・運用テ
 クニック」 等がある。\n\n20:10 - 20:40 「3年前の僕へ」@g
 arden_tree氏\n\n<概要>\n\n３年前の課題と、それに対する
 現在の気付きについてお話します。\n※「3年前の僕へ
 」の再演です。開発をどう捉え、プロセスはどうあり
 、そして誰の文化を護るのか。@garden_treeさんの3年分の
 気づきと、変化。\n\n<形式>\n\nレクチャー\n\n<話し手>\n\
 n@garden_tree氏　\n\n20:40 - 21:10 ふりかえり\n\n概要\n\nお二
 人の現場談を得ての本日のふりかえりです。何を学び
 、何が出来るのか、参加者同士で対話しましょう。\n\n
 形式\n\nダイアログ\n\nご案内\n\n本イベントは無料です
 。特にチケットを印刷してお持ち頂く必要はありませ
 ん。\n\nイベントの情報については、DevLOVEなMLやFacebook
 グループでも案内します。これを機会に是非ご参加下
 さい。DevLOVE LINKDevLOVE Park\n\n問い合わせ、ご連絡は、こ
 ちらまで。お気軽にどうぞ。developlove@gmail.com\n\n企画者
  市谷聡啓(@papanda)
LOCATION:KDDIウェブコミュニケーションズ 東京都千代田区
 麹町三丁目６番地 住友不動産麹町ビル３号館
URL:https://techplay.jp/event/1818?utm_medium=referral&utm_source=ics&utm_c
 ampaign=ics
END:VEVENT
END:VCALENDAR
