BEGIN:VCALENDAR
VERSION:2.0
PRODID:-//https://techplay.jp//JP
CALSCALE:GREGORIAN
METHOD:PUBLISH
X-WR-CALDESC:3Dプリンタモデリング勉強会
X-WR-CALNAME:3Dプリンタモデリング勉強会
X-WR-TIMEZONE:Asia/Tokyo
BEGIN:VTIMEZONE
TZID:Asia/Tokyo
BEGIN:STANDARD
DTSTART:19700101T000000
TZOFFSETFROM:+0900
TZOFFSETTO:+0900
TZNAME:JST
END:STANDARD
END:VTIMEZONE
BEGIN:VEVENT
UID:1825@techplay.jp
SUMMARY:3Dプリンタモデリング勉強会
DTSTART;TZID=Asia/Tokyo:20140111T130000
DTEND;TZID=Asia/Tokyo:20140111T180000
DTSTAMP:20260421T050042Z
CREATED:20131222T192559Z
DESCRIPTION:イベント詳細はこちら\nhttps://techplay.jp/event/1825?
 utm_medium=referral&utm_source=ics&utm_campaign=ics\n\n勉強会概要3D
 モデリングをハンズオン形式で勉強し，3Dプリンタを
 使って作品を作り出すことを目標とします．初めにモ
 デリング講座で3Dモデリングの方法を学びます．その
 後，スタッフが3Dプリンタで作品の出力作業と講演を
 同時に行います．必要なもの：【必須】PCを持参して
 きてください．【必須】Scultprisを事前にインストール
 してください． 　インストール方法はこちらをご覧下
 さい．（とても簡単にインストールできます）【推奨
 】マウス 　勉強会の予定：\n\n\n\n発表者\n発表内容\n発
 表時間\n開始時刻\n\n\nmotoyoshi\n3Dモデリング講座\n3時間\
 n1:00\n\n\n休憩＋3Dプリンタの準備\n\n10分\n4:00\n\n\n3Dプリ
 ンタで出力\n講演を聴きながら，3Dプリンタで出力を行
 います\n?時間\n4:10\n\n\nhanatoku\n3Dプリンタの活用事例の
 紹介ハイエンド機からパーソナル機まで、国内／海外
 における3Dプリンタの活用事例を紹介します\n30分\n4:10\
 n\n\nmotoyoshi\n自作セグウェイについての講演\n30分\n4:40\n
 \n\n休憩＋自作セグウェイに試乗\n自作セグウェイに試
 乗\n15分\n4:45\n\n\n自由\n皆さんと交流，セグウェイ試乗
 ，3Dプリンタの出力を手伝うなど自由に過ごしてくだ
 さい．また，出入り自由です．\n3Dプリンタでの作品出
 力が終わるまで（時間超過の場合は途中で終了します
 ）\n4:45\n\n\n参加費500円程度無料AOSC新年会場所：大黒屋
 （成吉思汗 大黒屋 5丁目支店　北海道旭川市4条通5丁
 目）時間：19:00 ~会費：2000 ~ 3000円程度後援旭川Python勉
 強会ゆるい勉強会LOCAL
LOCATION:コワーキングスペースあさひかわ３７ 〒070－0033 
 旭川市3条通7丁目 セブンビル2F
URL:https://techplay.jp/event/1825?utm_medium=referral&utm_source=ics&utm_c
 ampaign=ics
END:VEVENT
END:VCALENDAR
