BEGIN:VCALENDAR
VERSION:2.0
PRODID:-//https://techplay.jp//JP
CALSCALE:GREGORIAN
METHOD:PUBLISH
X-WR-CALDESC:BPStudy#77
X-WR-CALNAME:BPStudy#77
X-WR-TIMEZONE:Asia/Tokyo
BEGIN:VTIMEZONE
TZID:Asia/Tokyo
BEGIN:STANDARD
DTSTART:19700101T000000
TZOFFSETFROM:+0900
TZOFFSETTO:+0900
TZNAME:JST
END:STANDARD
END:VTIMEZONE
BEGIN:VEVENT
UID:1841@techplay.jp
SUMMARY:BPStudy#77
DTSTART;TZID=Asia/Tokyo:20140130T190000
DTEND;TZID=Asia/Tokyo:20140130T210000
DTSTAMP:20260420T193928Z
CREATED:20131224T192706Z
DESCRIPTION:イベント詳細はこちら\nhttps://techplay.jp/event/1841?
 utm_medium=referral&utm_source=ics&utm_campaign=ics\n\n第１部　モデ
 ルベース要件定義〜地図を持たずに出かければ迷子に
 なってもおかしくない１９：００〜２０：００■発表
 者株式会社バリューソース 神崎 善司氏■概要システ
 ム開発において以下のような状況になったことはあり
 ませんか？・「やることだけ」を実現したが、システ
 ムはどこかちぐはぐ・「こんなシステム作って...　機
 能はA\,B\,C～」この言葉で始まったシステム開発が、い
 つの間にかどこに向かっているのかが分からなくなる
 。・「誰のための何のためのシステムなのか」わから
 ないこれらの問題を解決する４つの視点と、ビジネス
 キャンバスにつなげる手法を紹介します。（内容）・
 こんなことありませんか？・障害は何なのか・ではど
 うするのか？・要件分析の枠組み・システムの地図を
 描く・ビジネスキャンバスにつなぐ■自己紹介SIerで大
 小のプロジェクト開発リーダーを務め、独立後上流工
 程を中心としたコンサルティングを行う。その経験を
 活かしたモデリングベースの要件定義手法「RDRA」を開
 発し、2008年、書籍「要件定義マニュアル」にまとめる
 。2013年ビジネスキャンバスから要件定義までのつなが
 りを示した書籍「モデルベース要件定義テクニック」
 を執筆。現在も様々なプロジェクトにおいてモデリン
 グベースの要件定義を模索中。株式会社バリューソー
 ス　代表取締役社長twitter: @zenzengoodfacebook page: 要件定
 義の散歩道第２部 テキスト型DSL開発フレームワークXte
 xt２０：００〜２１：００■発表者日本 Xtext ユーザ会 
 田中 明 氏■概要Eclipse Modeling Projectでのモデリングツ
 ールやDSLツールの概要を紹介します。そのなかでXtext
 についてデモを交えご紹介します。■自己紹介通信 -> 
 分散オブジェクト -> UML -> Eclipse Modelingといった道を歩
 いてきました。日本Xtextユーザ会とEclipse Modeling勉強会
 を開催しています。参加費1000円（学生無料）懇親会懇
 親会 の参加はこちらから
LOCATION:代々木研修室 国際英語学校代々木教会ビル会場 
 東京都渋谷区代々木1-29-5
URL:https://techplay.jp/event/1841?utm_medium=referral&utm_source=ics&utm_c
 ampaign=ics
END:VEVENT
END:VCALENDAR
