BEGIN:VCALENDAR
VERSION:2.0
PRODID:-//https://techplay.jp//JP
CALSCALE:GREGORIAN
METHOD:PUBLISH
X-WR-CALDESC:【東京】JJUG ナイトセミナ 「Spring Framework 特集
 」
X-WR-CALNAME:【東京】JJUG ナイトセミナ 「Spring Framework 特集
 」
X-WR-TIMEZONE:Asia/Tokyo
BEGIN:VTIMEZONE
TZID:Asia/Tokyo
BEGIN:STANDARD
DTSTART:19700101T000000
TZOFFSETFROM:+0900
TZOFFSETTO:+0900
TZNAME:JST
END:STANDARD
END:VTIMEZONE
BEGIN:VEVENT
UID:1913@techplay.jp
SUMMARY:【東京】JJUG ナイトセミナ 「Spring Framework 特集」
DTSTART;TZID=Asia/Tokyo:20140121T190000
DTEND;TZID=Asia/Tokyo:20140121T210000
DTSTAMP:20260421T050032Z
CREATED:20140106T191018Z
DESCRIPTION:イベント詳細はこちら\nhttps://techplay.jp/event/1913?
 utm_medium=referral&utm_source=ics&utm_campaign=ics\n\n1月のJJUGナイ
 トセミナーは日本Springユーザグループ（JSUG)との共催
 で「Spring Framework特集」です。\n\nここでしか聞けない
 貴重なお話ですので、ぜひご都合の付く方は参加をご
 検討ください。\n\n■ アジェンダ(予定)：\n\n19:00〜19:50 
 :「再入門　SpringMVCとREST」\n日本Springユーザグループ 
 てらひで氏\n\n20:00〜21:00 : 「Spring 4とSpring Bootで作る次
 世代Springアプリケーション」\n日本Javaユーザグループ
 幹事 槙 俊明氏\n\n21:00〜23:00：懇親会 (有料)\n\n「再入
 門　SpringMVCとREST」\n\n発表者 : てらひで氏 (@terahide27)\n\
 nRESTを用いたWebアプリケーションの概要とSpringMVCによ
 る実装例を最近のSpring事情を織り交ぜながらご説明致
 します。\n\n「Spring 4とSpring Bootで作る次世代Springアプ
 リケーション」\n\n発表者 : 槙 俊明氏 (@making)\n\n先日リ
 リースされた「Spring Framework 4.0」とSpringをアプリケー
 ションを作成するのに便利な「Spring Boot」について説
 明いたします。\n\n前半ではSpring4の概要と新機能につ
 いて説明します。後半ではSpring Bootを使った迅速なア
 プリケーション開発のスタートアップ方法と非機能面
 での様々なサポートを説明しSpring Bootの魅力を伝えた
 いと思います。\n\nJJUG CCC 2013 Fallでの発表資料を事前に
 目を通しておくとよいです。http://www.slideshare.net/makingx/
 spring-framework-2013-jjugccc-cccr17\n\nSpring Bootに関してはhttp://
 presos.dsyer.com/decks/spring-boot-intro.html\nが詳しいです。\n\n
 懇親会\n\n同じ会場で懇親会を開催します。懇親会に参
 加希望の方は、\n「懇親会に参加」チケットを選択し
 てください。\n\n■ 日時、場所：\n\n開催日時: 2014年1月
 21日(火) 19:00 ~ 23:00 (受付開始 18:30)\n会場: 日本オラクル
 株式会社 本社\n東京都港区青山2-5-8\n\n参加費：無料\n
 懇親会：終了後に同じ会場で懇親会を開催します。\n
 懇親会参加者は2\,000円\n主催: JJUG、JSUG\n\n◇問い合わせ
 \nJJUG事務局http://jjug.doorkeeper.jp/contact/new
LOCATION:日本オラクル青山センター 東京都港区北青山2-5-8
URL:https://techplay.jp/event/1913?utm_medium=referral&utm_source=ics&utm_c
 ampaign=ics
END:VEVENT
END:VCALENDAR
