BEGIN:VCALENDAR
VERSION:2.0
PRODID:-//https://techplay.jp//JP
CALSCALE:GREGORIAN
METHOD:PUBLISH
X-WR-CALDESC:WordPressクラスL15・第1回WordPressサイトの企画
X-WR-CALNAME:WordPressクラスL15・第1回WordPressサイトの企画
X-WR-TIMEZONE:Asia/Tokyo
BEGIN:VTIMEZONE
TZID:Asia/Tokyo
BEGIN:STANDARD
DTSTART:19700101T000000
TZOFFSETFROM:+0900
TZOFFSETTO:+0900
TZNAME:JST
END:STANDARD
END:VTIMEZONE
BEGIN:VEVENT
UID:1996@techplay.jp
SUMMARY:WordPressクラスL15・第1回WordPressサイトの企画
DTSTART;TZID=Asia/Tokyo:20140125T140000
DTEND;TZID=Asia/Tokyo:20140125T170000
DTSTAMP:20260422T054544Z
CREATED:20140109T191035Z
DESCRIPTION:イベント詳細はこちら\nhttps://techplay.jp/event/1996?
 utm_medium=referral&utm_source=ics&utm_campaign=ics\n\nWordPressクラス
 L15の第１回目です。\n\nねこみみすくーるとマルチメデ
 ィアスクールWAVEがコラボして新しい教室「WordPressクラ
 スL15」が生まれました！\n第一回目は全体の学習の流
 れ・狙いをお話し課題を出します。\nその課題を完成
 させるのがこの講座の最終ゴールです。\n　\n\nテキス
 トをそのままなぞるWordPressの講座ではありません\n\n架
 空のクライアントからの依頼を受け、自分でワイヤー
 フレームを書き、それを元にWordPressサイトを構築して
 いきます。\nクラスのみんなでわいわいしながら考え
 、先生に質問しながら作る。まさに学校そのものです
 。\n※ねこみみ先生、このような形で過去に首都圏の
 数ヶ所の職業訓練校で授業を行い、受講生をweb業界に
 送り出しています。\n　\n\nねこみみすくーるってなに
 ？\n\n現役webエンジニアのねこみみ隊長が開催してる少
 人数制webすくーるです。http://nekomimi-school.com/\n　\n\nマ
 ルチメディアスクールWAVEって？\n\n自宅・通学・企業
 研修など、あらゆるスタイルでスキルアップ・キャリ
 アアップするためのWeb･ITに特化したデザイン･プロ
 グラミングのトレーニングサービス・プロバイダーで
 す。http://www.mswave.co.jp/\n　\n\n用意するもの\n\n\n電源やW
 iFiは用意があります。\nノートパソコン（MacでもWindows
 でも可）\n各自で必要と思われる教材\n筆記用具\n　\n
 質問もご用意ください。\n\n課題の内容に関連するもの
 、時事ネタなど質問があればお答えいたします。\n　
 　\n\n次回以降の講座カリキュラム予定\n\n下記を参考
 にしてください。http://nekomimi-wave.doorkeeper.jp/
LOCATION:L15 （新宿西口エンジニア・クリエーター専用コ
 ワーキングスペース） 東京都新宿区西新宿1-6-1 新宿エ
 ルタワー15階
URL:https://techplay.jp/event/1996?utm_medium=referral&utm_source=ics&utm_c
 ampaign=ics
END:VEVENT
END:VCALENDAR
