BEGIN:VCALENDAR
VERSION:2.0
PRODID:-//https://techplay.jp//JP
CALSCALE:GREGORIAN
METHOD:PUBLISH
X-WR-CALDESC:http2.0 勉強会 #3
X-WR-CALNAME:http2.0 勉強会 #3
X-WR-TIMEZONE:Asia/Tokyo
BEGIN:VTIMEZONE
TZID:Asia/Tokyo
BEGIN:STANDARD
DTSTART:19700101T000000
TZOFFSETFROM:+0900
TZOFFSETTO:+0900
TZNAME:JST
END:STANDARD
END:VTIMEZONE
BEGIN:VEVENT
UID:2011@techplay.jp
SUMMARY:http2.0 勉強会 #3
DTSTART;TZID=Asia/Tokyo:20140128T193000
DTEND;TZID=Asia/Tokyo:20140128T213000
DTSTAMP:20260420T230221Z
CREATED:20140109T193200Z
DESCRIPTION:イベント詳細はこちら\nhttps://techplay.jp/event/2011?
 utm_medium=referral&utm_source=ics&utm_campaign=ics\n\n## http2 勉強会
 http2 draft-9 と hpack-05 を引っさげて迎えたチューリッヒ
 での Interim Meeting.今回はその結果と、その他諸々のお
 話が聞けるはずです。## 会場の注意- 8 時以降は入室で
 きなくなります。ピックアップはないため、8時以降遅
 刻したら入れません！！- 会場は無線LAN環境を用意し
 ています。会場内では自前WIFI端末の電源を切っていた
 だくようお願いします。- 会場の床に電源コンセント
 が用意されていますが、数が限られています。電源タ
 ップをお持ちいただけると周りの方が喜ぶと思います
 。- 飲食は可能ですがゴミ持ち帰りなど節度を持って
 ご利用ください。フロアに自販機が設置されています
 。（禁煙です。喫煙ルームは別にありますのでそちら
 をご利用ください。）## 予習資料- http://tools.ietf.org/html
 /draft-ietf-httpbis-http2-09- http://tools.ietf.org/html/draft-ietf-httpb
 is-header-compression-05## 発表者- @summerwind: 「HTTP2を読み解
 く技術」- @jovi0608: 「httpbis interim＠チューリッヒ報告」
 (仮)- @kazu_yamamoto: 「HPACK の実装と解析(仮)」## 中継あり
 ません。(アイコンはこちらからお借りしました。 https
 ://github.com/http2)
LOCATION:株式会社インターネットイニシアティブ 17階会議
 室 〒101-0051 東京都千代田区神田神保町1-105 神保町三井
 ビルディング
URL:https://techplay.jp/event/2011?utm_medium=referral&utm_source=ics&utm_c
 ampaign=ics
END:VEVENT
END:VCALENDAR
