BEGIN:VCALENDAR
VERSION:2.0
PRODID:-//https://techplay.jp//JP
CALSCALE:GREGORIAN
METHOD:PUBLISH
X-WR-CALDESC:ＭＡＴＳＵＥ ＲＵＢＹ ＫＡＩＧＩ ０５ 昼食 
 (LT大会)
X-WR-CALNAME:ＭＡＴＳＵＥ ＲＵＢＹ ＫＡＩＧＩ ０５ 昼食 
 (LT大会)
X-WR-TIMEZONE:Asia/Tokyo
BEGIN:VTIMEZONE
TZID:Asia/Tokyo
BEGIN:STANDARD
DTSTART:19700101T000000
TZOFFSETFROM:+0900
TZOFFSETTO:+0900
TZNAME:JST
END:STANDARD
END:VTIMEZONE
BEGIN:VEVENT
UID:2097@techplay.jp
SUMMARY:ＭＡＴＳＵＥ ＲＵＢＹ ＫＡＩＧＩ ０５ 昼食 (LT
 大会)
DTSTART;TZID=Asia/Tokyo:20140315T113000
DTEND;TZID=Asia/Tokyo:20140315T130000
DTSTAMP:20260421T040648Z
CREATED:20140117T191222Z
DESCRIPTION:イベント詳細はこちら\nhttps://techplay.jp/event/2097?
 utm_medium=referral&utm_source=ics&utm_campaign=ics\n\nご注意くださ
 い！\n\nＭＡＴＳＵＥ ＲＵＢＹ ＫＡＩＧＩ ０５の全て
 のコンテンツにご参加いただくには、以下の3つのイベ
 ントに申し込みをして頂く必要があります。\n\n\nＭＡ
 ＴＳＵＥ ＲＵＢＹ ＫＡＩＧＩ ０５のお申し込み　参
 加費：無料\n昼食（LT大会）のお申込み　　参加費：1\,
 000円（税込）※このページです！\n懇親会のお申し込
 み　参加費：4\,500円（税込）\n会場準備等の都合によ
 り、「本編」「昼食会」「懇親会」の3つに分けてご案
 内させて頂いております。何卒ご了承ください。（各
 イベントのみのご参加も大歓迎です！）\n\nＭＡＴＳＵ
 Ｅ ＲＵＢＹ ＫＡＩＧＩ ０５ 昼食 (LT大会)\n\n3/15(土)の
 13:25-19:30、松江テルサ別館2F：松江OSSラボで開催するＭ
 ＡＴＳＵＥ ＲＵＢＹ ＫＡＩＧＩ ０５のランチタイム
 に開催するLT大会です。\n美味しい旬の食材を楽しみな
 がら、Rubyへの熱い思いをTalkしましょう！\n\n【ＭＡＴ
 ＳＵＥ ＲＵＢＹ ＫＡＩＧＩ ０５ 昼食 (LT大会)】\n■
 開催日：2014年3月15日(土)\n■時　間：11:30〜13:00\n■主
 　催：Matsue.rb(まつえるびー)\n\n■その他：\n　・ＭＡ
 ＴＳＵＥ ＲＵＢＹ ＫＡＩＧＩ ０５のお申し込み　参
 加費：無料\n　　http://matsue-rb.doorkeeper.jp/events/8268\n　・
 懇親会のお申し込み　参加費：4\,500円（税込）\n　　ht
 tp://matsue-rb.doorkeeper.jp/events/8277\n■お問い合わせ\n　松
 江Ruby会議05に関するお問い合わせは、matsuerubykaigi05@goog
 legroups.comまでメールにてご連絡ください。
LOCATION:和食居酒屋　旬門 島根県松江市御手船場町562-1
URL:https://techplay.jp/event/2097?utm_medium=referral&utm_source=ics&utm_c
 ampaign=ics
END:VEVENT
END:VCALENDAR
