BEGIN:VCALENDAR
VERSION:2.0
PRODID:-//https://techplay.jp//JP
CALSCALE:GREGORIAN
METHOD:PUBLISH
X-WR-CALDESC:ＭＡＴＳＵＥ  ＲＵＢＹ  ＫＡＩＧＩ ０５
X-WR-CALNAME:ＭＡＴＳＵＥ  ＲＵＢＹ  ＫＡＩＧＩ ０５
X-WR-TIMEZONE:Asia/Tokyo
BEGIN:VTIMEZONE
TZID:Asia/Tokyo
BEGIN:STANDARD
DTSTART:19700101T000000
TZOFFSETFROM:+0900
TZOFFSETTO:+0900
TZNAME:JST
END:STANDARD
END:VTIMEZONE
BEGIN:VEVENT
UID:2098@techplay.jp
SUMMARY:ＭＡＴＳＵＥ  ＲＵＢＹ  ＫＡＩＧＩ ０５
DTSTART;TZID=Asia/Tokyo:20140315T132500
DTEND;TZID=Asia/Tokyo:20140315T173000
DTSTAMP:20260421T045710Z
CREATED:20140117T191226Z
DESCRIPTION:イベント詳細はこちら\nhttps://techplay.jp/event/2098?
 utm_medium=referral&utm_source=ics&utm_campaign=ics\n\nご注意くださ
 い！\n\nＭＡＴＳＵＥ ＲＵＢＹ ＫＡＩＧＩ ０５の全て
 のコンテンツにご参加いただくには、以下の3つのイベ
 ントに申し込みをして頂く必要があります。\n\n\nＭＡ
 ＴＳＵＥ ＲＵＢＹ ＫＡＩＧＩ ０５のお申し込み　参
 加費：無料　※このページです！\n昼食（LT大会）のお
 申込み　　参加費：1\,000円（税込）\n懇親会のお申し
 込み　参加費：4\,500円（税込）\n会場準備等の都合に
 より、「本編」「昼食会」「懇親会」の3つに分けてご
 案内させて頂いております。何卒ご了承ください。（
 各イベントのみのご参加も大歓迎です！）\n\nＭＡＴＳ
 ＵＥ ＲＵＢＹ ＫＡＩＧＩ ０５\n\n松江るびーの文化祭
 　　〜ライブコーディングをしよう！〜\n\n■開催日：
 2014年3月15日(土)\n■時　 間：13:25〜17:30 (懇親会 : 20:00
 〜)\n■主　 催：Matsue.rb(まつえるびー)\n■後　 援：一
 般社団法人　日本Rubyの会\n■その他：\n　　・昼食（LT
 大会）のお申込み　　参加費：1\,000円（税込）\n　　
 　http://matsue-rb.doorkeeper.jp/events/8278\n　　・懇親会のお
 申込み　参加費：4\,500円（税込）\n　　　http://matsue-rb.
 doorkeeper.jp/events/8277\n\n■お問い合わせ先：\n松江Ruby会
 議05に関するお問い合わせは、matsuerubykaigi05@googlegroups.c
 omまでメールにてご連絡ください。
LOCATION:松江テルサ別館2F 「松江OSSラボ」 島根県松江市
 朝日町478-18(JR松江駅前)
URL:https://techplay.jp/event/2098?utm_medium=referral&utm_source=ics&utm_c
 ampaign=ics
END:VEVENT
END:VCALENDAR
