BEGIN:VCALENDAR
VERSION:2.0
PRODID:-//https://techplay.jp//JP
CALSCALE:GREGORIAN
METHOD:PUBLISH
X-WR-CALDESC:よちよち.rb 第6回
X-WR-CALNAME:よちよち.rb 第6回
X-WR-TIMEZONE:Asia/Tokyo
BEGIN:VTIMEZONE
TZID:Asia/Tokyo
BEGIN:STANDARD
DTSTART:19700101T000000
TZOFFSETFROM:+0900
TZOFFSETTO:+0900
TZNAME:JST
END:STANDARD
END:VTIMEZONE
BEGIN:VEVENT
UID:2167@techplay.jp
SUMMARY:よちよち.rb 第6回
DTSTART;TZID=Asia/Tokyo:20140127T200000
DTEND;TZID=Asia/Tokyo:20140127T213000
DTSTAMP:20260420T105134Z
CREATED:20140122T191016Z
DESCRIPTION:イベント詳細はこちら\nhttps://techplay.jp/event/2167?
 utm_medium=referral&utm_source=ics&utm_campaign=ics\n\n最初にお読み
 ください\n\nこの勉強会は、 プログラミング歴約2年程
 度 までの初心者の方を対象にしたものです。\n少し特
 徴がありますので、ご登録の前に以下の注意事項を必
 ずお読みください。about よちよち.rb (#yochiyochirb) | うの
 うのエンジニアブログ\n\nやること\n\nRails チュートリ
 アル を使っていきます。\n今回は「1.3.4 Github」から。\
 n\nやってきてもらいたいこと\n\nGithubが提供している Gi
 st を使って、自己紹介を自由に書いてきてください。\
 nその際、以下のことを含めてください：\n\n\n Ruby On Rai
 lsとあなた について\n Github とあなた について\nファイ
 ル形式は自由ですが、余裕があったらMarkdown（.md）を
 使ってみると 後々役立つと思います。\nできあがった
 ら、GistのURLをこちらへ貼ってください：https://github.com
 /yochiyochirb/meetups/issues/13\n（自己紹介を既にリポジトリ
 にPushしてあるひとは、そちらを更新するだけでOKです
 。）\n\nGistの使い方参考：Gistの使い方を覚えました - t
 yoshikawa1106のブログ\n\nよちよち.rb の対象環境について\
 n\nRailsを使用する環境として、よちよち.rbが対象とす
 るOSは Mac OS X・Linux等のUNIX系です。\nWindowsなどをお使
 いの方は すみませんが仮想マシンなどをご準備のうえ
 、ご参加ください。\n\n持ち物\n\n\nノートPC（電源・無
 線LANは会場にあります。）\n名札（前回までに参加し
 た方のみ。なければ新しいものを差し上げます。）\n
 飲み物など\n会場への入館について\n\n\n今回は特に待
 ち合わせなどは行いません。直接会場へお越しくださ
 い。\n21:00 を過ぎると入口の鍵がかかります。その場
 合はインターホンを押してください。\n会場について\n
 \n\n今回は会場費はかかりません。\n電源・無線LANがあ
 ります。\n飲食物の持ち込みが可能です。\n不安なこと
 がありましたら どんな些細なことでも、ご遠慮なく @y
 ucato_ までご連絡ください(^o^)\nこの下のコメント欄を
 使っていただいても大丈夫です!
LOCATION:Samurai Startup Island 東京都品川区東品川2-2-28 タチバ
 ナビル2階
URL:https://techplay.jp/event/2167?utm_medium=referral&utm_source=ics&utm_c
 ampaign=ics
END:VEVENT
END:VCALENDAR
