BEGIN:VCALENDAR
VERSION:2.0
PRODID:-//https://techplay.jp//JP
CALSCALE:GREGORIAN
METHOD:PUBLISH
X-WR-CALDESC:Mashup Summit（マッシュアップ・サミット） in Fuk
 ui 2014
X-WR-CALNAME:Mashup Summit（マッシュアップ・サミット） in Fuk
 ui 2014
X-WR-TIMEZONE:Asia/Tokyo
BEGIN:VTIMEZONE
TZID:Asia/Tokyo
BEGIN:STANDARD
DTSTART:19700101T000000
TZOFFSETFROM:+0900
TZOFFSETTO:+0900
TZNAME:JST
END:STANDARD
END:VTIMEZONE
BEGIN:VEVENT
UID:2222@techplay.jp
SUMMARY:Mashup Summit（マッシュアップ・サミット） in Fukui 20
 14
DTSTART;TZID=Asia/Tokyo:20140222T130000
DTEND;TZID=Asia/Tokyo:20140222T193000
DTSTAMP:20260420T234738Z
CREATED:20140125T191034Z
DESCRIPTION:イベント詳細はこちら\nhttps://techplay.jp/event/2222?
 utm_medium=referral&utm_source=ics&utm_campaign=ics\n\nソフトウェア
 エンジニア、デザイナー、プランナーが地域・世代を
 超えて集結！\n\n　ふくい産業支援センターでは、国内
 最大のウェブアプリケーションコンテスト「Mashup Awards
 （マッシュアップ・アワード）」（※）とご協力し、
 「Mashup Summit（マッシュアップ・サミット） in Fukui 2014
 」を開催します。\n　今回は、MashupAwards9（ＭＡ９）で
 グランプリを獲得した河本氏をはじめとして、県内外
 のアプリ開発者・デザイナー・プランナー、大手ＩＴ
 企業、福井県ソフトウェアコンペティションの受賞学
 生などの面々が、地域・世代を超えてここ福井に集結
 します。\n\n※MashupAwards（マッシュアップ・アワード）
 とは\n　MashupAwardsは、Web開発者が自ら開発したWebサイ
 トやスマートフォンアプリ等を通して技術、デザイン
 、アイデアを競い合うコンテスト。例年、時代の先端
 をいく開発者達の作品約500点が集まり、Webの未来を提
 案する場となっています。\n　最近では、革新的なア
 プリやビジネスモデルを生み出す「オープン・イノベ
 ーション」の場としても機能し始めています。\n\nオー
 プン・イノベーションの可能性\n\n　最近では、自社の
 技術・人材・アイデアと他社それを組み合わせ、革新
 的で新しい価値を作り出す「オープン・イノベーショ
 ン」の考え方が注目を浴びており、実際の多くの成功
 例が生まれています。また、昨年あたりからオープン
 データ活用の動きも活発化し、さまざまなリソースを
 組み合わせたアプリ開発がさらに盛り上がってくると
 予想されます。\n　本イベントで登壇する方は、数名
 以上がグループとなり、それぞれが、エンジニア、デ
 ザイナー、プランナーなどの役割を担いつつ、素晴ら
 しいアプリを開発された方ばかり。ぜひ、この機会に
 、オープン・イノベーションの可能性を感じてくださ
 い。\n\nアプリ開発の楽しさを伝えたい。エンジニア以
 外の方にも！\n\n　また、本イベントのもう一つの目的
 は、「アプリ開発って楽しい」「自分でもできるかも
 」と感じていただくことです。それは、ソフトウェア
 ・エンジニアだけではなく、デザイナー、プランナー
 、企業さんなどにもそう感じて欲しいと思っています
 。\n　その理由は、プログラムを作るのはエンジニア
 ですが、それだけでは良いアプリはできないからであ
 り、革新的で新しい価値を作り出したいと考えている
 方のアイデアと知恵が必要だからです。\n　是非、積
 極的に本イベントにご参加いただき、世界に新しい価
 値を生み出しましょう！　\n\n■参加対象者\n\nソフト
 ウェアエンジニア、デザイナー、プランナーなどアプ
 リ開発に関係する方はもちろん、優秀なパートナーと
 知り合いたい企業の方も積極的にご参加ください。\n\n
 ■内容・出演者\n\n\n\n時間\n内容・出演者\n\n\n\n13:00\n開
 会\n\n\n13:05\n\n基調セミナー「MashupAwardsの現在～オープ
 ンイノベーションとオープンマインドが生みだす可能
 性」自社技術だけでなく他社が持つ技術やアイデアを
 組み合わせ、革新的なアプリやビジネスモデルを生み
 出す「オープン・イノベーション」が注目を浴びてい
 ます。本セッションでは、今年10年目を迎えるMashupAward
 sの現状の報告と、オープンイノベーションの可能性に
 ついて解説します。講師：伴野 智樹氏（株式会社リク
 ルートホールディングス、MashupAwards 事務局長）日本最
 大の開発コンテスト、MashupAwardsの運営事務局長をつと
 める。8月下旬より10回目となる、Mashup Awards 10を開始予
 定。普段は株式会社リクルートホールディングス　メ
 ディアテクノロジーラボにて企画開発に携わる。\n\n\n\
 n13:30\n\nＭＡ９受賞者セミナー「あの日の僕らは”Mashup
 ”していたか」\n一次予選を勝ち抜きMashupAwordへ本格参
 加することになったチーム24-7だったが、通常業務の合
 間を縫っての開発、デザイン担当メンバーの転勤など
 、完成に向けてさまざまなハードルが待ち受けていた
 ！アプリ開発は完成するのか？チームの運命は？おと
 なの青春ストーリーをお楽しみください。講師：(株)
 ２４-７　エンジニアチーム（北海道）株式会社２４−
 ７所属のエンジニアチーム。４人それぞれが異なる技
 能と役どころを演じ、MashupAword9にてMashupVision（マッシ
 ュアップビジョン）を発表。（メンバー・50音順）川
 田 知愼（インフラエンジニア・PV撮影／制作）佐藤 欣
 昭（フロントエンドエンジニア・デザイナー）菅原 祐
 （iOSデベロッパー）清野 真衣子（バックエンドエンジ
 ニア・外装作成）\n「ANNAi Call 開発秘話」(予定)\n多言
 語対応クラウド・ソーシャルコール・サービス・アプ
 リ「ANNAi Call」の開発に関するエピソードについてお話
 いただきます（予定）講師：太田垣 恭子 氏（ANNAI LLC
 、京都）福岡市出身、日本福祉大学卒業。20歳の時に
 フリーランスとして独立し、幼稚園や大学、自治体の
 パンフレット制作業務を中心に手がける。その後、大
 手メーカーやフランチャイズメーカーでの販売促進・
 企画業務等を手がけ、新規サービスの立ち上げや制作
 ・運営を担当。2000年にWebサービス事業に一本化し、ANN
 AI（アンナイ）を設立。現在は京都を拠点に、Webサー
 ビス制作だけでなく、自社サービスも展開中。 \n\n\n\n1
 5:00\n\n記念トークセッション「ＭＡとオープンイノベ
 ーション」革新的なアプリや商品やビジネスモデルを
 生み出す「オープンイノベーション」。本セッション
 では、Mashup AwardsにＡＰＩを提供する４社の担当者から
 、オープン・イノベーションへの取り組みと福井のソ
 フトウェア技術者との協業の可能性についてお話を伺
 います。パネラー：（五十音順）・伊藤祥 氏（（株）
 ドワンゴ）株式会社ドワンゴのソフトウェアエンジニ
 ア。福井県内のソフトウェアベンダーで6年間プロダク
 ト開発に携わった後、2012年ドワンゴに入社。niconicoの
 検索サービスの企画・開発に携わる。\n・馬田隆明氏
 （日本マイクロソフト（株））マイクロソフトで日本
 全国のスタートアップや学生開発者を支援するエバン
 ジェリスト。2007年のマイクロソフト入社以来、一貫し
 て開発者支援の部隊で活躍中。\n・宋 珠憲氏（(株)Ｋ
 ＤＤＩウェブコミュニケーションズ）Twilio for KDDI Web Co
 mmunicationsのデベロッパーエバンジェリストとして活動
 中。約8年間ウェブアプリケーションやバックアンド系
 の開発しつつ、Twilioを利用するための勉強会や開発イ
 ベントを積極的に実施している。\n・持地麻記子氏（(
 株)ゼンリンデータコム）株式会社ゼンリンデータコム
 　企画本部　新規サービス推進室　プロデューサー。
 「いつもNAVI」をはじめとした、コンシューマ向け位置
 情報サービスの企画、開発ディレクションを数多く手
 掛けてきた。スタートアップ支援やゼンリンAPIを使っ
 てサービスを立ち上げてくれるパートナーとの連携を
 取るべく、全国を駆け巡っている。\nモデレーター伴
 野 智樹氏（(株)リクルートホールディングス、MashupAwar
 ds 事務局長）\n\n\n\n\n\n15:50\n\n「ふくいソフトウェアコ
 ンペティション2013」上位入賞による作品発表今回で20
 回目の開催となった「ふくいソフトウェアコンペティ
 ション」（福井県内の学生を対象にしたソフトウェア
 コンテスト）。ここでは、2013年度受賞者から、デモを
 交えながら受賞作品をご紹介いただきます。＜福井県
 ソフトウェア大賞＞\n\n作品名：Dream Room（３Ｄ部屋モ
 デル構築システム）発表者：福井大学　知能システム
 工学科　４年　池谷典之さん\n＜福井県ソフトウェア
 優秀賞＞\n作品名：CazEarth（ユー ザー投稿型のスポッ
 ト情報紹介アプリ）発表者：大原テクノデザインアー
 ト専門学校　高度情報技術科　４年　南部 将汰さん、
 高度情報技術科 ３年 ヒョウ・イキョウさん、システ
 ム工学科　３年　黒田 晃平さん、システム工学科３年
 　白野 元晴さん、システム工学科３年　斉藤 直輝さ
 ん、システム工学科　３年　岩佐 美月さん、情報処理
 科２年　藤堂 瑠美さん\n作品名：Change Dimensions!!（２Ｄ
 と３Ｄモードを切替えながら進めていく アクションゲ
 ーム）発表者：大原テクノデザインアート専門学校　
 システム工学科３年　石田 啓悟さん、システム工学科
 ３年　高橋 範昌さん、システム工学科３年　戸田 全
 紀さん\n\n進　行：FITEA(福井情報技術者協会小島　富治
 雄氏（(株)福井コンピュータアーキテクト）福井コン
 ピュータアーキテクト株式会社 シニアエキスパート。
 Microsoft MVP for C# として C# や .NET が専門だが、最近は HT
 ML5 や iOS、Android での開発にも興味がある。FITEA (福井
 情報技術者協会) などでスタッフとして活動。趣味は
 英語の勉強とジャグリング。\n\n\n\n16:50\n\n「ＭＡ９県
 内受賞者によるミニセミナー」MA9でメディア・パート
 ナー賞を獲得した、福野泰介氏と木下剛志氏に、受賞
 したアプリの紹介や、今気になっている技術テーマに
 ついてお話いただきます。講師：福野 泰介 氏（（株
 ）jig.jp）めがね会館にある、モバイルB2Cソフトウェア
 の株式会社jig.jp、代表。一日一創をモットーにアプリ
 やハードを創り続けている。オープンデータ伝道師。
 ブログ http://fukuno.jig.jp/\n講師：木下 剛志氏（（株）jig
 .jp）福井県鯖江市の株式会社jig.jpにてソフトウェア開
 発者。浮かんだアイディアのアプリを、HP「自作アプ
 リ部屋」(http://tys11.net/) に保管し、Mashup Awards等のコン
 テストに備えている\n\n\n\n\n17:30\n\nＭＡ９グランプリ受
 賞記念セミナー「1click飲み 開発秘話」（予定）Mashup Aw
 ards 9で最優秀賞を受賞した「1Click飲み」の発案から開
 発、そしてその後の展開について。さらに、メディア
 と情報処理、ハードウェアの融合領域の面白さについ
 て具体例を織り交ぜて紹介し、マッシュアップの世界
 に誘います。講師：河本健氏（チーム：ガリとマチョ
 、東京）日立中央研究所の情報系研究者。本業の傍ら
 、メディア処理を活用した様々なサービスやガジェッ
 トを開発し、Mashup Awards 9にて最優秀賞(1click飲み)およ
 びハードウェア部門賞(Tempescope)を受賞。\n\n\n\n18:20\n\n
 交流会（ドリンク、軽食付）※発表者の作品を体験で
 きるコーナーも設ける予定です。\n\n\n19:30\n閉会\n\n\n■
 日程\n\n　平成26年2月22日（土） 13:00-19:30\n　（セミナ
 ー）13:00-18:10／（交流会）18:20-19:30\n\n■場所\n\n　福井
 県産業情報センター　(坂井市丸岡町熊堂3-7-1-16)\n\n■
 参加費\n\n　1\,000円（税込み）　※学生無料\n\n　※交
 流会参加費込み\n　※セミナーだけ参加する場合も参
 加料が必要です\n\n■主催\n\n　公益財団法人ふくい産
 業支援センター\n\n■共催\n\n　株式会社リクルートホ
 ールディングス\n\n■後援\n\n　福井県ＩＴ産業団体連
 合会\n\n■協力\n\n　福井情報技術者協会\n\n■定員\n\n　
 60名\n\n■お申し込み\n\n　お申し込みフォームは上部に
 あります　>> ここをクリック\n\n■本件に関するお問い
 合わせ先■\n\n　公益財団法人 ふくい産業支援センタ
 ー\n　販路開拓支援部　Eビジネス支援グループ　　担
 当：大木\n　電話：0776-67-7411　e-mail：ebiz-g@fisc.jp\n\n　\n
 \n【おまけ】なぜ福井でマッシュアップサミットなの
 か？\n\n　ここまで読み進めていただいた方の中には、
 「それにしても、なぜ福井でマッシュアップサミット
 が開かれるのか？」と疑問に思われる方も多いと思い
 ます。\n　これにはMashupAwardsと福井県の関係を語らな
 いといけないのですが・・・長くなるのでザクッとい
 いますと、これま９回開催されたMashupAwardsで２回まで
 もが福井県の開発チームがグランプリを獲得したとい
 う「Mashup王国（自称）」だからなのです。\n　最近で
 は本県鯖江市がオープンデータの活用に全国でも先進
 的な事例として評価を受けるなど、官民あわせてＩＴ
 活用に積極的な県でもあります（鯖江市ではGoogleGlass
 のフレーム開発の動きもあります）。\n　また、自県
 でサミットを開催することで、（自称）王国の座を死
 守するためのレベルアップするとともに、MashupAwardsの
 価値を上げることにより王国としての福井県の価値も
 向上させるという目論見もあるとかないとか。\n　そ
 んなこんなで、福井県でマッシュアップサミットが行
 われるというわけです。\n\n【関連イベントのご案内】
 Twilio API 勉強会 @福井\n\n地元開発者が関連イベント「Tw
 ilio API 勉強会 @福井」を企画してくれました。\n詳細は
 こちらでご確認ください。\n\n\nTwilio API 勉強会 @福井\n
LOCATION:福井県産業情報センター　マルチホール 福井県
 坂井市丸岡町熊堂3-7-1-16
URL:https://techplay.jp/event/2222?utm_medium=referral&utm_source=ics&utm_c
 ampaign=ics
END:VEVENT
END:VCALENDAR
