BEGIN:VCALENDAR
VERSION:2.0
PRODID:-//https://techplay.jp//JP
CALSCALE:GREGORIAN
METHOD:PUBLISH
X-WR-CALDESC:ビジネスモデルキャンバス×ピクト図解　～ピ
 クト図解をアイデア発想として使ってみよう！～
X-WR-CALNAME:ビジネスモデルキャンバス×ピクト図解　～ピ
 クト図解をアイデア発想として使ってみよう！～
X-WR-TIMEZONE:Asia/Tokyo
BEGIN:VTIMEZONE
TZID:Asia/Tokyo
BEGIN:STANDARD
DTSTART:19700101T000000
TZOFFSETFROM:+0900
TZOFFSETTO:+0900
TZNAME:JST
END:STANDARD
END:VTIMEZONE
BEGIN:VEVENT
UID:2237@techplay.jp
SUMMARY:ビジネスモデルキャンバス×ピクト図解　～ピク
 ト図解をアイデア発想として使ってみよう！～
DTSTART;TZID=Asia/Tokyo:20140211T100000
DTEND;TZID=Asia/Tokyo:20140211T170000
DTSTAMP:20260420T153037Z
CREATED:20140127T191021Z
DESCRIPTION:イベント詳細はこちら\nhttps://techplay.jp/event/2237?
 utm_medium=referral&utm_source=ics&utm_campaign=ics\n\n第14回　ピク
 活IT　勉強会　ビジネスモデルキャンバス×ピクト図解
 \n\n　～ピクト図解をアイデア発想として使ってみよう
 ！～\n\n2月11日（祝）の10:00から、第14回 ピク活IT勉強
 会を開催します。\n\n今回は、ピクト図解をアイデア発
 想のツールとして使い、ビジネスモデル・ジェネレー
 ションと連携しながら、1つのビジネスモデルを深化す
 るワークショップを行います。\n\nピクト図解の初心者
 の方でも参加頂けるよう工夫しております。また、IT
 業界従事者に限らず、業界を超えた情報交換の場も兼
 ねましてお気軽にご参加ください。\n\nピクト図解って
 ？\n\nビジネスモデルを「ヒト、モノ、カネ」の3つに
 絞って表現する図式モデルで、リクルート社で15年働
 いていた板橋悟氏が考案しました。\n\nモデルをシンプ
 ルに表現するには、3w1hが重要であると説き、その要素
 をとてもシンプルなアイコンで示します。\n→3w1hを解
 説する板橋氏のHPはこちら。\n\nビジネスモデルキャン
 バスって？\n\nローザンヌ大学のイヴ・ピニュール教授
 が、学生だったアレックス・オスターワルダー氏らと
 ともに開発したメソッドです。ビジネスを始める上で
 、必ず確認しておくべき9つの視点を「ブロック」で可
 視化していきます。これにより、漏れなく必要な要素
 を確認することができるため、スタートアップでサー
 ビスを検討するや、現在の事業内容を再検討する際な
 どに有効です。\n→Business Model Generation公式Webページは
 こちら。\n\n＜開催概要＞\n\n時　間：2月11日（祝） 10:0
 0～17:00 （※09:45より受付開始）\n会　場：文京シビッ
 クセンター　５階会議室\n住　所：東京都文京区春日1
 －16－21\n参加費：備品実費(500円程度)\n\n＜内容(仮)＞\n
 \n※以下は仮のスケジュールです。\n<午前>\n・ビジネ
 スモデルキャンバス（解説）\n・現在のビジネスモデ
 ルを描く！（ビジネスモデルキャンバス）\n・課題を
 決める！\n・発表＆フィードバック\n<午後>\n・ピクト
 図解（解説）\n・新たなビジネスモデルを考える！（
 アイデア発想）\n・生まれたアイデアをキャンバス＆
 ピクト図で描いみる！（ピクト図解＆キャンバス）\n
 ・新たなビジネスモデルをまとめる（キャンバス）\n
 ・発表＆フィードバック\n・ふりかえり\n\n＜参加条件
 ＞\n\n\nピクト図解を読んで意味がわかる\nピクト図解
 の無料版を読んでくる\n※ ピクト図解の電子書籍版は
 以下からご確認ください。\n\n『ピクト図解Lite』 for  iP
 hone（無料）『ピクト図解Lite』 for  Android（無料）\n\n※
  ピクト図解について、日経ビジネスオンラインで連載
 中です。ピクト図解（R）で実現　ビジネスモデル創造
 法  \n\n＜こんな方に向いている！＞\n\n\nピクト図解を
 知りたい人\nピクト図解を使って、新しいビジネスモ
 デルの可能性を探りたい人\n新規事業の立ち上げに携
 わっている\nビジネスモデルに興味がある\n＜持ち物＞
 \n\nノート、筆記用具（消せるペン・フリクションがお
 勧め)  \n\n＜主催＞\n\n「ピクト図解 ビジネス活用会 Ｉ
 Ｔ支部」  （ピク活IT）\nIT業界で働くエンジニアに向
 けてピクト図解を広める活動をしています。\n\n※「ピ
 ク活」とは、ピクト図解をビジネスで活用して、成果
 を出そう、キャリアップしようという活動のこと。「
 ピクカツ」と読みます。\n\n＜その他＞\n\nIT業界以外の
 業界でご活躍の方もご参加いただけます。お気軽に参
 加ください。
LOCATION:文京シビックセンター　５階会議室 東京都文京
 区春日1-16-21
URL:https://techplay.jp/event/2237?utm_medium=referral&utm_source=ics&utm_c
 ampaign=ics
END:VEVENT
END:VCALENDAR
