BEGIN:VCALENDAR
VERSION:2.0
PRODID:-//https://techplay.jp//JP
CALSCALE:GREGORIAN
METHOD:PUBLISH
X-WR-CALDESC:2/28(金) Spark Plug "Growth with Passion"：HUBコミュニ
 ティの起業家たちがピッチ
X-WR-CALNAME:2/28(金) Spark Plug "Growth with Passion"：HUBコミュニ
 ティの起業家たちがピッチ
X-WR-TIMEZONE:Asia/Tokyo
BEGIN:VTIMEZONE
TZID:Asia/Tokyo
BEGIN:STANDARD
DTSTART:19700101T000000
TZOFFSETFROM:+0900
TZOFFSETTO:+0900
TZNAME:JST
END:STANDARD
END:VTIMEZONE
BEGIN:VEVENT
UID:2253@techplay.jp
SUMMARY:2/28(金) Spark Plug "Growth with Passion"：HUBコミュニティ
 の起業家たちがピッチ
DTSTART;TZID=Asia/Tokyo:20140228T183000
DTEND;TZID=Asia/Tokyo:20140228T213000
DTSTAMP:20260421T175317Z
CREATED:20140128T191009Z
DESCRIPTION:イベント詳細はこちら\nhttps://techplay.jp/event/2253?
 utm_medium=referral&utm_source=ics&utm_campaign=ics\n\n【アントレプ
 レナーたちの、アイデアがカタチになる瞬間】\n\n　チ
 ェンジメーカーと世界を繋ぐプラットフォーム「Impact 
 Hub Tokyo」（東京都目黒区）は、世界を目指す起業家の
 ピッチイベント、昨年9月以来、5ヶ月ぶりに『  Impact Hu
 b Tokyoスパークプラグ “Growth with Passion” Vol.6  』を、20
 14年2月28日（金）に開催致します。\n\n　今回は前回よ
 り5カ月ぶりの開催となりますが、さらにパワーアップ
 し、準備を重ねた起業家達が集い、切磋琢磨する場を
 つくりだします。\n　\n　Impact Hub Tokyoは、世界中で広
 まるImpact Hubコミュニティのネットワークを活かして、
 起業家に必要なスキルやマインドセット、マーケティ
 ングや資金調達ノウハウの提供に留まらず、日本国内
 でのスタートアップ・カルチャーと起業家を支えるエ
 コシステムの形成を目指す、シェアオフィス・コミュ
 ニティ型のプラットフォームです。\n　\n　今回のスパ
 ークプラグは、Impact Hub Tokyoが実施するアントレプレナ
 ープログラム「チーム360」の起業家に加え、Impact Hub Co
 mmunity内からのアントレプレナー達があつまり、ピッチ
 をします。\n\n「チーム３６０」とは：Impact Hub Tokyoの
 実施する起業家育成プログラム。14週間の間にアイデ
 アレベルから事業プランまでに昇華させる、ブートキ
 ャンプ。今回は昨年11月よりスタートし、2月頭までに
 完成させたビジネスを、スパークプラグ内で披露しま
 す。\n　\n\n　起業家たちがもつスパーク（＝ひらめき
 ）を、Impact Hubに集まる人々が持つ、様々なリソースや
 ネットワークに“ プラグイン ”すること＝『 スパー
 クプラグ 』。本イベントに参加する起業家たちは、ア
 イデアやビジョンに留まらず、着実にミッションを達
 成するための事業プランをプレゼンテーションするこ
 とで、その社会的意義に共感する人々や仲間、そして
 その実現に向け必要なリソースを集めることを目指し
 ます。\n　\n　スパークプラグは「 参加型ピッチイベ
 ント 」。自分自身も新規で事業を立ち上げたいという
 方、Impact Hub Tokyoのメンバーシップに興味があるという
 方、起業家精神をもった人々と、アツい出会いをした
 いという方。見るだけでなく、参加するあなた自身も
 アクティブな繋がりをオフラインの環境で拡げてくだ
 さい。　　\n\n\n\n出場ピッチャー紹介\n　\n1. 原っぱ商
 会 by 子ども原っぱ大学"一緒に作る 一緒に感じる 親子
 の「イマ、ココ」を自宅に届ける"塚越　暁（つかこし
 　あきら）※「Team 360」の卒業生\n子どもと自然の中で
 遊んだりモノを作ることが好きで、そんな機会をシェ
 アしたいという素朴な動機からスタートした事業。様
 々な親との対話の中で得たのは、子に対する『生きる
 ために必要な何かを手にしてほしい』という親の共通
 の思い。そのために一番大切なのは親と子が「イマ、
 ココ」を一緒に感じ、大人も全力で遊ぶこと。 原っぱ
 商会 は、その体験を自宅まで届けるサービス。これに
 より、受け身ではなく主体的に自分の人生を生きる大
 人と子どもを増やしていくことを目指す。\n　\n　\n　\
 n2. fermee -Fermentation Tuner-"一日として同じ味はない 発酵
 食品づくりのサポートサービス & プロダクト"山本　尚
 明（やまもと　なおあき）※「Team 360」の卒業生\n東南
 アジアでヤシの実からお酒を作った実体験が現在の発
 酵食品のサポートサービス & プロダクトを作るきっか
 けに。加工食品や家電の進化によって、食は簡単・手
 軽になった一方、「食」に関して、自分の生身の体験
 や、感動を忘れがちである昨今。発酵食品をより手軽
 に、且つ美味しく作れる fermee によって、発酵の過程
 を楽しむ体験、食べ物と大事に付き合える生活をサポ
 ートする。\n　\n　\n　\n3.  Respond Reader"Reading Better."読む
 ことをより楽しく、快適に。Marc-Alexandre Cartiant（マー
 クアレクサンドレ・カーティアント）\n　\n6年前、来
 日。日本語習得の難しさを感じ、自身で読む事を助け
 る機能を開発。人は、外国語を覚えたり、何か障害が
 あって読む事に支障があるとき、集中することはおろ
 か、読み続けるのは至難の業。 Respond Reader は、非常に
 シンプルでわかりやすいシステムで読み続けていくた
 めのサポートをし、外国語の習得に励む人や、病気等
 で読む事が困難な人が、より楽しく読む事に親しめる
 ことを目指す。\n　\n　\n　\n4. september's"顧客と一緒に
 ビジネスを作る、新たなスタートアップのスタイル" \n
 高橋　壮（たかはし　そう）※ 「Team 360」の卒業生\n
 様々なスタートアップがある中、事業は時に狙うべき
 顧客像が違っている為に埋もれていってしまう可能性
 がある。 september's は、その課題の解決へと導くサービ
 ス。自分のアイディアに興味を持っているのはどんな
 人達なのか、またそれは何人位いるのか。オンライン
 上で様々なアイディアをブラッシュアップする「場」
 をつくり、その興味を持った人（将来の顧客）と一緒
 にアイディアを形にしていく、新しい「クラウド（群
 衆）」のスタイルを提案する。\n\n　\n　\n5. ポップイ
 ンサイト"ユーザ視点をもっと間近にし、デジタルな仕
 事をもっと楽しく"\n喜多　慧（きた　さとし）\n　\n「
 ユーザがサービスをどのように使っているのか、どん
 なことに困っているのかが実際に分かったら、もっと
 クリエイターやサービス運営者のやる気につながるの
 ではないか」という純粋な気づきからスタートしたサ
 ービス。 ポップインサイト は、通常のA/Bテストなど
 の最適化とは異なるアプローチで、より根源にあるユ
 ーザ心理そのものを発見していくシステムを提供する
 。\n　\n　\n　\n　\n【開催概要】\nタイトル：『Impact Hub
  Tokyo Spark Plug × Team 360 “Growth with Passion”』\n日　　時
 ：2014年2月28日（金）19：00(開場18：30)〜21：30\n場　　
 所：Impact Hub Tokyo \n                 〒153-0063東京都目黒区
 目黒2-11-3\nプログラム：「チーム360」起業家 + Impact Hub 
 Tokyo コミュニティのメンバーによるプレゼンテーショ
 ン\n\n定　　員：120名\n　　　　\n参加費 (飲み物、軽食
 含む)：ピッチャー\, 投資家：無料\n　　　　　　　　
 　　　　　オーディエンス ：￥1000（前払い）\n　　　
 　　　　　　　　　　　　　　　　　　 ￥1500（当日
 払い）
LOCATION:Impact Hub Tokyo 東京都目黒区目黒2-11-3印刷工場一階 
 2-11-3\, Meguro\, Meguro-ku\, Tokyo\, Japan
URL:https://techplay.jp/event/2253?utm_medium=referral&utm_source=ics&utm_c
 ampaign=ics
END:VEVENT
END:VCALENDAR
