BEGIN:VCALENDAR
VERSION:2.0
PRODID:-//https://techplay.jp//JP
CALSCALE:GREGORIAN
METHOD:PUBLISH
X-WR-CALDESC:Smart Communication Award 2014 説明会 in 東京 Vol.1
X-WR-CALNAME:Smart Communication Award 2014 説明会 in 東京 Vol.1
X-WR-TIMEZONE:Asia/Tokyo
BEGIN:VTIMEZONE
TZID:Asia/Tokyo
BEGIN:STANDARD
DTSTART:19700101T000000
TZOFFSETFROM:+0900
TZOFFSETTO:+0900
TZNAME:JST
END:STANDARD
END:VTIMEZONE
BEGIN:VEVENT
UID:2259@techplay.jp
SUMMARY:Smart Communication Award 2014 説明会 in 東京 Vol.1
DTSTART;TZID=Asia/Tokyo:20140212T190000
DTEND;TZID=Asia/Tokyo:20140212T220000
DTSTAMP:20260421T050217Z
CREATED:20140128T191033Z
DESCRIPTION:イベント詳細はこちら\nhttps://techplay.jp/event/2259?
 utm_medium=referral&utm_source=ics&utm_campaign=ics\n\n\n\n\n            
 Smart Communication Award 2014開催案内\n        \n    \n\n\n         
    概要\n        \n        \n            Twilioサービスをつかっ
 た新しい事業を生み出すためのコンテストです。昨年
 に引き続き２度目の開催となります。\n            昨年
 は23作品のアイデア応募があり、14作品がハッカソンに
 参加、5作品がファイナルステージに進み、最優秀賞に
 輝いた作品には様々な事業化支援を行ってまいりまし
 た。\n            今年は、様々な企業とのタイアップに
 より、参加いただいた作品の中で事業の可能性のある
 ものがあれば、最優秀作品だけでなく、全ての作品に
 支援の可能性を広げられるようバージョンアップいた
 しました。また、最優秀賞に選ばれた作品には、アメ
 リカで行われる「TwilioCON4」内でのプレゼンの権利が与
 えられ、世界中の人々にサービスの紹介ができます。T
 wilioを使った新しい事業について、是非一緒に考えて
 いきましょう！\n        \n    \n\n\n            案内・応募ペ
 ージ\n        \n        \n            Smart Communication Award 2014 
 詳細はこちら\n        \n    \n\n\n            アイデア募集期
 間\n        \n        \n            2014年1月29日〜3月24日 9:00\n 
        \n    \n\n\n            賞品\n        \n        \n            
 最優秀賞　合計50万円相当\n                          ・賞金
 　10万円\n                          ・Twilioポイント 10万円分\
 n                          ・TwilioCON4招待券\n                      
     （カンファレンス参加費＋航空券　合計30万円相当
 ）\n                          ・TwilioCON4内でのサービス紹介
 （※9月までにサービスリリースをしていた場合に限る
 ）TwilioCON 2013関連記事リンク（日本語）TwilioCON 2013の詳
 細はこちら。\n        \n    \n■ イベントのご案内\n・開
 催日時：2014年2月12日(水) 19:00 ~ 21:00(開場：18:30)\n・参
 加対象：開発者、サービス企画者、デザイナ、電話API
 に興味を持っている方\n　　　　　　※ネットワーク
 ビジネスなどの勧誘行為を目的とした方の参加はお断
 りしています。\n　　　　　　当日、勧誘行為を発見
 した場合、退場していただきます。\n・参加費用：無
 料（軽食、ドリンクなどを提供予定です。）\n・会場
 　　：東京都千代田区麹町3-6　住友不動産麹町ビル3号
 館(受付：6F)\n　　　　　　http://www.kddi-webcommunications.co.
 jp/corporate/map.html\n　　　　　　※最寄駅　有楽町線麹
 町駅（徒歩2分）、半蔵門線半蔵門駅（徒歩5分)\n・会
 場情報：無線LAN、電源、ホワイトボードのご利用がで
 きます。\n\n■ 開発素材\n\n  ◎ 株式会社ローソン\n  ・
 ローソンが運用しているソーシャルメディアAPI\n  ・あ
 きこロイドちゃん音声データ\n  ・ローソンの店舗位置
 情報\n\n  ◎ 株式会社 エーアイ\n  ・ウェブサービス等
 から音声合成エンジンをSaaS型で利用できるサービス\n\
 n  ◎ 株式会社 アドバンスト・メディア\n  ・クラウド
 環境で音声認識処理を実現するWEB API\n\n\n■タイムスケ
 ジュール\n　18:30 ～　　　　受付開始・開場\n　19:00 〜
  20:00　説明会　\n　　　　　　　　・Twilio Smart Communicat
 ion Award説明\n　　　　　　　　・Twilioについて\n　　　
 　　　　　・開発素材説明：株式会社 ローソン様\n　
 　　　　　　　・開発素材説明：株式会社 エーアイ様
 \n　　　　　　　　・開発素材説明：株式会社 アドバ
 ンスト・メディア様\n　20:00 〜 21:00　ワークショップ\n
 　21:00 〜 21:30　発表タイム\n　21:30 〜 22:00　片付け
LOCATION:KDDIウェブコミュニケーションズ セミナールーム 
 〒102-0083 東京都千代田区麹町三丁目６番地 住友不動産
 麹町ビル３号館
URL:https://techplay.jp/event/2259?utm_medium=referral&utm_source=ics&utm_c
 ampaign=ics
END:VEVENT
END:VCALENDAR
