BEGIN:VCALENDAR
VERSION:2.0
PRODID:-//https://techplay.jp//JP
CALSCALE:GREGORIAN
METHOD:PUBLISH
X-WR-CALDESC:第4回elasticsearch勉強会
X-WR-CALNAME:第4回elasticsearch勉強会
X-WR-TIMEZONE:Asia/Tokyo
BEGIN:VTIMEZONE
TZID:Asia/Tokyo
BEGIN:STANDARD
DTSTART:19700101T000000
TZOFFSETFROM:+0900
TZOFFSETTO:+0900
TZNAME:JST
END:STANDARD
END:VTIMEZONE
BEGIN:VEVENT
UID:2599@techplay.jp
SUMMARY:第4回elasticsearch勉強会
DTSTART;TZID=Asia/Tokyo:20140421T190000
DTEND;TZID=Asia/Tokyo:20140421T210000
DTSTAMP:20260420T111557Z
CREATED:20140205T191038Z
DESCRIPTION:イベント詳細はこちら\nhttps://techplay.jp/event/2599?
 utm_medium=referral&utm_source=ics&utm_campaign=ics\n\n遅刻した場合
 は入場できませんのでご注意ください。\n\n内容＆スピ
 ーカーさんについては都度更新します。\n\n■タイムテ
 ーブル\n\n\n株式会社シーマーク　大谷　純　@johtani\nタ
 イトル：「アナライズ処理の仕組みとクエリDSL」\n株
 式会社マーズフラッグ R&D部　やまかつ さん　@yamakatu\n
 タイトル：「elasticsearch-hadoopを使ってごにょごにょし
 てみる」\n株式会社アットウェア 佐竹雅央さん @madgaoh 
 河村康爾さん @ijokarumawak\nタイトル: 「CouchbaseとElasticsea
 rchが手を結んだら」\nWantedly\, Inc 内田誠悟さん @spesnova\
 nタイトル：未定\nLT  \n\n\n株式会社富士通ソフトウェア
 テクノロジーズ 滝田聖己さん @pisatoshi  「Elasticsearchの
 スクリプティング（仮）」\nベイシス・テクノロジー
 株式会社 江口天さん\n「Elasticsearch 向け多言語解析プ
 ラグイン」\n時間、エントリがあれば行います。\n\n勉
 強会終了後、同フロア別室にて懇親会を開催予定です
 。\n1500円程度の会費を想定しています。\n勉強会入り
 口（41F）にて、回収いたしますので、参加の旨を伝え
 てください。\n\n\n\nスピーカー＆内容については随時
 更新します。\n\n開場は18時15分を予定しております。\n
 \n※ご来場にあたっての注意事項\n　会場への入場はセ
 キュリティカードが必要となります。\n　エスカレー
 ター横1Fに受付（2F受付ではないので注意）を設置しま
 す。\n　受付の設置は勉強会開始までとし、遅刻され
 た場合は入場できません。\n　受付にてチケット番号
 を伝えていただき、セキュリティカードを受け取って
 から2Fゲートより入場してください。\n　また、セキュ
 リティカードは勉強会終了後に2Fゲート出口にてスタ
 ッフが回収いたします。\n　（やむを得ず途中退場さ
 れる方は、主催者または運営スタッフに声をかけてく
 ださい）\n\n※参加にあたっての注意事項\n人材紹介も
 しくは転職や就職の斡旋・勧誘を目的としたご参加は
 ご遠慮ください。\n\n※写真、動画撮影について\n勉強
 会に参加される方、スピーカーの方によっては撮影を
 好まない方もいらっしゃいます。配慮のうえ、断りを
 入れてから撮影をお願い致します。
LOCATION:リクルートテクノロジーズ 東京都千代田区丸の
 内1-9-2 グラントウキョウサウスタワー
URL:https://techplay.jp/event/2599?utm_medium=referral&utm_source=ics&utm_c
 ampaign=ics
END:VEVENT
END:VCALENDAR
