BEGIN:VCALENDAR
VERSION:2.0
PRODID:-//https://techplay.jp//JP
CALSCALE:GREGORIAN
METHOD:PUBLISH
X-WR-CALDESC:Couchbase MeetUP Tokyo - #7 - 祝ver 2.5！ユーザ事例も
 あるよ -
X-WR-CALNAME:Couchbase MeetUP Tokyo - #7 - 祝ver 2.5！ユーザ事例も
 あるよ -
X-WR-TIMEZONE:Asia/Tokyo
BEGIN:VTIMEZONE
TZID:Asia/Tokyo
BEGIN:STANDARD
DTSTART:19700101T000000
TZOFFSETFROM:+0900
TZOFFSETTO:+0900
TZNAME:JST
END:STANDARD
END:VTIMEZONE
BEGIN:VEVENT
UID:2633@techplay.jp
SUMMARY:Couchbase MeetUP Tokyo - #7 - 祝ver 2.5！ユーザ事例もある
 よ -
DTSTART;TZID=Asia/Tokyo:20140225T190000
DTEND;TZID=Asia/Tokyo:20140225T210000
DTSTAMP:20260423T140307Z
CREATED:20140207T191046Z
DESCRIPTION:イベント詳細はこちら\nhttps://techplay.jp/event/2633?
 utm_medium=referral&utm_source=ics&utm_campaign=ics\n\n2014年2月11日
 にCouchbase Server 2.5がリリースされました！\n今回はリリ
 ースノートの解説を交え、国内事例、新クエリ言語『N
 1QL』について紹介したいと思います。\n\n■アジェンダ
 \nOpening: Viber案件の事例紹介！by Eric Gold from Couchbase (http
 ://www.couchbase.com/presentations/couchbase-tlv-2014-couchbase-at-viber)
 \n1) Couchbase Server 2.5の解説（http://docs.couchbase.com/couchbase-
 manual-2.5/cb-release-notes/ ）\n2) 事例紹介1 - Wizcorp（http://www
 .wizcorp.jp/ja/）\n3) 事例紹介2 - サイバーエージェント（h
 ttp://www.cyberagent.co.jp/）\n4) Couchbase Serverの新クエリN1QLに
 ついて（http://www.couchbase.com/communities/jp/n1ql）\n※N1QLと
 は？：SQLライクなCouchbase社が独自に開発したクエリ言
 語。\nCouchbase ServerはNoSQLデータベースですが、N1QLを使
 用することによりSQLライクな検索が可能となります。\
 n\n～開催場所をご提供頂きました株式会社ネクスト様
 にこの場をお借りして御礼申し上げます～
LOCATION:株式会社ネクスト 東京都港区港南二丁目3番13号 
 品川フロントビル3F 会議室2
URL:https://techplay.jp/event/2633?utm_medium=referral&utm_source=ics&utm_c
 ampaign=ics
END:VEVENT
END:VCALENDAR
