BEGIN:VCALENDAR
VERSION:2.0
PRODID:-//https://techplay.jp//JP
CALSCALE:GREGORIAN
METHOD:PUBLISH
X-WR-CALDESC:#MA10　5席増席！【初心者向け】オープンハー
 ドウェア アイデアワークショップ by Mashup Awards
X-WR-CALNAME:#MA10　5席増席！【初心者向け】オープンハー
 ドウェア アイデアワークショップ by Mashup Awards
X-WR-TIMEZONE:Asia/Tokyo
BEGIN:VTIMEZONE
TZID:Asia/Tokyo
BEGIN:STANDARD
DTSTART:19700101T000000
TZOFFSETFROM:+0900
TZOFFSETTO:+0900
TZNAME:JST
END:STANDARD
END:VTIMEZONE
BEGIN:VEVENT
UID:2741@techplay.jp
SUMMARY:#MA10　5席増席！【初心者向け】オープンハードウ
 ェア アイデアワークショップ by Mashup Awards
DTSTART;TZID=Asia/Tokyo:20140227T190000
DTEND;TZID=Asia/Tokyo:20140227T222000
DTSTAMP:20260420T073936Z
CREATED:20140217T191032Z
DESCRIPTION:イベント詳細はこちら\nhttps://techplay.jp/event/2741?
 utm_medium=referral&utm_source=ics&utm_campaign=ics\n\nMashup Awards 10 
 開催前特別企画vol.01!!\n\n毎年夏から秋にかけて開催さ
 れる\n日本最大級のWeb開発コンテスト MashupAwards \n\n2014
 年は遂に「Mashup Awards 10」（二桁！）の開催を予定して
 おり、\n特別記念といたしまして、定期的に「特別企
 画」の開催を準備して参ります。\n\n今回はその第1回
 目として、「オープンハードウェアを扱うアイデアワ
 ークショップ！」を開催！！\n\nMashup Awardsでも近年、
 応募が着実に増えつつある「ハードウェア」作品。\n
 今回は特にソフトウェアエンジニアの方でもアクセス
 しやすい、オープンソースハードウェアを扱ったアイ
 デアワークショップ（アイデアソン）を開催いたしま
 す。\n\nハードウェア初心者の方も、、\nMashup Awards参加
 初めての方も、、\n\nまずは 「見てみる」「知ってみ
 る」「触れてみ」 て頂き、\n今年のMashup Awardsに応募す
 る（かもしれない）、アイデアのヒントを見つけまし
 ょう！\n※本イベントの継続企画として、オープンハ
 ードウェア関連のハッカソンも企画中です（3月下旬）
 \n\nワークショップ用 オープンハードウェア紹介\n\n※
 各社より当日簡単な製品紹介を頂き、アイデアの種と
 して頂きます\n\n1.mbed(by ARM） https://mbed.org/\nARM Cortex-Mプ
 ロセッサコアを使用したMCU開発プラットフォームです
 。オンラインコンパイラやコンポーネントライブラリ
 を使用して、センサ制御やネットワーク接続機能を迅
 速に開発することが可能です。\n\n2.vinclu（by vinclu) http:
 //www.vinclu.me/\n\nウィンクルはスマホアプリと連携して
 光るイヤホンアプセサリーです。着信情報を光で知ら
 せたり、ライブを盛り上げたり、アプリの機能に合わ
 せて、様々な楽しみ方ができます。\n\n3.konashi（by ユカ
 イ工学）http://konashi.ux-xu.com/　\nkonashi(こなし)は、スマ
 ートフォン・タブレット端末のための、フィジカル・
 コンピューティングツールキットです。\nWebやアプリ
 から簡単にハードウェアにアクセスする開発環境を提
 供し、ハードウェア/Webエンジニア・デザイナが連携し
 て手軽にプロトタイピングできるツールです。\n\n4.Scan
 Snap（by PFU）http://scansnap.fujitsu.com/jp/support/sdk/info-sdk.html\
 nScanSnapは色やサイズの異なる原稿でも「ワンプッシュ
 」でカンタン・スピーディーに電子化するドキュメン
 トスキャナです。 \nスマートフォン/タブレット、クラ
 ウドサービスとも連携でき、イメージデータの活用方
 法は無限大です。\n\n5.Hue（by PHILIPS） http://www.meethue.com/
 ja-JP\nPhilips hue（ヒュー）は、1600万色以上の光と多彩な
 アプリをつなぐ、まったく新しい照明システム。音楽
 や映像との連動、天気予報やメール受信のお知らせ、
 地球の裏側からでも可能なワイヤレス操作など、あか
 りにできることをユニークに広げていきます。hueにで
 きること、考えてみませんか？\n\n6.LEGO マインドスト
 ーム（EV3)（by アフレル）http://www.afrel.co.jp/lineup/mindstorm
 -ev3\n教育版LEGO MINDSTORMS EV3は、複数のモーターやセンサ
 ーを簡単にビルドアップでき、物理的な動きを伴うプ
 ロトタイピングに最適なデバイスです。 Windows、Android
 からも制御できます。\n\nアイデアワークショップの進
 め方\n\n\nオープンハードウェアの情報インプット\n各
 社×5分〜10分程度\n4\,5名ずつのランダムチームにわか
 れて頂き、オープンハードウェアを活用した、「サー
 ビス」をブレスト頂きます。\n各チームのアイデアを3
 分で発表\nブレストのアイデアを、スケッチブック等
 を活用し3分にて発表頂きます\n審査\n参加者全員でア
 イデアに投票し、最優秀アイデアを選出します\n### 賞
 品\n・最優秀アイデア賞：当日発表いたします\n・ハー
 ドウェア各賞：\nmbed賞：mbed NXP LPC1768 + mbed Application Boar
 d\nウィンクル賞：1人1個ウィンクルをプレゼント\nkonash
 i賞：konashiのステッカーシール\nHue賞： Philipsボールペ
 ン\nScanSnap賞：S1100 x 1台/ Tシャツ x 5枚\nアフレル賞：レ
 ゴ社製グッズ\n※その他企業賞は後日追加いたします\n
 \n開催概要\n\n名称：【初心者向け】オープンハードウ
 ェア アイデアワークショップ by Mashup Awards #MA10 \n日時
 ：2014年2月27日（木）19:00～22:20　※18:30〜開場\n場所：
 メディアテクノロジーラボ（銀座）\n住所：東京都中
 央区銀座7-2-6　リクルートアネックス1ビル　B1F\n費用
 ：無料\n主催：Mashup Awards実行委員会\n協力：株式会社
 リクルートホールディングス メディアテクノロジーラ
 ボフードスポンサー： ScanSnap(by PFU)、Hue（PHILIPS） \n\n
 当日のタイムスケジュール（予定）\n\n18:30〜：開場\n19
 :00〜：オープニング（MA事務局）\n19:10〜：ハードウェ
 ア説明6社\n19:50〜：アイデアワークショップ ルール説
 明\n20:00〜：アイデアワークショップ（90分）※軽食と
 アルコールが出ます\n21:30〜：アイデア発表\n22:00〜：
 相互投票、投票結果発表、表彰\n22:15〜：みんなで写真
 撮影\n22:20〜：交流会（〜23:30完全撤収）\n\n※開催に関
 する緊急なお知らせ等は以下よりご連絡・公開させて
 頂きます\nFacebookページ： https://www.facebook.com/mashupawards\
 nFacebookグループ：https://www.facebook.com/groups/382075595204788/\
 nMashupAwards Twitter： https://twitter.com/mashupaward\n\nよくある
 質問\n\nQ:何をするイベントなの？\nA:オープンハードウ
 ェアについて学び、チームごとにわかれ議論・ブレス
 トを行いアイデアを競いあうイベントになります。\n
 ※チームは事務局にて調整させていただきます\n\nQ:LAN
 や電源は使えますか？\nA:会場ではゲスト用無線LAN・電
 源が利用可能です。\n\nQ:懇親会は参加必須なの？\nA:懇
 親会は参加必須ではありません。アイデアソンのみで
 お帰りいただいても結構です。\n\nQ:参加者の条件は？\
 nA:特にございません。MashupAwardsに参加頂いた方も、頂
 いてない方もみなさまご参加頂けます。\n\nQ:どのよう
 な職種の方が来ますか？\nA:エンジニア・開発者の方が
 多いと想定しております。\nもちろんデザイナーやそ
 の他職種の方も参加頂いて結構です\n\nQ:開発できなく
 ても平気なの？\nA:もちろん大丈夫です！\n\nQ:友達と参
 加してもいいですか？\nA:ご友人との参加も大歓迎です
 。同じチームになりたい場合、当日お申し出ください
 。\n※ご友人の方もATNDで参加登録をお願いします。\n\n
 Q:持ち物は？\nA:手ぶらOKです！筆記用具・スケッチブ
 ック・ホワイトボードはこちらで用意します。
LOCATION:Media Technology Labs（メディアテクノロジーラボ） 
 東京都中央区銀座7-2-6　リクルートアネックス1ビル　B
 1F
URL:https://techplay.jp/event/2741?utm_medium=referral&utm_source=ics&utm_c
 ampaign=ics
END:VEVENT
END:VCALENDAR
