BEGIN:VCALENDAR
VERSION:2.0
PRODID:-//https://techplay.jp//JP
CALSCALE:GREGORIAN
METHOD:PUBLISH
X-WR-CALDESC:XP祭り関西2014  ~やってみよう！XP~
X-WR-CALNAME:XP祭り関西2014  ~やってみよう！XP~
X-WR-TIMEZONE:Asia/Tokyo
BEGIN:VTIMEZONE
TZID:Asia/Tokyo
BEGIN:STANDARD
DTSTART:19700101T000000
TZOFFSETFROM:+0900
TZOFFSETTO:+0900
TZNAME:JST
END:STANDARD
END:VTIMEZONE
BEGIN:VEVENT
UID:3144@techplay.jp
SUMMARY:XP祭り関西2014  ~やってみよう！XP~
DTSTART;TZID=Asia/Tokyo:20140426T104500
DTEND;TZID=Asia/Tokyo:20140426T170000
DTSTAMP:20260421T045722Z
CREATED:20140303T192003Z
DESCRIPTION:イベント詳細はこちら\nhttps://techplay.jp/event/3144?
 utm_medium=referral&utm_source=ics&utm_campaign=ics\n\n2014年春、関
 西最大級のアジャイル系イベント「XP祭り関西2014」を
 開催します。\n\n今年のXP祭り関西は、「やってみよう
 ！XP」と題し、昨年「わかりやすいアジャイル開発の
 教科書」を上梓された著者の方々とXPJUG関西のスタッ
 フたちが、日々の取り組みや一歩先行くトピックをお
 話しします。\n\nXP祭り関西2014でエクストリーム・プロ
 グラミングを始めましょう。  \n\nスケジュールの詳細
 は、こちらをご覧下さい。\n\nタイトル　： 「XP祭り関
 西2014　～やってみよう！XP～」\n\n開催日時　： 2014年4
 月26日(土) 10:45～17:00 （受付開始10:00）\n\n開催場所　：
  大阪市鶴見区民センター\n\n定員　　　： 200名\n\n参加
 費　　： 無料です。カンパ(書籍　または　ワンコイ
 ン500円)受け付け中。是非よろしくお願いします。※懇
 親会は有料。\n\n懇親会　　： お一人様4\,500円（素敵
 な景品が当たるかも！？「大ジャンケン大会」開催！
 ）\n\n なお、受付メールに「QRコードをイベントの受付
 にて提示してください」と記載されますが、特にご持
 参頂く必要はありません。\n\n▼講演内容\n\n■メイン
 会場　－　定員200名\n\n【オープニングセッション】\n\
 n「わかりやすいアジャイル開発の教科書  ～ 教科書の
 向こうに何が見えてますか？ ～」\n昨年出版されまし
 た、「わかりやすいアジャイル開発の教科書」の著者
 のお3名に、出版記念としてご登壇頂きます。\n\n当日
 、皆様からのご質問にお答えする時間を設けますので
 、アンケートに書籍の内容や、アジャイルに関するご
 質問、お悩み、課題など、ご記入願います。\n\n\n前川
 直也\n西河誠\n細谷泰夫\n【講演１　今日から始めようX
 P】\n開発の現場でどのようにXPに取り組んだかとこれ
 から始める方、\n再チャレンジされる方へのメッセー
 ジ\n\n\n稲田信平\n【講演２　ビジネスモデル・キャン
 バス入門】\n\n翔泳社刊「ビジネスモデル・ジェネレー
 ション」をベースに組織や個人のビジネスモデルを見
 える化し、共有・分析する「ビジネスモデル・キャン
 バス」についてお話します。\nちょっと毛色の違うセ
 ッションですが、ビジネスアイディアを持っている方
 も、独立を考えている方も、何かを企んでいる方も、
 そうでない方も、時代の「変化ヲ抱擁」するために。
 必聴です！\n\n\n山中美智子\n　　Facebook : https://www.facebo
 ok.com/michikokobe\n\n【講演３　XP入門と導入の壁について
 の話】\n\nウォーターフォールをダシに、XPがどんな問
 題をどんな考え方で解決しようとしているか、という
 見方でもってXPの入門的な話をします。\nまた仕事で導
 入する際の壁について、これまでの経験からいくつか
 話をしたいと思います。\n\n\n平田大作\n【講演４　KPT
 によるプロセス改善～あなたはPDCAを回したことがあり
 ますか？】\n\nプログラマから現場のプロジェクトリー
 ダーへ役割が変わった時、チームをスムーズに運営で
 きないタイプの人がいます。\n第三者から眺めてみる
 と、その原因は、プロジェクトリーダーがチームでプ
 ロセス改善を実施した経験が1回もないパターンが多い
 ように見受けられました。\n本講演では、PDCAによるプ
 ロセス改善にKPTというシンプルなフレームワークが大
 変有効であること、さらに、メンバーの自発的行動を
 促進する効果とその仕組みについてお話します。\n\n\n
 あきぴー\n【ライトニング・トークス】（３名）\n\n*募
 集中\n*ライトニング・トーク希望者はLT応募ページか
 ら応募してください。http://xpjug.doorkeeper.jp/events/9151\n（
 ※先着順とさせて頂きます）\n\n■アジャイル和室\n\n
 【アジャイル和室】　－　常時開催\n\n\n世界初「アジ
 ャイルかるた」開催。\n皆様からカンパ頂きました書
 籍の閲覧コーナーを設置します。\nピアソンを偲ぶ会\n
 UST中継(実施予定）\n■懇親会\n\n\nお一人様4\,500円\n\n酔
 虎伝　JR京橋駅前店\n(ＪＲ京橋駅北口を北東へ徒歩2分
 →サンピアザビルＢ１Ｆ)\n\nTEL：050-5828-6842\n当日、17:30
 スタート\n素敵な景品が当たるかも！？「大ジャンケ
 ン大会」開催！\n\n■メディアスポンサー\n\n\n　　\n　
 　\n　　
LOCATION:大阪市鶴見区民センター 大阪市鶴見区横堤5-3-15
URL:https://techplay.jp/event/3144?utm_medium=referral&utm_source=ics&utm_c
 ampaign=ics
END:VEVENT
END:VCALENDAR
