BEGIN:VCALENDAR
VERSION:2.0
PRODID:-//https://techplay.jp//JP
CALSCALE:GREGORIAN
METHOD:PUBLISH
X-WR-CALDESC:Travis CI Night
X-WR-CALNAME:Travis CI Night
X-WR-TIMEZONE:Asia/Tokyo
BEGIN:VTIMEZONE
TZID:Asia/Tokyo
BEGIN:STANDARD
DTSTART:19700101T000000
TZOFFSETFROM:+0900
TZOFFSETTO:+0900
TZNAME:JST
END:STANDARD
END:VTIMEZONE
BEGIN:VEVENT
UID:3237@techplay.jp
SUMMARY:Travis CI Night
DTSTART;TZID=Asia/Tokyo:20140326T190000
DTEND;TZID=Asia/Tokyo:20140326T220000
DTSTAMP:20260419T201651Z
CREATED:20140305T192003Z
DESCRIPTION:イベント詳細はこちら\nhttps://techplay.jp/event/3237?
 utm_medium=referral&utm_source=ics&utm_campaign=ics\n\n継続的インテ
 グレーションを実施する環境を提供するクラウドサー
 ビス、Travis CIについての勉強会を開催します。\n\nTravis
  CIの利用経験などを言語を問わず発表やLTをして頂け
 る方を募集中です。\nまた参加者や発表者の方にTシャ
 ツなどのノベリティが用意できないか調整中です。\n\n
 タイムテーブル\n\n\n\n時刻\n内容\n\n\n19:00 - 19:20\n開場\n\
 n\n19:20 - 19:40\n自己紹介・乾杯\n\n\n19:40 - 20:00\nセッショ
 ン「Travis CI 入門」株式会社 Engine Yard 安藤祐介\nTravis CI
 を使った事が無い方向けに概要と各機能についてご紹
 介します。\n\n\n\n20:00 - 20:10\n休憩\n\n\n20:10 - 20:30\n利用
 事例発表LT大会\n各サービスでの使い方や悩みどころを
 LTでお話頂きます。\n\n「Travis CI + GitHub PR で 安心 Merge L
 ife」skyriser\n「使ってみてはまったところ。」 Wataru Tera
 da\n 「ユビレジにおけるTravis CIの活用について」 kishika
 wa katsumi\n 「iOSアプリ開発でもTravis CI」Koji Hasegawa\n\n\n\n
 \n20:30 -\n懇親会\n\n※プログラムの構成はLTの集まり具
 合などによって調整させていただきます。
LOCATION:株式会社 Engine Yard 東京都渋谷区恵比寿南1-9-4 長
 谷川力ビル 3階
URL:https://techplay.jp/event/3237?utm_medium=referral&utm_source=ics&utm_c
 ampaign=ics
END:VEVENT
END:VCALENDAR
