BEGIN:VCALENDAR
VERSION:2.0
PRODID:-//https://techplay.jp//JP
CALSCALE:GREGORIAN
METHOD:PUBLISH
X-WR-CALDESC:RSpec初心者に送るRSpec最強チュートリアル ～Rub
 yMineもあるよ！～  SonicGarden Study #08
X-WR-CALNAME:RSpec初心者に送るRSpec最強チュートリアル ～Rub
 yMineもあるよ！～  SonicGarden Study #08
X-WR-TIMEZONE:Asia/Tokyo
BEGIN:VTIMEZONE
TZID:Asia/Tokyo
BEGIN:STANDARD
DTSTART:19700101T000000
TZOFFSETFROM:+0900
TZOFFSETTO:+0900
TZNAME:JST
END:STANDARD
END:VTIMEZONE
BEGIN:VEVENT
UID:3474@techplay.jp
SUMMARY:RSpec初心者に送るRSpec最強チュートリアル ～RubyMine
 もあるよ！～  SonicGarden Study #08
DTSTART;TZID=Asia/Tokyo:20140317T193000
DTEND;TZID=Asia/Tokyo:20140317T203000
DTSTAMP:20260420T073921Z
CREATED:20140311T192004Z
DESCRIPTION:イベント詳細はこちら\nhttps://techplay.jp/event/3474?
 utm_medium=referral&utm_source=ics&utm_campaign=ics\n\n概要\n\n「RSpec
 を使ってRailsアプリケーションをテストしたい、でも
 何から始めれば良いかわからない」\n「RSpec、ちょっと
 ぐらいなら使えるけど、きちんと理解できている自信
 がない」\n\nそんなRSpec初心者のRailsプログラマを対象
 にしたRSpecの基礎講座です。\nRSpecを使って既存のRails
 アプリケーションにテストを追加していく過程をライ
 ブコーディングで説明していきます。\n\n教材として先
 日発売された「Everyday Rails - RSpecによるRailsテスト入門
 」を使用しますが、この書籍を持っていない方でも問
 題なく視聴できます。\n\nまた、当日のライブコーディ
 ングではRubyMineを使用します。\nRSpecの説明自体はかな
 り初心者寄りになりますが、中級者以上でもRubyMineに
 興味がある方なら、エディタ乗り換えの参考になるか
 もしれません！\nRSpecだけでなく、RubyMineに関する質問
 を投げてもらうのもOKです。\n\n対象者\n\n\nこれからRSpe
 cを使ってRailsのテストを書こうと思っている方\nある
 程度ならRSpecを使えるが、しっかり理解できている自
 信がない方\nRubyMineの実際の動きを見てみたい方\nなど
 など。\n\n使用する教材\n\n\n\nEveryday Rails - RSpecによるRai
 lsテスト入門\n\n\nどなたでも閲覧できるサンプルペー
 ジを使用します。\n\n\nGitHubで公開されている「Everyday R
 ails - RSpecによるRailsテスト入門」のサンプルアプリケ
 ーション\n\n講師紹介\n\n伊藤 淳一\nSIer、社内SEを経て
 、ソニックガーデンに合流。兵庫県西脇市からリモー
 トで開発を行っている。\n電子書籍「Everyday Rails - RSpec
 によるRailsテスト入門」の翻訳者の一人。\n\n\nBlog: give 
 IT a try\n\nTwitter: @jnchito\n\nGtihub: https://github.com/JunichiIto\n\
 nQiita: http://qiita.com/jnchito\n\n参加方法\n\n本勉強会はUstrea
 mで配信します。\n以下のURLから参加することがででき
 ます。\n\nhttp://www.ustream.tv/channel/sonicgarden-study\n\n質問が
 あればtwitterかfacebookでハッシュタグ #sg_study をつけて
 つぶやいて下さい。\n講師が回答します。(※すべてに
 回答できるとは限りません)\n\n参加申込みについて\n\n
 今回のSonicGarden StudyはUstreamを使った Web勉強会 ですの
 で参加登録していない場合は参加できないということ
 はありません。\n勉強会の内容は誰でも無料で視聴で
 きます。\n\nですが、参加登録していただけると 開催
 前の連絡事項 や、 開催後に資料のURL の連絡を受け取
 ることができるようになります。 ぜひ参加登録をお願
 いします 。\n\n千駄ヶ谷.rb パブリックビューイング\n\n
 SonicGarden StudyとRuby勉強会コミュニティ、「千駄ヶ谷.rb
 」とコラボ！\nSonicGarden Studyを大きなスクリーンで他の
 参加者の方と話しながら視聴することができます！\n
 他の技術者と話しながらSonicGarden Studyを見たいという
 方はぜひご参加をご検討ください！\n\nhttp://sendagayarb.do
 orkeeper.jp/events/9568\n\nSonicGarden Studyとは\n\n株式会社SonicGa
 rden が開催する、WEB上のIT勉強会です。\nUstreamで配信す
 るため、参加者の所在地は一切関係ありません。世界
 中、どこからでも参加することができます。
LOCATION:Ustream
URL:https://techplay.jp/event/3474?utm_medium=referral&utm_source=ics&utm_c
 ampaign=ics
END:VEVENT
END:VCALENDAR
