BEGIN:VCALENDAR
VERSION:2.0
PRODID:-//https://techplay.jp//JP
CALSCALE:GREGORIAN
METHOD:PUBLISH
X-WR-CALDESC:【再追加開催】UX、デザイン思考、リーンスタ
 ートアップのためのインタビュー入門
X-WR-CALNAME:【再追加開催】UX、デザイン思考、リーンスタ
 ートアップのためのインタビュー入門
X-WR-TIMEZONE:Asia/Tokyo
BEGIN:VTIMEZONE
TZID:Asia/Tokyo
BEGIN:STANDARD
DTSTART:19700101T000000
TZOFFSETFROM:+0900
TZOFFSETTO:+0900
TZNAME:JST
END:STANDARD
END:VTIMEZONE
BEGIN:VEVENT
UID:3480@techplay.jp
SUMMARY:【再追加開催】UX、デザイン思考、リーンスター
 トアップのためのインタビュー入門
DTSTART;TZID=Asia/Tokyo:20140405T133000
DTEND;TZID=Asia/Tokyo:20140405T190000
DTSTAMP:20260420T184119Z
CREATED:20140311T192005Z
DESCRIPTION:イベント詳細はこちら\nhttps://techplay.jp/event/3480?
 utm_medium=referral&utm_source=ics&utm_campaign=ics\n\n樽本徹也氏　
 『ユーザビリティエンジニアリング(第2版)』　出版記
 念！\n\n【再追加開催】UX、デザイン思考、リーンスタ
 ートアップのためのインタビュー入門\n\n　\nロングセ
 ラーとなった初版(9刷増刷)から8年、待望の『ユーザビ
 リティエンジニアリング(第2版)―ユーザエクスペリエ
 ンスのための調査、設計、評価手法―』刊行にあたり
 ワークショップを開催致します。\n\n※※※※ 3/29(土)
 の希望者多数につき、本イベントを「再追加開催」致
 しました ※※※※\n\n⇒　３/２９（土）開催イベント
 の申込状況　もご確認ください。\n\n●再追加開催日時
 \n\n２０１４年４月５日（土）\n\n１３：００　開場１
 ３：３０～１５：３０　「弟子入りゲーム」１５：４
 ５～１７：４５　「インタビュー設計」１８：００～
 １９：００　「懇親会＆サイン会」\n（ワークショッ
 プ後の懇親会にはピザ等の軽食とソフトドリンク・ビ
 ールをご用意。参加者は無料！）\n\n●講座概要\n\n人
 間中心設計、デザイン思考、リーンスタートアップ、e
 tc...。優れた製品やサービスをデザインする手法は様
 々ですが、１つ共通していることがあります。それは
 、現代のデザイン手法の全ては「インタビューから始
 まる」ということです。\n\nここでいうインタビューと
 は、ユーザ／顧客に「何が欲しいですか？」「これで
 いいですか？」「どこをどのように変更すればいいで
 すか？」と尋ねることではありません。また、座談会
 （＝グルイン）を開催して「忌憚のない意見」を募る
 ことでもありません。本当のインタビューとは、ユー
 ザ／顧客の「言葉にならない真のニーズ」を探究する
 こと――その鍵は「弟子入り」にあります。\n\n本講座
 では、エスノグラフィに由来する、その独特のインタ
 ビュー法（Contextual Inquiry）を分かりやすくレクチャー
 します。リサーチの経験がなくても、2本のワークショ
 ップを通じて、実際に手と口を動かしながら、効率よ
 く実践的な技術を身に付けられます。現場の第一線で
 製品やサービスの企画・開発に携わるディレクタ、デ
 ザイナ、エンジニア、アントレプレナの皆さんにお薦
 めの内容です。\n\n①「弟子入りゲーム」ワークショッ
 プ\nインタビューの基本原理は「ユーザに弟子入り」
 することです。 ただ、「弟子入り」と言われても、あ
 まりにも抽象的で、それを具体的な行動に置き換える
 ことは困難でしょう。そこで、まずは気軽なゲーム形
 式の演習を通じて「弟子入り」の本質を理解します。\
 n\n②「インタビュー設計」ワークショップ\nインタビ
 ューはその場のアドリブで行うものではありません。
 事前に緻密に「設計」するものです。このワークショ
 ップでは、リサーチの専門家以外にはあまり知られて
 いない「インタビュー設計法」をグループ演習形式で
 学習します。\n\nなお、本講座は樽本徹也（著）『ユー
 ザビリティエンジニアリング(第2版)―ユーザエクスペ
 リエンスのための調査、設計、評価手法―』（オーム
 社、2014年）の内容に準拠しています。無料サンプル版
 に目を通しておくと参考になりますので、ぜひご利用
 ください。\n\n●講師紹介\n\n樽本 徹也（タルモト　テ
 ツヤ）\n\n利用品質ラボ代表。UXリサーチャ/ユーザビリ
 ティエンジニア。ユーザビリティ工学が専門で特にユ
 ーザ調査とユーザビリティ評価の実務経験が豊富。現
 在はプロのUCDコンサルタントとして、組込みシステム
 からウェブアプリケーションまで幅広い製品のUX/UI開
 発に携わっている。著書に「これだけは知っておきた
 い組込みシステムの設計手法」(技術評論社、2009年)、
 「アジャイル・ユーザビリティ」(オーム社、2012年)な
 どがある。寄稿や講演も多数行っている。ブログは『
 人机交互論』。\n\n●参加特典\n\n★ 出版記念『ユーザ
 ビリティエンジニアリング(第2版)』サイン本の即売あ
 り\n\n★ 既に購入した方は『ユーザビリティエンジニ
 アリング(第2版)』を持参いただければ樽本氏がサイン\
 n\n●募集人数\n\n※※※※ 4/5(土)の希望者多数につき、
 10名増席しました ※※※※40名\n\n●対象者\n\nウェブ担
 当者、プロデューサ、ディレクタ、デザイナ、エンジ
 ニア、起業家など\n\n●受講料\n\n￥3\,000(税込）/1名　
 （懇親会の軽食・ドリンク代込み）\n\n●支払方法\n\n
 当日現金払い　（当日領収書渡し）\n\n●会場\n\n株式
 会社アイ・エム・ジェイ 本社 青葉台カフェhttp://www.imj
 p.co.jp/access/\n東京都目黒区青葉台3-6-28 住友不動産青葉
 台タワー2F\n　\n　\n　\n＜主催 / 問い合わせ先＞\n株式
 会社アイ・エム・ジェイ R&D室 UXD Unitinfo-ux@imjp.co.jp
LOCATION:株式会社アイ・エム・ジェイ 青葉台カフェ 東京
 都目黒区青葉台3-6-28 住友不動産青葉台タワー2F
URL:https://techplay.jp/event/3480?utm_medium=referral&utm_source=ics&utm_c
 ampaign=ics
END:VEVENT
END:VCALENDAR
