BEGIN:VCALENDAR
VERSION:2.0
PRODID:-//https://techplay.jp//JP
CALSCALE:GREGORIAN
METHOD:PUBLISH
X-WR-CALDESC:“Septeni×Scala”勉強会 #2 「ドメイン駆動設計
 やってみた」
X-WR-CALNAME:“Septeni×Scala”勉強会 #2 「ドメイン駆動設計
 やってみた」
X-WR-TIMEZONE:Asia/Tokyo
BEGIN:VTIMEZONE
TZID:Asia/Tokyo
BEGIN:STANDARD
DTSTART:19700101T000000
TZOFFSETFROM:+0900
TZOFFSETTO:+0900
TZNAME:JST
END:STANDARD
END:VTIMEZONE
BEGIN:VEVENT
UID:404550@techplay.jp
SUMMARY:“Septeni×Scala”勉強会 #2 「ドメイン駆動設計やっ
 てみた」
DTSTART;TZID=Asia/Tokyo:20150416T200000
DTEND;TZID=Asia/Tokyo:20150416T220000
DTSTAMP:20260420T105917Z
CREATED:20150317T044153Z
DESCRIPTION:イベント詳細はこちら\nhttps://techplay.jp/event/40455
 0?utm_medium=referral&utm_source=ics&utm_campaign=ics\n\n▼概要\nScala
 に興味があるエンジニアやマネージャーの方と対象と
 し、\n当社グループで開発・運営中のアプリやシステ
 ムでScalaがどのように使われているのか、Scala導入背景
 や利用例を中心に、Scalaの取り巻く環境について、セ
 ミナー形式での勉強会を開催いたします！\n\n▼対象\n\
 nScalaに興味があるエンジニア（スキル範囲：Scalaの読
 み書きが出来る方）\nScala普及を目論むエンジニア\nScal
 a導入に興味があるマネージャー\n\n\n▼アジェンダ\n\n
 【加藤潤一】 Play2 with DDD 〜何からはじめて何に気をつ
 けるべきか〜\n【原田侑亮】 Scala × DDD × 弊社実践例\n\
 n\n▼詳細\n【日時】　4月16日（木）　20:00～22:00頃\n【
 場所】　東京都新宿区西新宿8-17-1　セプテーニグルー
 プ（27Fカンファレンスルーム）\n【参加費】無料\n【持
 ち物】筆記用具、名刺、参加票（または「受付番号」
 が分かるスマホ画面など）\n\nお席に限りがございます
 ので、お早めにご応募下さい。\nご予約後の不参加の
 際は、事前キャンセルをお願い致します。\n\n\n▼タイ
 ムテーブル\n19:30～　　　 会場・受付\n20:00～20:10　前
 説・自己紹介\n20:10～20:55　アジェンダ1（45分／質疑応
 答含む）\n20:55～21:00　休憩\n21:00～21:45　アジェンダ2（
 45分／質疑応答含む）\n～22:00　　　 完全撤収
LOCATION:セプテーニグループ（27Fカンファレンスルーム）
  東京都新宿区西新宿8-17-1 (住友不動産新宿グランドタ
 ワー28F)
URL:https://techplay.jp/event/404550?utm_medium=referral&utm_source=ics&utm
 _campaign=ics
END:VEVENT
END:VCALENDAR
