BEGIN:VCALENDAR
VERSION:2.0
PRODID:-//https://techplay.jp//JP
CALSCALE:GREGORIAN
METHOD:PUBLISH
X-WR-CALDESC:【福岡】定時で帰ってます！仕事に活かせる
 ペパボの改善セミナー【制作会社向け】
X-WR-CALNAME:【福岡】定時で帰ってます！仕事に活かせる
 ペパボの改善セミナー【制作会社向け】
X-WR-TIMEZONE:Asia/Tokyo
BEGIN:VTIMEZONE
TZID:Asia/Tokyo
BEGIN:STANDARD
DTSTART:19700101T000000
TZOFFSETFROM:+0900
TZOFFSETTO:+0900
TZNAME:JST
END:STANDARD
END:VTIMEZONE
BEGIN:VEVENT
UID:445131@techplay.jp
SUMMARY:【福岡】定時で帰ってます！仕事に活かせるペパ
 ボの改善セミナー【制作会社向け】
DTSTART;TZID=Asia/Tokyo:20150512T140000
DTEND;TZID=Asia/Tokyo:20150512T180000
DTSTAMP:20260421T212434Z
CREATED:20150414T084153Z
DESCRIPTION:イベント詳細はこちら\nhttps://techplay.jp/event/44513
 1?utm_medium=referral&utm_source=ics&utm_campaign=ics\n\nイベント概
 要\nロリポップ！やヘテムル、ムームードメインなど
 を運営するGMOペパボが『制作会社様向けの業務改善セ
 ミナー』を開催します！\n今回はGMOペパボ福岡支社の
 スタッフより、ペパボでの事例や業務効率化のノウハ
 ウなどについてお話させていただきます。\n初心者大
 歓迎！こんな方におすすめです\n\n制作会社さま\n少人
 数でサイト制作を行っているフリーランスの方\nチー
 ムの誰が何をやっているか把握するのが大変！\n締め
 切り前なのにタスクが全然片付いていない\nお問い合
 わせフォームやお申込みフォームに良し悪しってある
 の？\n仕事の進め方がマンネリ化している\n\nプログラ
 ム内容\nWordPressサイトのバージョン管理 （カスタマー
 サービス 万野）\n\nGitを利用したWordPressサイトのバー
 ジョン管理について解説します。またFTPを使用しない
 リリース方法や作業履歴、共同作業がどれくらい楽に
 できるのか等、デモを通してご紹介します。\n\nお申し
 込みを1割増やしたフォーム改善の話 （ディレクター 
 財津）\n\n継続的なサイト改善について、ペパボのレン
 タルサーバー「ロリポップ！」のお申し込みフォーム
 を例にお話しします。クライアント様からのお問い合
 せフォームやヒアリングフォームなど、どんなフォー
 ムでも取り組める内容です。\n\n業務効率をあげる便利
 ツールのご紹介 （ディレクター 西岡）\n\nサイト分析
 、エンジニアやデザイナーとのやりとりなど日々の業
 務を円滑におこなうために、GMOペパボのディレクター
 が業務で活用している便利なツールやサービスをご紹
 介します。\n\nアジャイルプラクティス「ふりかえり」
 でチーム力アップ！ （エンジニア 宮下）\n\nペパボで
 はアジャイル開発手法「スクラム」を全社的に導入し
 て、日々業務改善を行っています。今回のお話は、そ
 のプラクティスの１つ「ふりかえり」についてです。
 「ふりかえり」は現場に一体感を生み、自律的に業務
 改善できるチームをつくります。参加者の皆さんが明
 日からつかえるよう、ペパボでの事例を交え、実践的
 にご紹介します。\n\nタイムテーブル\n14:00～14:30　開場
 \n14:30～14:40　本日のご案内\n14:40～15:20　WordPressサイト
 のバージョン管理\n15:20～16:00　お申し込みを1割増やし
 たフォーム改善の話\n16:00～16:10　休憩\n16:10～16:50　業
 務効率をあげる便利ツールのご紹介\n16:50～17:40　アジ
 ャイルプラクティス「ふりかえり」でチーム力アップ
 ！\n18:00～20:00　懇親会（自由参加）\n※懇親会につき
 ましては、同会場にて軽食・飲み物をご用意いたしま
 す。\n参加費は無料ですのでふるってご参加ください
 ！\n※当日、受付にてお名刺を頂戴いたします。お手
 数ですが、お名刺のご持参をお願いいたします。
LOCATION:GMOペパボ株式会社福岡支社 福岡県福岡市中央区
 天神2丁目7番21号 (天神プライム 7F)
URL:https://techplay.jp/event/445131?utm_medium=referral&utm_source=ics&utm
 _campaign=ics
END:VEVENT
END:VCALENDAR
