BEGIN:VCALENDAR
VERSION:2.0
PRODID:-//https://techplay.jp//JP
CALSCALE:GREGORIAN
METHOD:PUBLISH
X-WR-CALDESC:第56回 HTML5とか勉強会（JavaScriptフレームワー
 ク最前線 - AngularJS、React.js - ）
X-WR-CALNAME:第56回 HTML5とか勉強会（JavaScriptフレームワー
 ク最前線 - AngularJS、React.js - ）
X-WR-TIMEZONE:Asia/Tokyo
BEGIN:VTIMEZONE
TZID:Asia/Tokyo
BEGIN:STANDARD
DTSTART:19700101T000000
TZOFFSETFROM:+0900
TZOFFSETTO:+0900
TZNAME:JST
END:STANDARD
END:VTIMEZONE
BEGIN:VEVENT
UID:450255@techplay.jp
SUMMARY:第56回 HTML5とか勉強会（JavaScriptフレームワーク最
 前線 - AngularJS、React.js - ）
DTSTART;TZID=Asia/Tokyo:20150428T193000
DTEND;TZID=Asia/Tokyo:20150428T220000
DTSTAMP:20260420T090912Z
CREATED:20150417T090005Z
DESCRIPTION:イベント詳細はこちら\nhttps://techplay.jp/event/45025
 5?utm_medium=referral&utm_source=ics&utm_campaign=ics\n\n第56回HTML5と
 か勉強会は、『JavaScriptフレームワーク最前線！』とい
 うことで、AngularJSとReact.jsの豪華二本立てです。それ
 ぞれの概要や特徴をお伝えします！パネルディスカシ
 ョンもあるのでお楽しみに！\n\nタイムスケジュール及
 びセッション内容\n\n\n\n時間\n内容\n登壇者\n\n\n\n19:15～
 19:30\n受付開始\n\n\n\n19:30～19:35\nイントロダクション\n\n
 \n\n19:35～20:05\nAngularJS\n金井 健一 氏\n\n\n20:05～20:35\nBuild
 ing Apps with React.js & Flux\n小林 徹 氏\n\n\n20:35～20:40\n休憩\
 n\n\n\n20:40～21:20\nパネルディスカション\n【AngularJS】金
 井 健一 氏、調整中【React.js】小林 徹 氏 、外村 和仁 
 氏　\n\n\n21:20～22:00\n懇親会\n\n\n\n\n※登壇内容は、都合
 により変更になる可能性がございます。ご了承くださ
 い。\n\n場所\n\nGoogle Japan\n東京都港区 六本木6−10−1 六
 本木ヒルズ森タワー\n※六本木ヒルズ森タワーLL階に本
 イベント用の臨時受付設置いたします。\n\n募集人数\n\
 n120名\n\n費用\n\n本編は無料\n懇親会をご希望の方は参
 加費として1\,000円のお支払いをお願いいたします。\n
 当日ご案内するセミナールームでお支払いください。\
 n\n無線LAN\n\n会場に準備はございますが、講師とも共有
 となりますので、会の運営上問題がある場合は、ご利
 用いただけない場合もございますのでご了承ください
 。\n\nその他\n\n何かありましたらTwitterのハッシュタグ 
 #html5j でツイートをお願い致します。
LOCATION:Google Japan 東京都港区 六本木6−10−1 六本木ヒル
 ズ森タワー
URL:https://techplay.jp/event/450255?utm_medium=referral&utm_source=ics&utm
 _campaign=ics
END:VEVENT
END:VCALENDAR
