BEGIN:VCALENDAR
VERSION:2.0
PRODID:-//https://techplay.jp//JP
CALSCALE:GREGORIAN
METHOD:PUBLISH
X-WR-CALDESC:Bizreach✕Cookpad✕Gunosy✕UserLocal 分析プラットホ
 ームとその技術
X-WR-CALNAME:Bizreach✕Cookpad✕Gunosy✕UserLocal 分析プラットホ
 ームとその技術
X-WR-TIMEZONE:Asia/Tokyo
BEGIN:VTIMEZONE
TZID:Asia/Tokyo
BEGIN:STANDARD
DTSTART:19700101T000000
TZOFFSETFROM:+0900
TZOFFSETTO:+0900
TZNAME:JST
END:STANDARD
END:VTIMEZONE
BEGIN:VEVENT
UID:479187@techplay.jp
SUMMARY:Bizreach✕Cookpad✕Gunosy✕UserLocal 分析プラットホーム
 とその技術
DTSTART;TZID=Asia/Tokyo:20150531T140000
DTEND;TZID=Asia/Tokyo:20150531T170000
DTSTAMP:20260420T111629Z
CREATED:20150507T084003Z
DESCRIPTION:イベント詳細はこちら\nhttps://techplay.jp/event/47918
 7?utm_medium=referral&utm_source=ics&utm_campaign=ics\n\nイベントに
 ついて\nD-cubeイベント、今回は他社様をお招きして、
 分析プラットホームとその技術。\n会社としての分析
 についての考え方、分析周りで採用している技術、分
 析事例等をお話していただきます。\n他社の分析プラ
 ットホームや技術などはあまり知る機会がないと思い
 ますので、この機会に是非ご参加ください。\n\n対象\n
 他社の分析手法などが気になるエンジニア、Webディレ
 クターの方\n\n開催概要\n日時:2015/05/31（日）14:00〜17:00
 （13:30開場）※その後懇親会有\n場所:渋谷クロスタワ
 ー 12F\n参加費:無料\n持参物:名刺2枚\n※受付用1枚、名
 札用1枚\n\n登壇予定企業(50音(アルファベット)順)\nBizrea
 ch\nCookpad様\nGunosy様\nUser Local様\n\nアジェンダ\n\n\n\n時間
 \n発表者\n\n\n\n\n13:30~14:00\n受付\n\n\n14:00~14:30\nCookpad 伊藤
 様\n\n\n14:30~15:40\n休憩\n\n\n14:40~15:10\nUser Local 三上様\n\n\n
 15:10~15:20\n休憩\n\n\n15:20~15:50\nBizreach 工藤\n\n\n15:50~16:00\n
 休憩\n\n\n16:00~16:30\nGunosy 吉田様\n\n\n16:30~16:50\n閉会のご
 挨拶&アンケート\n\n\n17:00~18:30\n懇親会(ピザなどの軽食
 をご用意します。)\n\n\n\n※アジェンダは予告なく変更
 される場合がございます。
LOCATION:株式会社BizReach 東京都渋谷区渋谷2-15-1 渋谷クロ
 スタワー 12F
URL:https://techplay.jp/event/479187?utm_medium=referral&utm_source=ics&utm
 _campaign=ics
END:VEVENT
END:VCALENDAR
