BEGIN:VCALENDAR
VERSION:2.0
PRODID:-//https://techplay.jp//JP
CALSCALE:GREGORIAN
METHOD:PUBLISH
X-WR-CALDESC:Kyoto.なんか(仮)
X-WR-CALNAME:Kyoto.なんか(仮)
X-WR-TIMEZONE:Asia/Tokyo
BEGIN:VTIMEZONE
TZID:Asia/Tokyo
BEGIN:STANDARD
DTSTART:19700101T000000
TZOFFSETFROM:+0900
TZOFFSETTO:+0900
TZNAME:JST
END:STANDARD
END:VTIMEZONE
BEGIN:VEVENT
UID:48369@techplay.jp
SUMMARY:Kyoto.なんか(仮)
DTSTART;TZID=Asia/Tokyo:20140503T140000
DTEND;TZID=Asia/Tokyo:20140503T170000
DTSTAMP:20260420T122606Z
CREATED:20140422T193004Z
DESCRIPTION:イベント詳細はこちら\nhttps://techplay.jp/event/48369
 ?utm_medium=referral&utm_source=ics&utm_campaign=ics\n\n参加する方
 へのご注意\n\n\n当日はGWにつきオフィスの正面扉がし
 まっています。御池通からみてビル左側にある通用口
 におまわりください。\n開催時間以降は通用口右側の
 パネルを開けて8Fのチャイムをならして呼び出してく
 ださい。\n\n\nチャイムをならすのは難しいのでなるべ
 く開催時間に間に合うようにお越しください\nどうし
 ても入れなくて困った場合は Twitter の @hakobe にお知ら
 せください\n\n\n飲食可能です。\n開催内容\n\nプログラ
 ミングに関する発表をしあってみんなでわいわいする
 勉強会です。\n\nJavaScriptに限らず Perl/Ruby/Objective-C/Java/S
 cala などのプログラミング言語や vim/emacs/atom/IntelliJな
 ど開発環境の発表なども大歓迎です。\n\n発表者を募集
 しておりますので気軽に @hakobe までお知らせください
 。\n\n発表\n\n総勢11名のみなさまに様々な分野のおもし
 ろ発表をしていただける予定です。\n\nタイムスケジュ
 ール\n\n\n13:30 - 14:00 開場\n14:00 - 14:05 オープニング\n14:05
  - 14:20 Kaiteki さん\n14:20 - 14:35 kiwanami さん\n14:35 - 14:40 ---
 - 休憩 ----\n14:40 - 14:55 yashigani さん\n14:55 - 15:10 iseebi さ
 ん\n15:10 - 15:20 ---- 休憩 ----\n15:20 - 15:35 stanaka さん\n15:35 
 - 15:50 hakurai さん\n15:50 - 15:55 ---- 休憩 ----\n15:55 - 16:10 Six
 eight さん\n16:10 - 16:25 yhara さん\n16:25 - 16:35 ---- 休憩 ----\
 n16:35 - 16:50 aereal さん\n16:50 - 16:55 nobuoka さん\n16:55 - 17:00
  moznion さん\n17:00 - 17:05 クロージング\n\n\n懇親会\n\n発
 表会場にて、ピザや飲み物を用意した懇親会を行う予
 定です。当日参加希望を募ります。参加費は2500円程度
 を予定しています。
LOCATION:株式会社はてな 京都府京都市中京区高宮町206 御
 池ビル8F (御池通りからみて左側の通用口にお回りくだ
 さい)
URL:https://techplay.jp/event/48369?utm_medium=referral&utm_source=ics&utm_
 campaign=ics
END:VEVENT
END:VCALENDAR
