BEGIN:VCALENDAR
VERSION:2.0
PRODID:-//https://techplay.jp//JP
CALSCALE:GREGORIAN
METHOD:PUBLISH
X-WR-CALDESC:JJUG CCC 2014 Spring
X-WR-CALNAME:JJUG CCC 2014 Spring
X-WR-TIMEZONE:Asia/Tokyo
BEGIN:VTIMEZONE
TZID:Asia/Tokyo
BEGIN:STANDARD
DTSTART:19700101T000000
TZOFFSETFROM:+0900
TZOFFSETTO:+0900
TZNAME:JST
END:STANDARD
END:VTIMEZONE
BEGIN:VEVENT
UID:48927@techplay.jp
SUMMARY:JJUG CCC 2014 Spring
DTSTART;TZID=Asia/Tokyo:20140518T090000
DTEND;TZID=Asia/Tokyo:20140518T220000
DTSTAMP:20260421T050047Z
CREATED:20140425T193119Z
DESCRIPTION:イベント詳細はこちら\nhttps://techplay.jp/event/48927
 ?utm_medium=referral&utm_source=ics&utm_campaign=ics\n\nJJUG サイト: \
 n  http://www.java-users.jp/?page_id=965\n \n\n\n\n \n  ハッシュタ
 グ: \n  #jjug_ccc (セッションごとにハッシュタグあり)\n \
 n\n\n\n \n  日時: \n  2014年 5月 18日 (日) 9:30 (開場 9:00)\n \n\
 n\n\n \n  場所: \n  ベルサール西新宿 (Google Map)\n \n\n\n\n \n
   参加費: \n  無料\n \n\n\n\n \n  懇親会:\n  会場内にてビ
 アバッシュ形式 懇親会申し込みサイト\n \n\n\n\n \n   プ
 ラチナスポンサ: \n   \n    日本オラクル株式会社\n   \n \
 n\n\n \n \nゴールドスポンサ(50音順)\n \n \nAtlassian\n     \n
 日本アイ・ビー・エム株式会社\n楽天株式会社\n    \nレ
 ッドハット株式会社\n    \n \n \n \n \nドリンクスポンサ(5
 0音順)\n \n \nオイシックス株式会社\n       \nLINE 株式会
 社\n       \n \n \n\n※別途懇親会も企画しております。\n
 以下からお申し込みください。\nhttp://jjugccc2014spring.peat
 ix.com/view
LOCATION:ベルサール西新宿 東京都新宿区西新宿4-15-3住友
 不動産西新宿ビル3号館
URL:https://techplay.jp/event/48927?utm_medium=referral&utm_source=ics&utm_
 campaign=ics
END:VEVENT
END:VCALENDAR
