BEGIN:VCALENDAR
VERSION:2.0
PRODID:-//https://techplay.jp//JP
CALSCALE:GREGORIAN
METHOD:PUBLISH
X-WR-CALDESC:【満席につき増席しました！】Fluentd Meetup 新
 しい応用事例とv1に関する発表
X-WR-CALNAME:【満席につき増席しました！】Fluentd Meetup 新
 しい応用事例とv1に関する発表
X-WR-TIMEZONE:Asia/Tokyo
BEGIN:VTIMEZONE
TZID:Asia/Tokyo
BEGIN:STANDARD
DTSTART:19700101T000000
TZOFFSETFROM:+0900
TZOFFSETTO:+0900
TZNAME:JST
END:STANDARD
END:VTIMEZONE
BEGIN:VEVENT
UID:49560@techplay.jp
SUMMARY:【満席につき増席しました！】Fluentd Meetup 新しい
 応用事例とv1に関する発表
DTSTART;TZID=Asia/Tokyo:20140513T193000
DTEND;TZID=Asia/Tokyo:20140513T220000
DTSTAMP:20260420T055559Z
CREATED:20140430T033316Z
DESCRIPTION:イベント詳細はこちら\nhttps://techplay.jp/event/49560
 ?utm_medium=referral&utm_source=ics&utm_campaign=ics\n\n\n\nFluentd Meetu
 p\n新しい応用事例とv1に関する発表\n\n概要説明\n\n	2011
 年10月にOSSとしてリリースされて以来、柔軟で痒いと
 ころに手が届くログコレクタとして、Fluentdは着実にエ
 ンジニア達の間で広まりつつあります。最近では、元
 々の「大規模サービスのログを集める」という使い方
 だけにとどまらず、幅広い応用事例も出てきています
 。今回のミートアップでは、そういった新しいFluentdの
 使い方も織り交ぜながら、プロジェクトの今後の展望
 についても話し合う場としたいと考えています。\n\n\n\
 n	登壇者\n\n	Fluentd v1に向けて中川 真宏 (@repeatedly)\n	D言
 語などのOSSであれこれやっているエンジニア。Treasure D
 ataではFluentd/Treasure Agentの開発を中心に活動中。Prestoの
 ソースコードリーディングなど，突発的にイベントを
 開催したりもする。つけ麺が好き\n	\n\n	Google Inc. クラ
 ウドプラットフォーム ソリューションアーキテクト佐
 藤一憲氏 (@kazunori_279)\n	Google Cloud Platformとオープンソー
 ス技術を組み合わせたソリューションの開発やドキュ
 メント執筆をはじめ、アジア地域の顧客向け技術コン
 サルティングを担当。またGCPエンジニア向けのイベン
 ト「gcp ja night」や「Docker Meetup Tokyo」等のコミュニティ
 運営を支援している。\n	\n\n	Quipper\, Ltd デベロッパー本
 多一行氏 (@hakobera)\n	Quipper では、HTML5 アプリケーショ
 ン開発でフロントエンドから、ログ収集などのインフ
 ラまで担当。 直近では Fluentdを利用した PaaS、SaaS と自
 社基盤のつなぎ込みや、Kibana や InfluxDBなどを利用した
 ログの可視化技術を絶賛検証中。また、個人的にNode.js
 の普及のため、東京Node学園祭などのコミュニティ運営
 に関わっている。\n	\n\nフリークアウト　エンジニア加
 藤慶一氏 \n	フリークアウトでログを担当するエンジニ
 ア。主にログの収集から加工、サマリーの作成まで。
 ビジュアライズも少々。日々触っているのはfluentdとhad
 oopとelasticsearch。最近サバゲー始めました。MP5が軽くて
 好き。\n	\n\n\n\n	タイムスケジュール\n	\n		\n			\n				時間\
 n				講演内容\n			\n			\n				19:00 – 19:30\n				受付\n			\n			\n	
 			19:30 – 19:35\n				司会より\n			\n			\n				19:35 - 20:05\n				
 トレジャーデータ　シニアソフトウェアエンジニア 中
 川真宏氏Fluentd v.1に関するアップデートと今後のロー
 ドマップ（仮）\n			\n			\n				20:05 - 20:35\n				日本グーグ
 ル 佐藤一憲氏毎秒10万件でもまだ軽い！Norikra＋BigQuery
 ＋Dockerで10分でつくるリアルタイムログ解析基盤\n			\n	
 		\n				20:35 - 20:50\n				Quipper 本多一行氏HTML5 Single Page Appli
 cation のイベントログ収集をFluentdで効率化している話\n
 			\n			\n				20:50 - 21:05\n				フリークアウト加藤慶一氏マ
 ゾいログ回収の話と未来\n			\n			\n				21:05\n				懇親会\n		
 	\n		\n	\n\n\n\n	持ち物\n	\n		名刺1枚\n		筆記用具\n	\n\n\n\n\n\
 n	会場\n	株式会社フリークアウト様のご好意により、
 新本社「Hills Garage」をご提供頂きました。六本木ヒル
 ズに隣接する「六本木ヒルズ クロスポイント5F」のお
 しゃれなオフィスとなっております。\n	\n\n\n\n	主催者\
 n	トレジャーデータとdots.(インテリジェンス)の共催と
 なります\n\n\n\n	参加費\n	講演会終了後に懇親会を行い
 ます。懇親会に参加をご希望の方のみ1\,000円を受付時
 にお支払いただきます。参加を希望の方は、申込み時
 のコメント欄に「懇親会参加」と記載ください。\n
LOCATION:六本木ヒルズクロスポイント5階『Hills-Garage』 〒1
 06-0032 東京都港区六本木6-3-1
URL:https://techplay.jp/event/49560?utm_medium=referral&utm_source=ics&utm_
 campaign=ics
END:VEVENT
END:VCALENDAR
