BEGIN:VCALENDAR
VERSION:2.0
PRODID:-//https://techplay.jp//JP
CALSCALE:GREGORIAN
METHOD:PUBLISH
X-WR-CALDESC:mBaaSを活用して業務システムをスマホアプリ化
 ！ ～mBaaSと自社システムの連携の仕方教えます～
X-WR-CALNAME:mBaaSを活用して業務システムをスマホアプリ化
 ！ ～mBaaSと自社システムの連携の仕方教えます～
X-WR-TIMEZONE:Asia/Tokyo
BEGIN:VTIMEZONE
TZID:Asia/Tokyo
BEGIN:STANDARD
DTSTART:19700101T000000
TZOFFSETFROM:+0900
TZOFFSETTO:+0900
TZNAME:JST
END:STANDARD
END:VTIMEZONE
BEGIN:VEVENT
UID:515439@techplay.jp
SUMMARY:mBaaSを活用して業務システムをスマホアプリ化！ 
 ～mBaaSと自社システムの連携の仕方教えます～
DTSTART;TZID=Asia/Tokyo:20150629T073000
DTEND;TZID=Asia/Tokyo:20150629T090000
DTSTAMP:20260426T040256Z
CREATED:20150604T130008Z
DESCRIPTION:イベント詳細はこちら\nhttps://techplay.jp/event/51543
 9?utm_medium=referral&utm_source=ics&utm_campaign=ics\n\nイベントの
 概要\n\n月曜日の朝7:30開始のハンズオンセミナー「mBaaS
 を活用して業務システムをスマホアプリ化！ ～mBaaSと
 自社システムの連携の仕方教えます～」を再び開催致
 します。\n\nエンタープライズ領域での BaaS を利用した
 アプリ開発におけるmBaaSの活用方法を解説いたします
 。\n\nなお、後半ではニフティが提供している BaaS であ
 るニフティクラウドmobile backendを既存システムと連携
 させる際に必要なREST APIの使い方について実際に体験
 して頂く簡単なハンズオンを行います。\n体験に利用
 するプログラムは予めご用意してありますので、エン
 ジニアではない方でもご参加頂けます。\n\n\n\nハンズ
 オンにて使用したソースコードはお持ち帰り頂けます
 。\n\n対象者\n\n\nスマホアプリビジネスをご検討中の方
 \nエンタープライズ向けアプリを企画開発されている
 方\n既存システムとmBaaSの連携の仕方を知りたい方\n\n\n
 エンジニア以外の方でもご参加頂けます！\n\n\n\nタイ
 ムテーブル\n\n\n\n時間\n内容\n\n\n\n7:15～7:30\n受付\n\n\n7:3
 0～8:10\n【セミナー】スマホアプリの開発は、エンタメ
 とエンプラでどこまで違う？～プラクティス・ケース
 スタディから見るmBaaSの活用方法～\n\n\n8:10～9:00\n【ハ
 ンズオン】REST APIを使って、mBaaSと既存システムの連携
 を体験してみよう\n\n\n\n当日の受付について\n\n\n新宿
 フロントタワー18階　ニフティ株式会社　セミナー受
 付\n\n\nセミナー受付にて名刺２枚を頂戴いたします。\
 n\n\n名刺をお持ちでない場合はお名前とご連絡先を受
 付票にご記入頂きます。\n\n受付後ビジターカードを貸
 与いたしますので館内での着用をお願いいたします。\
 n\n\nお帰りの際はスタッフまでお返しください。\n\nオ
 フィスエントランス（１階）の入り口は７時に開錠さ
 れますので、７時以前にお越しの際は開錠までお待ち
 ください。\n\n\n\n事前準備について\n\n\nハンズオンで
 利用いたしますので、必ずPCをお持ちください\n\n\n以
 下のいずれかのブラウザを予めご用意ください\n\n\nInte
 rnet Explorer 最新版\nMozilla Firefox 最新版\nGoogle Chrome 最新
 版\nSafari 最新版\n\nブラウザは、JavaScriptとAdobe Flashが利
 用できる状態にしておいてください\n\n@nifty IDの取得と
  ニフティクラウドmobile backendの利用登録をお願いいた
 します\n\n\nhttp://mb.cloud.nifty.com/signup.htm\n\nニフティクラ
 ウドC4SAの利用登録をお願いいたします\n\n\nhttp://c4sa.nif
 ty.com/\n\n
LOCATION:ニフティ株式会社 東京都新宿区北新宿2-21-1　新
 宿フロントタワー（18階受付）
URL:https://techplay.jp/event/515439?utm_medium=referral&utm_source=ics&utm
 _campaign=ics
END:VEVENT
END:VCALENDAR
