BEGIN:VCALENDAR
VERSION:2.0
PRODID:-//https://techplay.jp//JP
CALSCALE:GREGORIAN
METHOD:PUBLISH
X-WR-CALDESC:天下一altJS武闘会
X-WR-CALNAME:天下一altJS武闘会
X-WR-TIMEZONE:Asia/Tokyo
BEGIN:VTIMEZONE
TZID:Asia/Tokyo
BEGIN:STANDARD
DTSTART:19700101T000000
TZOFFSETFROM:+0900
TZOFFSETTO:+0900
TZNAME:JST
END:STANDARD
END:VTIMEZONE
BEGIN:VEVENT
UID:52188@techplay.jp
SUMMARY:天下一altJS武闘会
DTSTART;TZID=Asia/Tokyo:20140608T123000
DTEND;TZID=Asia/Tokyo:20140608T220000
DTSTAMP:20260423T170035Z
CREATED:20140514T190113Z
DESCRIPTION:イベント詳細はこちら\nhttps://techplay.jp/event/52188
 ?utm_medium=referral&utm_source=ics&utm_campaign=ics\n\n全世界のaltJS
 ユーザが一堂に会し全力で殴りあうイベントだよー(^o^
 )ノaltJSとは？→コンパイルするとJavaScriptが出てくる言
 語のことを指す。どんな言語があるの？→ この辺にま
 とまってる上記のリストに載ってない言語は？→君の
 ような猛者を待っていた…！是非発表してください！
 このaltJS、ヘタすると使ってるの日本で10人、いや俺だ
 けかも…→恐れることはない！会場を教化していって
 ください！俺が使ってるaltJSが最強だー！と主張しあ
 って、なんか俺の主張が一番共感を得たな！と勝手に
 納得して帰れれば成功かなと思います。発表できる人
 がどれだけ集まるかわからないので、まずは発表者枠
 だけ募集します。何言語枠での参加かをアンケートか
 どっかに書いてください。あまりにも同じ言語で被っ
 たらなんか考えます。参加だけする枠は後日の募集と
 します。たぶん。参加費：社会人1000円(会場払い) + 学
 生無料会場入りするには社員の案内が必要であるため
 、参加者はピックアップ時間を守って集まる事。個別
 対応はしません。12:30、12:45、13:00～16:00 の各00分、16:45
 、17:15、17:45にピックアップを行いますので遅れた人は
 その辺でなんかカフェでもキメつついい塩梅の時に来
 てください。当日のタイムテーブル 今後内容について
 は変更あるかも。12:30 開場13:00 開始 挨拶とか会場の案
 内とか13:15 LT開始 18時までに終わらなければ順次繰り
 越し。早めに終わったら18時まで休憩。18:00 パネルデ
 ィスカッション+軽食 飽きたら解散。会場は22時まで使
 える。運営協力者を募集します。2名から手をあげてい
 ただきました！主に参加者会場案内と軽食買い出し班
 。電気、電波、水提供可能。会場飲食可能。スクリー
 ン、ホワイトボード有。控え部屋提供可能。LT何分に
 するかとかパネルディスカッションって何するのとか
 全然考えてないのでノウハウとかネタとかください。
 よろしくおねがいします。5/16\, 5/22\, 6/3 追記17時に懇
 親会参加者募集します。会場脇受付にて集金募ります
 。社会人の積極的なカンパをお願いします。美味しい
 軽食を食べよう！ご協力よろしくお願いします！LTが
 トータル27本予定なので、13:15から1人あたり5分で時間
 厳守、適宜休憩取りつつ頑張ってもLTだけの完了でも17
 時には絶対終わらないので朝から晩まで天下一武闘会
 じゃねーかよ！！みたいな状況になっています。質疑
 応答に個別に時間を割くことができなさそうなので、
 さくっとPCを機材から外して次の人のPCセットアップが
 終わるまでの間隙に無理矢理質疑応答しようと思うの
 で質問もLightningにお願いします。足りなかったらTwitter
 上や懇親会などで思う様ﾊﾞﾁﾊﾞﾁやっていただき
 たく。現在予定のLTの順番です。発表順通りに記載し
 てあります。なお、言語毎の発表順は乱数(TypedCoffeeScri
 ptのみCoffeeScriptの後に配置)を元に適当にソート、言語
 内の発表順は参加表明順になっています。JSXyosuke_furuka
 waくん Haxeshohei909さんOpasmogamiさんAmbertechnohippyさんjs_of_o
 camlmzpさんClojureScripthalcat0x15aさん Closure Compilerteppeisさん
 Kotlinngsw_taroくんS式で書けるaltJS全般blackenedgoldさんidrist
 anakhさんTypeScripts2otsaさん gyoh_kさんGopherJStenntennさんPureS
 criptruiccさんhspzakkiさんCoffeeScriptanticyborgさん ianさんTyped
 CoffeeScriptmizchiくんDartrukiadiaくん nyamadandanさん自作しま
 すMasami_YoneharaさんScala.jstototoshiさんElmdsuketさんphp.jstadsa
 nさんマルチスレッド…？yukobaさんなお、パネルディス
 カッションのパネリストは以下を予定しています。わ
 かめ以外は各界のストロング野郎どもですので、いい
 感じにプロレスしていきたいなと思います。パネルの
 ネタは相変わらず募集しておりますので、わかめまで
 連絡いただくか #tenka1altjs タグに適当に流しておいて
 ください。__gfx__先生mzp先生mizchi先生わかめ
LOCATION:渋谷プライムプラザ四階 東京都渋谷区円山町19-1 
 (渋谷プライムプラザ)
URL:https://techplay.jp/event/52188?utm_medium=referral&utm_source=ics&utm_
 campaign=ics
END:VEVENT
END:VCALENDAR
