BEGIN:VCALENDAR
VERSION:2.0
PRODID:-//https://techplay.jp//JP
CALSCALE:GREGORIAN
METHOD:PUBLISH
X-WR-CALDESC:女子エンジニアLT会 presented by dots. Vol.1 〜 "Hello
  World!!" まずは自己紹介から 〜
X-WR-CALNAME:女子エンジニアLT会 presented by dots. Vol.1 〜 "Hello
  World!!" まずは自己紹介から 〜
X-WR-TIMEZONE:Asia/Tokyo
BEGIN:VTIMEZONE
TZID:Asia/Tokyo
BEGIN:STANDARD
DTSTART:19700101T000000
TZOFFSETFROM:+0900
TZOFFSETTO:+0900
TZNAME:JST
END:STANDARD
END:VTIMEZONE
BEGIN:VEVENT
UID:544728@techplay.jp
SUMMARY:女子エンジニアLT会 presented by dots. Vol.1 〜 "Hello Worl
 d!!" まずは自己紹介から 〜
DTSTART;TZID=Asia/Tokyo:20150806T193000
DTEND;TZID=Asia/Tokyo:20150806T213000
DTSTAMP:20260423T200858Z
CREATED:20150630T060047Z
DESCRIPTION:イベント詳細はこちら\nhttps://techplay.jp/event/54472
 8?utm_medium=referral&utm_source=ics&utm_campaign=ics\n\n\n\n女子エン
 ジニアLT会presented by dots. Vol.1〜 ”Hello World!!” まずは
 自己紹介から 〜\n\n\n概要\n\n\nやってみたいけど未だ手
 をつけられていない技術の話、女子エンジニアとして
 のキャリアの話など、技術縛りはなく、\n色んな業界
 ・サービス・技術の女子エンジニア同士で気軽に繋が
 りを持つために、dots.で女子部を作っていきたいと思
 います。\n\n今回はその第1回目。\n1人5分の持ち時間で
 、自己紹介のLT（ライトニングトーク）会をやります
 ！！\nLTや登壇は慣れていない、そもそもやったことが
 ない、でもやってみたい！という方々も交え、まずは
 自己紹介で練習してみよう！というライトな会です。\
 n\n懇親会は、女子に優しくCuteな軽食を準備したいと思
 います。\nぜひ一緒に楽しみましょう☆\n\n\n\n登壇者\n\
 n\n	株式会社クリーマ\n\n	結城 茉奈さん\n\n	\n	orange inc.\n
 \n	吉澤 和香奈さん\n\n	\n	ランサーズ株式会社\n\n	小林 
 紗綾さん\n\n	\n	シグマコンサルティング株式会社\n\n	矢
 後 比呂加さん\n\n	\n	株式会社NTTデータ\n\n	安東 沙織さ
 ん（jazug女子部部長）\n\n	\n	フリーランス\n\n	山内 洋子
 さん\n\n	\n	株式会社スタジオ・アルカナ\n\n	深澤 ひか
 りさん（@hico00）\n\n	\n	株式会社セガ・インタラクティ
 ブ\n\n	渡邊 結衣さん\n\n	\n	株式会社インテリジェンス
 （dots.）\n\n	矢野 桐子さん\n\n        \n        サイオステ
 クノロジー株式会社\n\n	貝野 友香さん\n\n\n\n\nタイムス
 ケジュール\n\n\n	\n\n	\n\n		\n\n			時間\n\n			講演内容\n\n		\n
 \n		\n\n			19:00 -\n\n			受付\n\n		\n\n		\n\n			19:30 - 20:30\n\n			\n	
 			LT\n\n				一人5分×10名を予定\n\n			\n\n		\n\n		\n\n			20:30 - 
 21:30\n\n			懇親会\n\n		\n\n	\n\n	\n\n	※プログラムの内容は
 予告なく変更となる場合がございますのでご了承くだ
 さい。\n\n\n\n参加対象\n\n\n女子エンジニア\n\n※年齢、
 技術、分野（フロント・ミドル・バック・アプリ、等
 ）は一切問いません。\n※男性はご遠慮いただきます
 。\n\n\n参加費\n\n1\,000円（税込）\n\n※懇親会費を含み
 ます。\n※当日、受付時にお支払いをお願い致します
 。\n※領収証を当日発行いたします。\n※特定商取引に
 関する法律による表示\n\nハッシュタグ\n#dotsgirls\n\n主
 催\ndots.運営事務局\n\n\n\n\n\n\n
LOCATION:TECH PLAY SHIBUYA 東京都渋谷区宇田川町20-17 NMF渋谷公
 園通りビル 8F
URL:https://techplay.jp/event/544728?utm_medium=referral&utm_source=ics&utm
 _campaign=ics
END:VEVENT
END:VCALENDAR
