BEGIN:VCALENDAR
VERSION:2.0
PRODID:-//https://techplay.jp//JP
CALSCALE:GREGORIAN
METHOD:PUBLISH
X-WR-CALDESC:7/4 (金) 19:00 - スパークプラグ x チーム 360 "Growt
 h with Passion" vol.7 - 起業家の思いが100人を熱狂させる夜
X-WR-CALNAME:7/4 (金) 19:00 - スパークプラグ x チーム 360 "Growt
 h with Passion" vol.7 - 起業家の思いが100人を熱狂させる夜
X-WR-TIMEZONE:Asia/Tokyo
BEGIN:VTIMEZONE
TZID:Asia/Tokyo
BEGIN:STANDARD
DTSTART:19700101T000000
TZOFFSETFROM:+0900
TZOFFSETTO:+0900
TZNAME:JST
END:STANDARD
END:VTIMEZONE
BEGIN:VEVENT
UID:55272@techplay.jp
SUMMARY:7/4 (金) 19:00 - スパークプラグ x チーム 360 "Growth wit
 h Passion" vol.7 - 起業家の思いが100人を熱狂させる夜
DTSTART;TZID=Asia/Tokyo:20140704T183000
DTEND;TZID=Asia/Tokyo:20140704T213000
DTSTAMP:20260420T005403Z
CREATED:20140531T193004Z
DESCRIPTION:イベント詳細はこちら\nhttps://techplay.jp/event/55272
 ?utm_medium=referral&utm_source=ics&utm_campaign=ics\n\n【7/4 (金) 19:0
 0 - 100人の観衆の心を震わせる、未来の起業家に出会う
 ピッチイベント「スパークプラグ」第７回！】\n　\n　
 　日時：2014年7月4日（金）19：00 (開場18：30) 〜 21：30\n
 　　場所：HUB Tokyoイベントスペース \n　　費用：前売
 りチケット（6/20（金）まで） / 1000円　\n　　　　　一
 般チケット（6/20（金）以降 / 1500円\n　　　　　当日参
 加 / 2000円\n　　内容：「チーム360」起業家 + HUB Tokyo コ
 ミュニティのメンバーによる発表\n　　\n社会に変革を
 創り出す起業家コミュニティHUB Tokyoは、2014年7月4日（
 金）19:00より、HUB Tokyoオリジナルのピッチイベント「
 スパークプラグ x チーム 360 ‘Growth with Passion’」を開
 催します。\n\n今回はHUB Tokyoの起業家プログラム「チー
 ム360」出身の起業家5名＋HUBコミュニティの起業家1名
 がピッチ。3ヶ月間のブートキャンプでその人が持つ「
 現状（Status Quo）を変革したい」という思いを深掘り、
 事業モデルをブラッシュアップ。ピッチの練習に費や
 す時間はのべ50時間以上！今回も、100人の観衆の心を
 震わせる「共感力」を持った未来の起業家が集まりま
 した。\n　\n　\n★気になるピッチャーは…？\n「現状
 の異常な就活を変えるシステム」「情報の信憑性と中
 立性の価値」「楽天じゃないEコマース市場づくり」…
 今回も、既存のシステムに問いを立て、事業化する、
 アイデアと思いを持った起業家がピッチします。彼ら
 の思いと、斬新なアイデアにぜひふれてみて下さい！\
 n　\n　\n\n　\n納富 順一（のうとみ じゅんいち）\n就活
 アウトロー採用 by NPO法人キャリア解放区\n「違和感と
 馬鹿らしさで就活をやめた若者のためのマイナーな就
 職サービス」\n\n今の就活は企業と学生の騙し合い。綺
 麗事しか書かれていない求人広告とそれを見て無理矢
 理捻り出した志望動機がぶつかり合う、究極の茶番劇
 。企業も若者もその違和感は感じている。でもやめら
 れない。勇気を出して、この茶番劇に参加することを
 拒否した企業と若者こそが成熟社会の勝者になれるは
 ず。成熟社会にふさわしい就職のカタチを提案します
 。\n　\n　\n\n　\n山田　竜也（やまだ　りゅうや）\nShop
 re（ショプレ） by　PowerVision\n「ECサイトを比較して欲
 しいものがぴったり見つかる。お買いもの検索エンジ
 ン」\n\n全国には、お取り寄せ食品から、ファッション
 、旅行サービス、インテリアまで、知る人ぞ知る名店
 がたくさんある。でも、僕たちはそれを知る方法がほ
 とんどないんじゃないのか。そんな疑問から生まれた
 サービスです。自分にピッタリのお店、モノを探して
 いる人と、情熱を持った小さなショップが繋がれば、
 お買い物も、ネットショップ運営ももっとワクワクす
 るはず。Shopreは、ネットショプの比較検索エンジンで
 、そんな世界の実現を目指します。\n　\n　\n\n　\n根本
 　裕士（ねもと　ゆうじ）\nNeutron　「意見の集約によ
 り中立的視点を提供する」\nメディアの報道や情報発
 信、ニュースサイトやBlog情報発信に、疑問を抱いたこ
 とはないでしょうか。「この人の言っていることは正
 しいのか？」「この報道って皆そう思っていることな
 の？」私も日々感じているこのような疑問を解消する
 ため、Neutronというサービスを考えました。Neutronを通
 じて多くの人の疑問を解消し、世の中には自分の知ら
 なかった視点がいくらでもあるのだと、気付くきっか
 けになって貰えればと考えています。\n　\n　\n\n　\n佐
 々木　豪（ささき　ごう）\nCoco Feed　「共感」でつな
 がる、うちわコミュニケーション\nSNSの一般化によっ
 て、そのネットワークは「ソーシャルメディア」と呼
 ばれるようになりました。そこでは、より多くの人が
 価値を感じる情報は、ユーザの共有行動により拡散し
 ますが、一方で、自分が興味を持った情報でも、みん
 なの価値観に合致しなければ共有行動を取りにくく、
 情報の伝搬が起こりません。これでは、価値のある情
 報であっても、それを本当に必要としている人に届け
 ることができません。Coco Feedは、自分が共有したい情
 報を、同じように価値を感じる人たちと共有するためS
 NSです。それは、価値ある情報を正しく流通させるプ
 ラットフォームとなるはずです。\n　\n　\n\n　　\n明石
 　岳人（あかし　がくと）\nYouTube公式チャンネル「Spot
 wright」\n現在、アメリカではYouTubeを舞台に地上波TVで
 は見ることの出来ない、若者にターゲットを絞った映
 像を製作・配信するビデオネットワークと言われる新
 しい形のメディア企業が注目を集めている。日本ではY
 ouTubeユーザーの半分以上がスマートフォンからのアク
 セスで、その多くが10代20代の若者だ。スポットライト
 はスマートフォンで見ることに特化した若者向けの映
 像を自社で製作し、YouTubeの公式チャンネルとして配信
 することで「スマートフォン時代の放送局」を目指す
 。\n　\n　\n\n　\n吉田　亮介（よしだ　りょうすけ）\n
 タガヤスチンタイ 「こだわりの住まいをつくれる賃貸
 の仲介・コーディネイトサービス」\n賃貸住宅は供給
 過多・飽和状態と言われている一方、「住みたい！」
 と思える住宅に滅多に出会えません。 それはこれまで
 賃貸住宅が住まい手の個別ニーズに応えず、新しさを
 価値にした画一的な住まいの作りっぱなし、改修しっ
 ぱなしに終始してきたからです。 僕らは、大家と住ま
 い手が住まいを継続的に“耕して”いける仕組みを提
 供し、より楽しく豊かで、時が経つほど魅力が高まる
 こだわりの賃貸住宅を日本中に増やしていきます。\n
 ＝＝＝＝＝＝＝＝＝＝＝＝＝＝＝＝＝＝＝＝＝＝＝＝\
 n　\n★HUB Tokyoとは？\nHUB Tokyoは、日本国内でのスター
 トアップ・カルチャーと起業家を支えるエコシステム
 （生態系）の形成を目指す、シェアオフィス・コミュ
 ニティ型のプラットフォームです。起業家へのコワー
 キングスペースの提供だけでなく、世界45箇所に拡大
 するHUBのグローバルネットワークを活かし、起業家に
 必要なスキルやマインドセット、マーケティングや資
 金調達ノウハウの提供を行います。様々な分野で活躍
 する起業家たちが集り、現在120名を超えるメンバーが
 コミュニティを形成します。\n\nHUB Tokyoにご関心のある
 方は、こちらから内見にご参加下さい。\n　\n　\n★「
 スパークプラグ」とは？\nスパークプラグは起業家達
 がもつひらめきやアイデア（スパーク）を、HUBに集ま
 る人々が持つ様々なリソースやネットワークに接続（
 プラグイン）する、HUB Tokyoオリジナルのピッチイベン
 トです。過去にピッチした起業家は30人以上、そこか
 ら多くの起業家が資金調達を達成するなど、目覚まし
 い成長を見せています。\n\n過去のスパークプラグの模
 様はこちらから！\n　2014年2月28日開催\n　2013年9月26日
 開催\n　過去のスパークプラグのピッチャー紹介記事
 （話題のあの人もスパークプラグでピッチ！）\n　日
 経新聞掲載記事「まるでライブ　起業イベントが映す
 若者の仕事観」　　\n　\n　\n★「チーム360」とは？\n
 今回のスパークプラグでは、HUB Tokyoが実施する起業家
 プログラム「チーム360」の卒業生がピッチ！チーム360
 は、「現状（Status Quo）を変革したい」という強い思い
 を持った起業家たちがチームを作り、互いのWhyの深掘
 り（なぜあなたがその事業をやるのか？）や、顧客同
 定のプロセスを徹底的に行う、アイデアを事業プラン
 昇華させるための3ヶ月のブートキャンプです。\n\nチ
 ーム360の詳細はこちらから！\n　過去のチーム360募集
 概要\n　経験者が語るHUB Tokyoの起業家プログラムの効
 能
LOCATION:HUB Tokyo 東京都目黒区目黒2-11-3印刷工場1F   2-11-3\, 
 Meguro\, Meguro-ku\, Tokyo\, Japan
URL:https://techplay.jp/event/55272?utm_medium=referral&utm_source=ics&utm_
 campaign=ics
END:VEVENT
END:VCALENDAR
