BEGIN:VCALENDAR
VERSION:2.0
PRODID:-//https://techplay.jp//JP
CALSCALE:GREGORIAN
METHOD:PUBLISH
X-WR-CALDESC:【東京】【聴講者募集】JJUG ナイト・セミナー
  「ビール片手にLT&納涼会」 8/10(月)開催
X-WR-CALNAME:【東京】【聴講者募集】JJUG ナイト・セミナー
  「ビール片手にLT&納涼会」 8/10(月)開催
X-WR-TIMEZONE:Asia/Tokyo
BEGIN:VTIMEZONE
TZID:Asia/Tokyo
BEGIN:STANDARD
DTSTART:19700101T000000
TZOFFSETFROM:+0900
TZOFFSETTO:+0900
TZNAME:JST
END:STANDARD
END:VTIMEZONE
BEGIN:VEVENT
UID:556710@techplay.jp
SUMMARY:【東京】【聴講者募集】JJUG ナイト・セミナー 「
 ビール片手にLT&納涼会」 8/10(月)開催
DTSTART;TZID=Asia/Tokyo:20150810T190000
DTEND;TZID=Asia/Tokyo:20150810T220000
DTSTAMP:20260422T022405Z
CREATED:20150710T050008Z
DESCRIPTION:イベント詳細はこちら\nhttps://techplay.jp/event/55671
 0?utm_medium=referral&utm_source=ics&utm_campaign=ics\n\nこちらはLT
 の聴講者募集です。登壇もされたい方は以下からお申
 込みください。\nhttp://jjug.doorkeeper.jp/events/28181\n\n8月のJ
 JUGナイトセミナーは例年通り「ビール片手にLT&納涼会
 」と表しましてLT大会を行いたいと考えております。\n
 いつもとは違って飲み食いしながらのLT大会です。み
 んなで楽しみましょう！\n※もちろんビール以外の飲
 み物もお出しします。\n\nアジェンダ\n\n\n\nスピーカー\
 nタイトル\n\n\n\nYuji Kubota\nJDK9\n\n\nMasatoshi Tada\n何故ただ
 の講師である僕がJava EEをやるようになったのか\n\n\nnek
 op\nOpenShiftのある生活\n\n\nKOMIYA Atsushi\n未定です。決定
 次第、ご連絡します\n\n\n小島直也\n元営業マンがJavaを
 読めるようになるまで\n\n\n山本裕介\nスレッドダンプ
 またはNashornまたはJavaFXのようなもの\n\n\nSuzukiTadashi\n聞
 こえないJavaエンジニアがお願いしたいこと\n\n\nsakamoto_
 desu\nAnt「ビルドできません」Travis「よし通れ」\n\n\nHide
 toshi Ochiai\n細かすぎて伝わらない、現場で起きた謎現
 象\n\n\nTakahiko Ito\nRedPen その後の進捗について\n\n\n田邊 
 義真\nWildFly Swarm の紹介\n\n\nDahlia\nJava使いがPHP使いにク
 ラスチェンジした話\n\n\nSatoshi Moriya\nwebエンジニアとweb
 ディレクターを兼任してわかった3つのこと\n\n\n宮川拓
 \njava.lang.invokeであそぼう！\n\n\n\n\n時間はひとりあたり
 5分程度を予定しています。\n詳しい時間は登壇者応募
 締め切り(8/7)後に決定します。\n\n\n順次掲載します。
 登壇もされたい方は以下からお申込みください。\nhttp:
 //jjug.doorkeeper.jp/events/28181
LOCATION:日本オラクル青山センター 東京都港区北青山2-5-8
URL:https://techplay.jp/event/556710?utm_medium=referral&utm_source=ics&utm
 _campaign=ics
END:VEVENT
END:VCALENDAR
