BEGIN:VCALENDAR
VERSION:2.0
PRODID:-//https://techplay.jp//JP
CALSCALE:GREGORIAN
METHOD:PUBLISH
X-WR-CALDESC:第1回Webスクレイピング勉強会@東京 （全3回）
X-WR-CALNAME:第1回Webスクレイピング勉強会@東京 （全3回）
X-WR-TIMEZONE:Asia/Tokyo
BEGIN:VTIMEZONE
TZID:Asia/Tokyo
BEGIN:STANDARD
DTSTART:19700101T000000
TZOFFSETFROM:+0900
TZOFFSETTO:+0900
TZNAME:JST
END:STANDARD
END:VTIMEZONE
BEGIN:VEVENT
UID:56628@techplay.jp
SUMMARY:第1回Webスクレイピング勉強会@東京 （全3回）
DTSTART;TZID=Asia/Tokyo:20140622T150000
DTEND;TZID=Asia/Tokyo:20140622T180000
DTSTAMP:20260420T080448Z
CREATED:20140607T190004Z
DESCRIPTION:イベント詳細はこちら\nhttps://techplay.jp/event/56628
 ?utm_medium=referral&utm_source=ics&utm_campaign=ics\n\nはじめに：
 　Webスクレイピングの勉強会を開催します。　昨今、
 オープンデータ運動の影響で、RDFデータで構成される"
 データのWeb"への注目が増しています。　"データのWeb"
 は、GOODデータの共有データストアです。　しかし、現
 実問題として、RDFデータ間の関係設計やインフラ整備
 を行う人材は多くなく、　データの質は確保できても
 量は確保できていません。　私達は、もう一つのWebの
 可能性に注目します。　もう一つのWeb、すなわちHTMLデ
 ータで構成される"ドキュメントのWeb"です。　"ドキュ
 メントのWeb"は、BADデータの共有データストアです。　
 そこから情報解析の為にデータ取得する事は、著作権
 法第47条の7で保護されています。　"データのWeb"と"ド
 キュメントのWeb"を一つのデータストアとして活用でき
 れば、それは理想的な未来です。　その理想的な未来
 にたどり着くための技術の走りが"Webスクレイピング"
 であると思います。　私達は、この技術を持つ人々がL
 inkする環境を提供し共に刺激し合う事で、この理想的
 な未来へ貢献します。　どうか私達と共に、この理想
 的な未来への助けとなって頂けないでしょうか。参加
 費：　無料。懇親会参加者の方は「1000円」(学生無料)
 のカンパを会場でお願いします。注意事項：　・Ustream
 中継はしません。　　（発表者の方に安心して発表し
 て貰う為の対応です。発表者の方でUstream中継希望者が
 多い場合は再考します）　・飲食物の持込は自由です
 。　　（空腹とのどの渇きは勉強会の敵です）タイム
 テーブル：　勉強会：　　#開幕　　15:00～15:10： 　　
 　「オープニング・セッション」（@nezuq）　　#発表　
 　15:10～15:30： 　　　「Webスクレイピングの基礎知識
 」（@nezuq）　　15:30～16:00：　　 　「オープンデータ
 のためのスクレイピング 〜抽出・共有・分析まで〜」
 （@ito_nao）　　16:10～16:50：　　 　「ScrapyとPhantomJSを用
 いたWebスクレイピングDSL」（@chirai）　　16:50～17:10：
 　　 　「シェルスクリプトでスクフェス(スクレイピ
 ングフェスティバル)」（@furandon_pig）　　※ご静聴は
 禁止です。発表中に分からない事があったらすぐに質
 問して下さい。　　#LT　　17:20～17:25：　　 　「渡る
 世間は自然言語処理ばかり」（@nezuq）　　17:25～17:30：
  　　　　「Rubyで始めるWebスクレイピング」（@dkfj）　
 　17:30～17:35：　　 　「CasperJSを使って任意のWebサイト
 をEPub電子書籍化する方法」（@chirai）　　#実験企画　
 　17:35～17:55：　　 　「お悩み会議室」　　　　　　
 ←Webスクレイピングのお悩み事をご紹介下さい。　　
 　　　　　 会場の方でお答えできる方がいましたら、
 ご回答をお願い致します。　　　　　　　　　※一部
 のお悩み事は次回の勉強会テーマとさせて頂き、回答
 者を募集します。　　#閉幕　　17:55～18:00：　　 　「
 次回勉強会のお知らせと発表者の募集」　懇親会：　
 　18:00～19:30：　　 　「別名、個別質問会」　　　　
 　　立食パーティーを行います。大いに語り合い、大
 いに盛り上がりましょう。　　　　　　ただ、次の日
 は平日なので、お酒は控えめにします。　　　　　　
 経験的に言うと、懇親会で得られる知識は貴重なもの
 が多いです。集合場所：　〒169-8333　東京都新宿区北
 新宿2-21-1　新宿フロントタワー 1F ナチュラルローソン
 前　　地図：https://www.nifty.co.jp/company/outline/access.htm集
 合時間：　下記の時間にスタッフが迎えに行きます。
 　  ・15分前 （14:45）　  ・10分前 （14:50）　  ・　5分
 前 （14:55）　　  ※時間厳守でお願いします。皆様の
 貴重な時間を無駄にする訳には参りません。　　　※
 スタッフ参加の方は、60分前（14:00）集合でお願いしま
 す。持ち物：　・名刺2枚（必須）　　　※ISMSと病気
 ・怪我による緊急対応の為、会場をご提供頂いた企業
 様へお渡しする必要があります。　・筆記用具（推奨
 ）　　　※Googleグループ非参加者の方はお悩み紹介で
 使います。　・延長ケーブル（推奨）　　　※Macユー
 ザーの場合はほぼ必須です。MACアダブターをコンセン
 トに差し込めません。勉強会「東京スクラッパー」に
 ついて：　勉強会名の「東京スクラッパー」は、　Toky
 oScraper（東京でスクレイピングする人）とTokyoScrapper（
 東京で戦う人）のダブルミーニングです。　Webスクレ
 イピングは決してキレイな作業ではありません。　む
 しろ、情報解析系の作業の中で最も泥臭い部類に入る
 と思います。　そんな作業に挑戦されている方々はま
 さしく"戦う人"であり、この名前がふさわしいと思い
 ました。　Googleグループを作りました。よろしければ
 ご参加をお願いします。    https://groups.google.com/forum/?hl=
 ja#!forum/tokyoscrapperその他、質問・相談・遅刻連絡等あ
 りましたら、@nezuqまでご連絡下さい。--追記（2014/6/22
 ）：会の内容をまとめて頂きました！第1回Webスクレイ
 ピング勉強会@東京 （全3回） - Qiita第1回Webスクレイピ
 ング勉強会@東京 #東京スクラッパー - Togetterまとめ--
LOCATION:ニフティ株式会社 セミナールーム  東京都新宿区
 北新宿2-21-1新宿フロントタワー
URL:https://techplay.jp/event/56628?utm_medium=referral&utm_source=ics&utm_
 campaign=ics
END:VEVENT
END:VCALENDAR
