BEGIN:VCALENDAR
VERSION:2.0
PRODID:-//https://techplay.jp//JP
CALSCALE:GREGORIAN
METHOD:PUBLISH
X-WR-CALDESC:第130回東京エリアDebian勉強会 with 第3回 Debianパ
 ッケージング道場、2015年9月勉強会
X-WR-CALNAME:第130回東京エリアDebian勉強会 with 第3回 Debianパ
 ッケージング道場、2015年9月勉強会
X-WR-TIMEZONE:Asia/Tokyo
BEGIN:VTIMEZONE
TZID:Asia/Tokyo
BEGIN:STANDARD
DTSTART:19700101T000000
TZOFFSETFROM:+0900
TZOFFSETTO:+0900
TZNAME:JST
END:STANDARD
END:VTIMEZONE
BEGIN:VEVENT
UID:568568@techplay.jp
SUMMARY:第130回東京エリアDebian勉強会 with 第3回 Debianパッ
 ケージング道場、2015年9月勉強会
DTSTART;TZID=Asia/Tokyo:20150912T100000
DTEND;TZID=Asia/Tokyo:20150912T180000
DTSTAMP:20260423T172150Z
CREATED:20150824T103316Z
DESCRIPTION:イベント詳細はこちら\nhttps://techplay.jp/event/56856
 8?utm_medium=referral&utm_source=ics&utm_campaign=ics\n\nイベント内
 容:\n\nDebian パッケージの作り方を教える道場です。 丸
 一日、Debian漬けでDebianパッケージを作ってみましょう
 。\n\nあのソフトウェアがDebianパッケージになっていな
 いので、パッケージにしてみたい。\n普段使っているDe
 bianパッケージに修正を加えて、利用したい。\nメンテ
 ナンスしているDebianパッケージを更新してみる。\nモ
 ダンなDebianパッケージの作成方法とか知りたい。\nな
 どなど\n\nDebian Developer と Debian Maintainer が パッケージ
 の作成をサポートします。\n\n当日の流れ（予定）:\n\n\
 n簡単な挨拶など。\n基本的なパッケージの作成方法を
 説明。\n最新のパッケージング事情の説明と使い方を
 説明。\nパッケージ作成作業開始参加者は何かパッケ
 ージにしたいものを持ってきて、それをパッケージ化
 する。\n参加者は弄りたいまたは修正したい既存のパ
 ッケージを見つけてくる。そしてそれをいじる。\n担
 当者のいないパッケージ、パッケージ化して欲しいソ
 フトウェア 一覧 (http://wnpp.debian.net/)から気になるソフ
 トウェアを探してみるのもいいでしょう。（要するに
 パッケージするテーマを持って参加してみましょうと
 いうことです。）\nわからないところがあったら、遠
 慮無く周りにいるDebian Developerを捕まえて聞いてくださ
 い。Debian Developer はメンターになってパッケージをDebia
 n パッケージリポジトリにインストールされるで面倒
 をみる。 （このへんが道場っぽいはず。）\nできれば
 参加者はGPGキーサインをする。GPG鍵、公的な身分証明
 書(運転免許証、パスポートなど)を持ってきてくださ
 い。\n\n作業内容発表\n\n	できたパッケージ、作業内容
 、今後の課題などを発表。\n\nその他Debianのバグ修正を
 したい人やもくもくと開発したい人も歓迎します。 \n\
 n道場参加する前に準備しておくこと:\n\n\nパソコンを
 使うので、各自パソコンを持ってきてください。\n\n   
             テーブルタップが足りない可能性があります
 ので、持ってきていただけると助かります。\n\n使うパ
 ソコンで無線LAN、有線LAN が動作する環境を整えてくだ
 さい。\n\n               有線LAN をお使いの方はケーブル
 を持ってきてください。\n\n使うパソコンで Debian / unsta
 ble が動作する環境を整えてください。 \n\n               Q
 emu\,VirtualBoxなどの仮想環境で大丈夫です。\n\nDebian / uns
 table に 最低限のビルド環境を構築してください。 \n\n 
                sudo apt-get install packaging-dev\n\nパッケージに
 したいソフトウェアを見つけておいてください。\n\n   
              主催者側ではパッケージング方法について教
 えることはできますが、ネタは提供できません。\n     
            ご相談に乗ることはできますので遠慮なく言
 ってください。\n\n先に読んでおいた方良いドキュメン
 ト等:\n\nThe Debian Administrator's Handbook の日本語翻訳 [git]\n
 Debian 新メンテナーガイド (http://www.debian.org/doc/manuals/mai
 nt-guide/)\nDebian 開発者リファレンス(http://www.debian.org/doc/
 manuals/developers-reference/)\n\nその他:\n\n参加費は勉強会代
 資料に使います。\n
LOCATION:TECH PLAY SHIBUYA 東京都渋谷区宇田川町20-17 NMF渋谷公
 園通りビル 8F
URL:https://techplay.jp/event/568568?utm_medium=referral&utm_source=ics&utm
 _campaign=ics
END:VEVENT
END:VCALENDAR
