BEGIN:VCALENDAR
VERSION:2.0
PRODID:-//https://techplay.jp//JP
CALSCALE:GREGORIAN
METHOD:PUBLISH
X-WR-CALDESC:東京エリアDebian勉強会（2015/12/19(土))
X-WR-CALNAME:東京エリアDebian勉強会（2015/12/19(土))
X-WR-TIMEZONE:Asia/Tokyo
BEGIN:VTIMEZONE
TZID:Asia/Tokyo
BEGIN:STANDARD
DTSTART:19700101T000000
TZOFFSETFROM:+0900
TZOFFSETTO:+0900
TZNAME:JST
END:STANDARD
END:VTIMEZONE
BEGIN:VEVENT
UID:571063@techplay.jp
SUMMARY:東京エリアDebian勉強会（2015/12/19(土))
DTSTART;TZID=Asia/Tokyo:20151219T140000
DTEND;TZID=Asia/Tokyo:20151219T190000
DTSTAMP:20260423T132025Z
CREATED:20150927T093424Z
DESCRIPTION:イベント詳細はこちら\nhttps://techplay.jp/event/57106
 3?utm_medium=referral&utm_source=ics&utm_campaign=ics\n\nDebianとはDebi
 an (デビアン) は、あなたのコンピュータのための、自
 由に利用・変更・配布可能な、日本国内でも多彩な形
 で利用されているオペレーティングシステム (OS) です
 。詳しくは: http://www.debian.or.jp/using/index.html本勉強会東
 京エリア Debian 勉強会とは、Debian Project に関わる事を
 目的とする熱いユーザたちと、実際にDebian Projectにて
 すでに日夜活動している人らが Face to Face で Debian GNU/Li
 nux のさまざまなトピック (パッケー ジ、Debian特有 の
 機能の仕組について、Debian 界隈で起こった出来事、 et
 c ) について語り合う場です。Debian Project に何らかの貢
 献をしたいという目的を持つ方であれば、自身で活動
 できるように手助けをする事 も主な趣旨の一つとして
 います。当日のセミナ1.「 Debian おすすめのパッケージ
 を参加者に聞いてみた  」（ 司会：野島 さん、参加者
 全員）前回(第 133 回）東京エリア Debian 勉強会にて、De
 bian を使っている人が、各自おすすめするパッケージ
 を語ってもらうのはどうだろう？という企画が持ち上
 がりました。今回、参加される方に事前アンケートを
 取る形で、おすすめのパッケージを書いていただきま
 すので、当日おすすめについて軽く語っていただきま
 す。2.「 Debian モバイル wifi ルータ化  」（ 野島 さん 
 ）Debian をインストールした PC をモバイル無線 AP にし
 てみることについて語ります。また、無線 AP に必要な
 プログラムがどのような動きをしているか？について
 も語ります。当日のスケジュール14:00-14:15集合と設営(*
 1)14:15-14:50事前課題発表(*2)15:00-15:40Debian おすすめのパ
 ッケージを参加者に聞いてみた 15:50-16:50Debian モバイル
  wifi ルータ化16:50-18:25Hack time (*3)18:25-18:45成果発表18:45-1
 9:00片付け19:00解散〜有志で懇親会へ。*1. 集合後、会場
 の設営をします。  *2. 簡単な自己紹介と今日の作業内
 容を簡単に説明いただきます。*3 各人の作業時間です
 。いわゆるもくもく会となります。料金500円/1名※勉
 強会運営の諸経費として利用します。その他参加いた
 だくにあたり、dotsにユーザ登録が必要となり、当日受
 付番号を入り口受付で見せ、イベント参加であること
 を伝える必要があります。ご協力をお願いします。事
 前配布資料を印刷して用意しますので、なるだけ前日
 （12/18 23:59)までには参加登録をお願いします。当日登
 録された方には、登録時刻によっては印刷した資料が
 無い事があり得ますのでご注意ください。会場にて無
 線LANが利用できます。hack time 中は Debian に関連した作
 業であれば何をしていただいても OK です（例：書籍・
 ドキュメント読みもOK。）しかしながら勉強会の趣旨
 から Debian に全く無関係な作業はご遠慮ください。ま
 た、 hack time で利用する機材（ノートPC、書籍など）の
 貸出はできませんので、各自ご用意頂いて会場に入り
 をお願いします。登録の際、質問事項に回答願います
 。なお、こちらの内容は勉強会中に各自で発表いただ
 きます。また、勉強会資料として公開されますので、
 公開にあたり問題の無い内容にしてください。当日緊
 急で連絡を取りたい場合は野島のTwitter(@nozzy123nozzy)宛
 にご連絡ください。twitterのハッシュタグは#tokyodebianで
 す。参考：過去の勉強会一覧 & PDF 化された資料など東
 京エリア Debian 勉強会ページ http://tokyodebian.alioth.debian.o
 rg/
LOCATION:TECH PLAY SHIBUYA 東京都渋谷区宇田川町20-17 NMF渋谷公
 園通りビル 8F
URL:https://techplay.jp/event/571063?utm_medium=referral&utm_source=ics&utm
 _campaign=ics
END:VEVENT
END:VCALENDAR
