BEGIN:VCALENDAR
VERSION:2.0
PRODID:-//https://techplay.jp//JP
CALSCALE:GREGORIAN
METHOD:PUBLISH
X-WR-CALDESC:【 iOS 9 週連続 Bootcamp 7週目】Scala、Haskell、Objec
 tive-CとSwiftの比較！
X-WR-CALNAME:【 iOS 9 週連続 Bootcamp 7週目】Scala、Haskell、Objec
 tive-CとSwiftの比較！
X-WR-TIMEZONE:Asia/Tokyo
BEGIN:VTIMEZONE
TZID:Asia/Tokyo
BEGIN:STANDARD
DTSTART:19700101T000000
TZOFFSETFROM:+0900
TZOFFSETTO:+0900
TZNAME:JST
END:STANDARD
END:VTIMEZONE
BEGIN:VEVENT
UID:573157@techplay.jp
SUMMARY:【 iOS 9 週連続 Bootcamp 7週目】Scala、Haskell、Objective-
 CとSwiftの比較！
DTSTART;TZID=Asia/Tokyo:20151111T190000
DTEND;TZID=Asia/Tokyo:20151111T213000
DTSTAMP:20260420T122621Z
CREATED:20151021T053407Z
DESCRIPTION:イベント詳細はこちら\nhttps://techplay.jp/event/57315
 7?utm_medium=referral&utm_source=ics&utm_campaign=ics\n\n    iOS 9 週連
 続 Bootcampとは    9/17日にリリースされたiOS 9やその周辺
 の技術について学ぶことができる勉強会になります。 
        9日間全18コマ開催されますので、幅広いテーマで
 学ぶことができ、以下のテーマを想定しております！ 
    iOS 9            概要（概要編＆実践編）        強化され
 たサウンド機能（Audio Unit Extensionsなど）        強化さ
 れたCore Image機能        強化されたMapKit        強化され
 たUIKit（UIStackViewなど）        新機能「Search APIs」につ
 いて        新機能 「Multitasking for iPad」について        Sw
 ift            Playground        Test        デザイン            UI
 変更点        3DTouch        Xcode 7    tvOS    WatchKit              
       ※テーマについては、変更される可能性がありま
 す                各テーマについては、1コマ40分あります
 ので、各テーマごとに深く学ぶことができます！       
  不明な点などは勉強会後のQ&Aタイムで質問していただ
 ければ、更に深く学ぶことができます。                   
      クラスメソッドメンバー以外に、各企業などで活
 躍されている外部のiOSエンジニアの方々にもゲスト登
 壇者として協力を頂いております。        今回ご協力
 頂く方々はこの方々です。            岸川 克己さん@Realm
         堤 修一さん@フリーランス        酒多 優太さん@Re
 tty株式会社        北 裕介さん@株式会社メルカリ        
 三木 康暉さん@クックパッド株式会社        熊谷 友宏
 さん@EZ-NET        佐野 岳人さん@ヤフー株式会社        安
 達 彰典さん@株式会社Gunosy        三橋 正典さん@グッド
 パッチ株式会社                        タイムテーブル       
                                  時間                タイトル      
           内容                スピーカー                          
                               19:00 - 19:30                開場        
         受付                -                                        19
 :30 - 19:40                 挨拶                乾杯＆会場の説
 明など                大橋 力丈@クラスメソッド             
                            19:40 - 20:20                Swift2.xをScala
 から見るScalaを普段書いているエンジニアが見たSwift2.x
 の新API、新機能について対比をまじえながら説明して
 いきます。共変・反変などの概念、遅延評価コレクシ
 ョンクラス等の関数型に特化したトピックをお伝えで
 きればと思います。安達勇一@クラスメソッド            
                             20:20 - 20:25                休憩          
       休憩タイム                                                    
     20:25 - 21:05                objc2swift 〜 機械がやればいい
 こととエンジニアが学ぶべきこと                Objective-C 
 を Swift に書き換える上では、コードに書き換えるだけ
 の単純作業と、Objective-C になかったパラダイムを取り
 入れて「Swift風」に作り直す作業があります。 前者は
 オープンソースとして公開した「objc2swift」で自動変換
 しちゃいましょう。後者については「Swift とはどんな
 言語か」を Objective-C ／ Haskell と比較しながら考察し、
 読みやすく書きやすい Swift コードの書き方を提案しま
 す。佐野岳人@ヤフー                                        21:05
  - 21:30                懇親＆質問タイム                登壇者
 への質問タイムを行いながら残り時間懇親して下さい 
                皆さん                                            参
 加費について    無料です。    飲み物についてアルコ
 ールに関しては、キャッシュオンでの販売を予定して
 います。ビール：200円サワー系：100円ソフトドリンク
 については、dots.の自販機で購入して下さい。           
  未成年者飲酒は法律で禁じられています。また、楽し
 い時間を過ごせるよう飲酒の量について当日の体調を
 鑑み、無理のないようご自身でしっかり管理いただく
 ようお願いいたします。    途中入場について    開始
 時間を過ぎても途中入場可能です。                    キ
 ャンセルについて    当日キャンセルの場合はdots.から
 イベントのキャンセルを行ってください。        イベ
 ントの配信はありませんので、できるだけご参加くだ
 さい。                    当日参加について    当日参加の
 場合は名刺1枚、またはお名前・連絡先を当日参加用紙
 にご記入いただきます。                    その他    本勉
 強会の内容は調整中です。        事前に連絡なく変更
 される場合がございますが、何卒、ご了承のほどよろ
 しくお願いします。                
LOCATION:TECH PLAY SHIBUYA 東京都渋谷区宇田川町20-17 NMF渋谷公
 園通りビル 8F
URL:https://techplay.jp/event/573157?utm_medium=referral&utm_source=ics&utm
 _campaign=ics
END:VEVENT
END:VCALENDAR
