BEGIN:VCALENDAR
VERSION:2.0
PRODID:-//https://techplay.jp//JP
CALSCALE:GREGORIAN
METHOD:PUBLISH
X-WR-CALDESC:ホスティッド・プライベート・クラウド勉強
 会　～ Windows Azure Pack on IBM SoftLayer ～
X-WR-CALNAME:ホスティッド・プライベート・クラウド勉強
 会　～ Windows Azure Pack on IBM SoftLayer ～
X-WR-TIMEZONE:Asia/Tokyo
BEGIN:VTIMEZONE
TZID:Asia/Tokyo
BEGIN:STANDARD
DTSTART:19700101T000000
TZOFFSETFROM:+0900
TZOFFSETTO:+0900
TZNAME:JST
END:STANDARD
END:VTIMEZONE
BEGIN:VEVENT
UID:575048@techplay.jp
SUMMARY:ホスティッド・プライベート・クラウド勉強会　
 ～ Windows Azure Pack on IBM SoftLayer ～
DTSTART;TZID=Asia/Tokyo:20151217T183000
DTEND;TZID=Asia/Tokyo:20151217T213000
DTSTAMP:20260424T234923Z
CREATED:20151116T024941Z
DESCRIPTION:イベント詳細はこちら\nhttps://techplay.jp/event/57504
 8?utm_medium=referral&utm_source=ics&utm_campaign=ics\n\n\n\n＜概要＞
 パブリックなクラウドでし烈な争いを続ける両社。し
 かし、SoftLayer のベアメタルサービス、Microsoft のプラ
 イベートクラウドツール Azure Pack のように、お互い、
 手が出せない領域のソリューションを持っているのも
 事実です。ならば、一緒に何かできないだろうか？こ
 の組み合わせが実現すれば、お客様にとっての価値を
 生み出せる可能性もあるのではないだろうか？と考え
 るのもサービス志向というもの。そこで今回、セミナ
 ーを開催することになりました。SoftLayer のベアメタル
 サービスに興味がある方、Azureそっくりなプライベー
 トクラウドAzure Packに興味がある方、両社のそのほかの
 サービスにも興味がある方はぜひご参加ください。\n
 ＜アジェンダ＞\n\n18:30 -        受付開始\n\n19:00 -\n20:30 
 セッション\n\n              5分 挨拶\n\n                         
    スピーカー \n一般社団法人クラウド利用促進機構(CUP
 A) 荒井康宏\n\n              40分 SoftLayerの紹介と環境構築 
 ～ ベアメタルサーバー、Hyper-V、ネットワーク環境 ～\
 n\n                            スピーカー: 日本アイ・ビー・
 エム株式会社 北瀬公彦\n\n              40分 Azureそっくり
 なプライベートクラウド紹介と環境構築 ～ System Center
 、Azure Pack ～\n\n                            スピーカー: 日本
 マイクロソフト株式会社 高添修\n\n              10分 Azure 
 Packでプライベート・クラウドを構築する際のポイント
 \n\n                            スピーカー: クリエーションラ
 イン株式会社 シニアエンジニア 池田卓司\n\n20:40 -\n21:3
 0 懇親会\n\n主催：オープンクラウドキャンパス、一般
 社団法人クラウド利用促進機構(CUPA)参加：無料（懇親
 会参加の方は500円）\n\n 
LOCATION:TECH PLAY SHIBUYA 東京都渋谷区宇田川町20-17 NMF渋谷公
 園通りビル 8F
URL:https://techplay.jp/event/575048?utm_medium=referral&utm_source=ics&utm
 _campaign=ics
END:VEVENT
END:VCALENDAR
